Workbook

Sheet личный зачет1 этап
A1: ПРОТОКОЛ РЕЗУЛЬТАТОВ
A2: турнир Казущик KempingBy Cup
A3: по спортивному лову рыбы спиннингом с лодок
A4: 27-28 августа вдхр Вилейское
A6: N п/п | B6: Ф.И.О. рыболова-спортсмена | C6: Общая Длина, см | D6: Место
A8: 21 | B8: Бычок Александр (к) Холодинский Сергей | C8: ='1-й тур'!C84+'2-й тур'!C84 -> 647.5 | D8: 1
A11: 22 | B11: Гришкевич Александр (к) Чикита Илья | C11: ='1-й тур'!F84+'2-й тур'!F84 -> 352 | D11: 2
A14: 1 | B14: Шарабайко Андрей (к) Аноп Андрей | C14: ='1-й тур'!C18+'2-й тур'!C18 -> 327 | D14: 3
A17: 13 | B17: Кужовник Сергей (к) Ковалёв Николай | C17: ='1-й тур'!R38+'2-й тур'!R38 -> 326.5 | D17: 4
A20: 19 | B20: Мельников Владимир (к) Силицкий Александр | C20: ='1-й тур'!R61+'2-й тур'!R61 -> 323 | D20: 5
A23: 5 | B23: Довгель Сергей (к) Барковский Сергей | C23: ='1-й тур'!O18+'2-й тур'!O18 -> 304.5 | D23: 6
A26: 12 | B26: Плявго Евгений (к) Коледа Александр | C26: ='1-й тур'!O38+'2-й тур'!O38 -> 293 | D26: 7
A29: 20 | B29: Чопко Дмитрий (к) Чопко Артур | C29: ='1-й тур'!O61+'2-й тур'!O61 -> 252 | D29: 8
A32: 7 | B32: Ореховский Максим (к) Ореховская Анастасия | C32: ='1-й тур'!R18+'2-й тур'!R18 -> 237.5 | D32: 9
A35: 2 | B35: Крупеньков Сергей (к) Рулинский Александр | C35: ='1-й тур'!F18+'2-й тур'!F18 -> 169.5 | D35: 10
A38: 11 | B38: Шейнин Андрей (к) Гапеев Игорь | C38: ='1-й тур'!L38+'2-й тур'!L38 -> 145.5 | D38: 11
A41: 3 | B41: Кевра Дмитрий (к) Годун Владислав | C41: ='1-й тур'!I18+'2-й тур'!I18 -> 110 | D41: 12
A44: 4 | B44: Лютик Игорь (к) Русанов Сергей | C44: ='1-й тур'!L18+'2-й тур'!L18 -> 51.5 | D44: 13
A47: 17 | B47: Ребковец Андрей (к) Филатов Сергей | C47: ='1-й тур'!I61+'2-й тур'!I61 -> 30 | D47: 14
A50: 9 | B50: Чернухо Михаил (к) Чехлов Юрий | C50: ='1-й тур'!F38+'2-й тур'!F38 -> 0 | D50: 15
A53: 10 | B53: Менделев Александр (к) Менделева Анна | C53: ='1-й тур'!I38+'2-й тур'!I38 -> 0 | D53: 15
A56: 14 | B56: Шабловский Дмитрий (к) Молош Александр | C56: ='1-й тур'!U38+'2-й тур'!U38 -> 0 | D56: 15
A59: 16 | B59: Юцевич Моисей (к) Казинец Павел | C59: технические проблемы | D59: 15
A62: 6 | B62: Можжерин Антон (к) Лихачев Максим | C62: технические проблемы | D62: 15
A65: 18 | B65: Мальцев Максим (к) Мальцев Артур | C65: технические проблемы | D65: 15

Sheet 1-й тур
A1: Шарабайко Аноп | D1: Крупеньков Рулинский | G1: Кевра Годун | J1: Лютик Русанов | M1: Довгель Барсковский | P1: Ореховский Ореховская | S1: Можжерин Лихачев
A2: Вид | B2: Длина, см | C2: Баллы | D2: Вид | E2: Длина, см | F2: Баллы | G2: Вид | H2: Длина, см | I2: Баллы | J2: Вид | K2: Длина, см | L2: Баллы | M2: Вид | N2: Длина, см | O2: Баллы | P2: Вид | Q2: Длина, см | R2: Баллы | S2: Вид | T2: Длина, см | U2: Баллы
A3: окунь | C3: =B3*B3 -> 0 | D3: окунь | G3: окунь | J3: окунь | L3: =K3*K3 -> 0 | M3: окунь | P3: окунь | S3: окунь | U3: =T3*T3 -> 0
A4: окунь | C4: =B4*B4 -> 0 | D4: окунь | G4: окунь | J4: окунь | L4: =K4*K4 -> 0 | M4: окунь | O4: =N4*N4 -> 0 | P4: окунь | S4: окунь | U4: =T4*T4 -> 0
A5: окунь | C5: =B5*B5 -> 0 | D5: окунь | G5: окунь | J5: окунь | L5: =K5*K5 -> 0 | M5: окунь | O5: =N5*N5 -> 0 | P5: окунь | S5: окунь | U5: =T5*T5 -> 0
A6: щука | C6: =B6*B6 -> 0 | D6: щука | G6: щука | H6: 52.5 | J6: щука | L6: =K6*K6 -> 0 | M6: щука | N6: 64 | O6: =N6*N6 -> 4096 | P6: щука | Q6: 53 | S6: щука | U6: =T6*T6 -> 0
A7: щука | C7: =B7*B7 -> 0 | D7: щука | G7: щука | H7: 57.5 | J7: щука | L7: =K7*K7 -> 0 | M7: щука | N7: 53 | O7: =N7*N7 -> 2809 | P7: щука | Q7: 58 | S7: щука | U7: =T7*T7 -> 0
A8: щука | C8: =B8*B8 -> 0 | D8: щука | G8: щука | J8: щука | L8: =K8*K8 -> 0 | M8: щука | N8: 61 | O8: =N8*N8 -> 3721 | P8: щука | S8: щука | U8: =T8*T8 -> 0
A9: судак | B9: 59 | C9: =B9*B9 -> 3481 | D9: судак | E9: 56.5 | G9: судак | J9: судак | L9: =K9*K9 -> 0 | M9: судак | O9: =N9*N9 -> 0 | P9: судак | Q9: 55 | S9: судак | U9: =T9*T9 -> 0
A10: судак | B10: 61 | C10: =B10*B10 -> 3721 | D10: судак | G10: судак | J10: судак | K10: 51.5 | L10: =K10*K10 -> 2652.25 | M10: судак | O10: =N10*N10 -> 0 | P10: судак | Q10: 71.5 | S10: судак | U10: =T10*T10 -> 0
A11: судак | C11: =B11*B11 -> 0 | D11: судак | G11: судак | J11: судак | L11: =K11*K11 -> 0 | M11: судак | O11: =N11*N11 -> 0 | P11: судак | S11: судак | U11: =T11*T11 -> 0
C12: =B12*B12 -> 0 | F12: =E12*E12 -> 0 | L12: =K12*K12 -> 0 | O12: =N12*N12 -> 0 | U12: =T12*T12 -> 0
C13: =B13*B13 -> 0 | F13: =E13*E13 -> 0 | L13: =K13*K13 -> 0 | O13: =N13*N13 -> 0 | R13: =Q13*Q13 -> 0 | U13: =T13*T13 -> 0
C14: =B14*B14 -> 0 | F14: =E14*E14 -> 0 | L14: =K14*K14 -> 0 | O14: =N14*N14 -> 0 | R14: =Q14*Q14 -> 0 | U14: =T14*T14 -> 0
C15: =B15*B15 -> 0 | F15: =E15*E15 -> 0 | L15: =K15*K15 -> 0 | O15: =N15*N15 -> 0 | R15: =Q15*Q15 -> 0 | U15: =T15*T15 -> 0
C16: =B16*B16 -> 0 | F16: =E16*E16 -> 0 | L16: =K16*K16 -> 0 | O16: =N16*N16 -> 0 | R16: =Q16*Q16 -> 0 | U16: =T16*T16 -> 0
C17: =B17*B17 -> 0 | F17: =E17*E17 -> 0 | I17: =H17*H17 -> 0 | L17: =K17*K17 -> 0 | O17: =N17*N17 -> 0 | R17: =Q17*Q17 -> 0 | U17: =T17*T17 -> 0
C18: =SUM(B3:B17) -> 120 | F18: =SUM(E3:E17) -> 56.5 | I18: =SUM(H3:H17) -> 110 | L18: =SUM(K3:K17) -> 51.5 | O18: =SUM(N3:N17) -> 178 | R18: =SUM(Q3:Q17) -> 237.5 | U18: =SUM(T3:T17) -> 0
A21: Пилюга Присада | D21: Чернухо Чехлов | G21: Менделев Менделева | J21: Шейнин Гапеев | M21: Плявго Коледа | P21: Кужовник Ковалев | S21: Шабловский Молош
A22: Вид | B22: Длина, см | C22: Баллы | D22: Вид | E22: Длина, см | F22: Баллы | G22: Вид | H22: Длина, см | I22: Баллы | J22: Вид | K22: Длина, см | L22: Баллы | M22: Вид | N22: Длина, см | O22: Баллы | P22: Вид | Q22: Длина, см | R22: Баллы | S22: Вид | T22: Длина, см | U22: Баллы
A23: окунь | C23: =B23*B23 -> 0 | D23: окунь | F23: =E23*E23 -> 0 | G23: окунь | I23: =H23*H23 -> 0 | J23: окунь | L23: =K23*K23 -> 0 | M23: окунь | N23: 28.5 | O23: =N23*N23 -> 812.25 | P23: окунь | R23: =Q23*Q23 -> 0 | S23: окунь | U23: =T23*T23 -> 0
A24: окунь | C24: =B24*B24 -> 0 | D24: окунь | F24: =E24*E24 -> 0 | G24: окунь | I24: =H24*H24 -> 0 | J24: окунь | L24: =K24*K24 -> 0 | M24: окунь | O24: =N24*N24 -> 0 | P24: окунь | R24: =Q24*Q24 -> 0 | S24: окунь | U24: =T24*T24 -> 0
A25: окунь | C25: =B25*B25 -> 0 | D25: окунь | F25: =E25*E25 -> 0 | G25: окунь | I25: =H25*H25 -> 0 | J25: окунь | L25: =K25*K25 -> 0 | M25: окунь | O25: =N25*N25 -> 0 | P25: окунь | R25: =Q25*Q25 -> 0 | S25: окунь | U25: =T25*T25 -> 0
A26: щука | C26: =B26*B26 -> 0 | D26: щука | F26: =E26*E26 -> 0 | G26: щука | I26: =H26*H26 -> 0 | J26: щука | L26: =K26*K26 -> 0 | M26: щука | N26: 62 | O26: =N26*N26 -> 3844 | P26: щука | R26: =Q26*Q26 -> 0 | S26: щука | U26: =T26*T26 -> 0
A27: щука | C27: =B27*B27 -> 0 | D27: щука | F27: =E27*E27 -> 0 | G27: щука | I27: =H27*H27 -> 0 | J27: щука | L27: =K27*K27 -> 0 | M27: щука | O27: =N27*N27 -> 0 | P27: щука | R27: =Q27*Q27 -> 0 | S27: щука | U27: =T27*T27 -> 0
A28: щука | C28: =B28*B28 -> 0 | D28: щука | F28: =E28*E28 -> 0 | G28: щука | I28: =H28*H28 -> 0 | J28: щука | L28: =K28*K28 -> 0 | M28: щука | O28: =N28*N28 -> 0 | P28: щука | R28: =Q28*Q28 -> 0 | S28: щука | U28: =T28*T28 -> 0
A29: судак | C29: =B29*B29 -> 0 | D29: судак | F29: =E29*E29 -> 0 | G29: судак | I29: =H29*H29 -> 0 | J29: судак | K29: 92 | L29: =K29*K29 -> 8464 | M29: судак | O29: =N29*N29 -> 0 | P29: судак | Q29: 72 | R29: =Q29*Q29 -> 5184 | S29: судак | U29: =T29*T29 -> 0
A30: судак | C30: =B30*B30 -> 0 | D30: судак | F30: =E30*E30 -> 0 | G30: судак | I30: =H30*H30 -> 0 | J30: судак | L30: =K30*K30 -> 0 | M30: судак | O30: =N30*N30 -> 0 | P30: судак | Q30: 47 | R30: =Q30*Q30 -> 2209 | S30: судак | U30: =T30*T30 -> 0
A31: судак | C31: =B31*B31 -> 0 | D31: судак | F31: =E31*E31 -> 0 | G31: судак | I31: =H31*H31 -> 0 | J31: судак | L31: =K31*K31 -> 0 | M31: судак | O31: =N31*N31 -> 0 | P31: судак | Q31: 73 | R31: =Q31*Q31 -> 5329 | S31: судак | U31: =T31*T31 -> 0
F32: =E32*E32 -> 0 | I32: =H32*H32 -> 0 | L32: =K32*K32 -> 0 | O32: =N32*N32 -> 0 | R32: =Q32*Q32 -> 0 | U32: =T32*T32 -> 0
C33: =B33*B33 -> 0 | F33: =E33*E33 -> 0 | I33: =H33*H33 -> 0 | L33: =K33*K33 -> 0 | O33: =N33*N33 -> 0 | R33: =Q33*Q33 -> 0 | U33: =T33*T33 -> 0
C34: =B34*B34 -> 0 | F34: =E34*E34 -> 0 | I34: =H34*H34 -> 0 | L34: =K34*K34 -> 0 | O34: =N34*N34 -> 0 | R34: =Q34*Q34 -> 0 | U34: =T34*T34 -> 0
C35: =B35*B35 -> 0 | F35: =E35*E35 -> 0 | I35: =H35*H35 -> 0 | L35: =K35*K35 -> 0 | O35: =N35*N35 -> 0 | R35: =Q35*Q35 -> 0 | U35: =T35*T35 -> 0
C36: =B36*B36 -> 0 | F36: =E36*E36 -> 0 | I36: =H36*H36 -> 0 | L36: =K36*K36 -> 0 | O36: =N36*N36 -> 0 | R36: =Q36*Q36 -> 0 | U36: =T36*T36 -> 0
C37: =B37*B37 -> 0 | F37: =E37*E37 -> 0 | I37: =H37*H37 -> 0 | L37: =K37*K37 -> 0 | O37: =N37*N37 -> 0 | R37: =Q37*Q37 -> 0 | U37: =T37*T37 -> 0
C38: =SUM(B23:B37) -> 0 | F38: =SUM(E23:E37) -> 0 | I38: =SUM(H23:H37) -> 0 | L38: =SUM(K23:K37) -> 92 | O38: =SUM(N23:N37) -> 90.5 | R38: =SUM(Q23:Q37) -> 192 | U38: =SUM(T23:T37) -> 0
A41: Орлович Плявго | D41: Юцевич Казинец | G41: Ребковец Филатов | J41: Мальцев Мальцев | M41: Чопко Чопко | P41: Мельников Силицкий
A42: Вид | B42: Длина, см | C42: Баллы | D42: Вид | E42: Длина, см | F42: Баллы | G42: Вид | H42: Длина, см | I42: Баллы | J42: Вид | K42: Длина, см | L42: Баллы | M42: Вид | N42: Длина, см | O42: Баллы | P42: Вид | Q42: Длина, см | R42: Баллы | S42: Вид | T42: Длина, см | U42: Баллы
A43: окунь | C43: =B43*B43 -> 0 | D43: окунь | G43: окунь | H43: 30 | I43: =H43 -> 30 | J43: окунь | M43: окунь | P43: окунь | R43: =Q43*Q43 -> 0 | U43: =T43*T43 -> 0
A44: окунь | D44: окунь | G44: окунь | I44: =H44 -> 0 | J44: окунь | M44: окунь | P44: окунь | R44: =Q44*Q44 -> 0 | U44: =T44*T44 -> 0
...

Sheet 2-й тур
A1: Шарабайко Аноп | D1: Крупеньков Рулинский | G1: Кевра Годун | J1: Лютик Русанов | M1: Довгель Барсковский | P1: Ореховский Ореховская | S1: Можжерин Лихачев
A2: Вид | B2: Длина, см | C2: Баллы | D2: Вид | E2: Длина, см | F2: Баллы | G2: Вид | H2: Длина, см | I2: Баллы | J2: Вид | K2: Длина, см | L2: Баллы | M2: Вид | N2: Длина, см | O2: Баллы | P2: Вид | Q2: Длина, см | R2: Баллы | S2: Вид | T2: Длина, см | U2: Баллы
A3: окунь | C3: =B3*B3 -> 0 | D3: окунь | G3: окунь | J3: окунь | L3: =K3*K3 -> 0 | M3: окунь | P3: окунь | S3: окунь | U3: =T3*T3 -> 0
A4: окунь | C4: =B4*B4 -> 0 | D4: окунь | G4: окунь | J4: окунь | L4: =K4*K4 -> 0 | M4: окунь | O4: =N4*N4 -> 0 | P4: окунь | S4: окунь | U4: =T4*T4 -> 0
A5: окунь | C5: =B5*B5 -> 0 | D5: окунь | G5: окунь | J5: окунь | L5: =K5*K5 -> 0 | M5: окунь | O5: =N5*N5 -> 0 | P5: окунь | S5: окунь | U5: =T5*T5 -> 0
A6: щука | C6: =B6*B6 -> 0 | D6: щука | G6: щука | J6: щука | L6: =K6*K6 -> 0 | M6: щука | N6: 72.5 | O6: =N6*N6 -> 5256.25 | P6: щука | S6: щука | U6: =T6*T6 -> 0
A7: щука | C7: =B7*B7 -> 0 | D7: щука | G7: щука | J7: щука | L7: =K7*K7 -> 0 | M7: щука | N7: 54 | O7: =N7*N7 -> 2916 | P7: щука | S7: щука | U7: =T7*T7 -> 0
A8: щука | C8: =B8*B8 -> 0 | D8: щука | G8: щука | J8: щука | L8: =K8*K8 -> 0 | M8: щука | O8: =N8*N8 -> 0 | P8: щука | S8: щука | U8: =T8*T8 -> 0
A9: судак | B9: 75 | C9: =B9*B9 -> 5625 | D9: судак | E9: 56 | G9: судак | J9: судак | L9: =K9*K9 -> 0 | M9: судак | O9: =N9*N9 -> 0 | P9: судак | S9: судак | U9: =T9*T9 -> 0
A10: судак | B10: 70 | C10: =B10*B10 -> 4900 | D10: судак | E10: 57 | G10: судак | J10: судак | L10: =K10*K10 -> 0 | M10: судак | O10: =N10*N10 -> 0 | P10: судак | S10: судак | U10: =T10*T10 -> 0
A11: судак | B11: 62 | C11: =B11*B11 -> 3844 | D11: судак | G11: судак | J11: судак | L11: =K11*K11 -> 0 | M11: судак | O11: =N11*N11 -> 0 | P11: судак | S11: судак | U11: =T11*T11 -> 0
C12: =B12*B12 -> 0 | F12: =E12*E12 -> 0 | L12: =K12*K12 -> 0 | O12: =N12*N12 -> 0 | U12: =T12*T12 -> 0
C13: =B13*B13 -> 0 | F13: =E13*E13 -> 0 | L13: =K13*K13 -> 0 | O13: =N13*N13 -> 0 | R13: =Q13*Q13 -> 0 | U13: =T13*T13 -> 0
C14: =B14*B14 -> 0 | F14: =E14*E14 -> 0 | L14: =K14*K14 -> 0 | O14: =N14*N14 -> 0 | R14: =Q14*Q14 -> 0 | U14: =T14*T14 -> 0
C15: =B15*B15 -> 0 | F15: =E15*E15 -> 0 | L15: =K15*K15 -> 0 | O15: =N15*N15 -> 0 | R15: =Q15*Q15 -> 0 | U15: =T15*T15 -> 0
C16: =B16*B16 -> 0 | F16: =E16*E16 -> 0 | L16: =K16*K16 -> 0 | O16: =N16*N16 -> 0 | R16: =Q16*Q16 -> 0 | U16: =T16*T16 -> 0
C17: =B17*B17 -> 0 | F17: =E17*E17 -> 0 | I17: =H17*H17 -> 0 | L17: =K17*K17 -> 0 | O17: =N17*N17 -> 0 | R17: =Q17*Q17 -> 0 | U17: =T17*T17 -> 0
C18: =SUM(B3:B17) -> 207 | F18: =SUM(E3:E17) -> 113 | I18: =SUM(H3:H17) -> 0 | L18: =SUM(K3:K17) -> 0 | O18: =SUM(N3:N17) -> 126.5 | R18: =SUM(Q3:Q17) -> 0 | U18: =SUM(T3:T17) -> 0
A21: Пилюга Присада | D21: Чернухо Чехлов | G21: Менделев Менделева | J21: Шейнин Гапеев | M21: Плявго Коледа | P21: Кужовник Ковалев | S21: Шабловский Молош
A22: Вид | B22: Длина, см | C22: Баллы | D22: Вид | E22: Длина, см | F22: Баллы | G22: Вид | H22: Длина, см | I22: Баллы | J22: Вид | K22: Длина, см | L22: Баллы | M22: Вид | N22: Длина, см | O22: Баллы | P22: Вид | Q22: Длина, см | R22: Баллы | S22: Вид | T22: Длина, см | U22: Баллы
A23: окунь | C23: =B23*B23 -> 0 | D23: окунь | F23: =E23*E23 -> 0 | G23: окунь | I23: =H23*H23 -> 0 | J23: окунь | L23: =K23*K23 -> 0 | M23: окунь | N23: 28.5 | O23: =N23*N23 -> 812.25 | P23: окунь | R23: =Q23*Q23 -> 0 | S23: окунь | U23: =T23*T23 -> 0
A24: окунь | C24: =B24*B24 -> 0 | D24: окунь | F24: =E24*E24 -> 0 | G24: окунь | I24: =H24*H24 -> 0 | J24: окунь | L24: =K24*K24 -> 0 | M24: окунь | O24: =N24*N24 -> 0 | P24: окунь | R24: =Q24*Q24 -> 0 | S24: окунь | U24: =T24*T24 -> 0
A25: окунь | C25: =B25*B25 -> 0 | D25: окунь | F25: =E25*E25 -> 0 | G25: окунь | I25: =H25*H25 -> 0 | J25: окунь | L25: =K25*K25 -> 0 | M25: окунь | O25: =N25*N25 -> 0 | P25: окунь | R25: =Q25*Q25 -> 0 | S25: окунь | U25: =T25*T25 -> 0
A26: щука | C26: =B26*B26 -> 0 | D26: щука | F26: =E26*E26 -> 0 | G26: щука | I26: =H26*H26 -> 0 | J26: щука | L26: =K26*K26 -> 0 | M26: щука | O26: =N26*N26 -> 0 | P26: щука | R26: =Q26*Q26 -> 0 | S26: щука | U26: =T26*T26 -> 0
A27: щука | C27: =B27*B27 -> 0 | D27: щука | F27: =E27*E27 -> 0 | G27: щука | I27: =H27*H27 -> 0 | J27: щука | L27: =K27*K27 -> 0 | M27: щука | O27: =N27*N27 -> 0 | P27: щука | R27: =Q27*Q27 -> 0 | S27: щука | U27: =T27*T27 -> 0
A28: щука | C28: =B28*B28 -> 0 | D28: щука | F28: =E28*E28 -> 0 | G28: щука | I28: =H28*H28 -> 0 | J28: щука | L28: =K28*K28 -> 0 | M28: щука | O28: =N28*N28 -> 0 | P28: щука | R28: =Q28*Q28 -> 0 | S28: щука | U28: =T28*T28 -> 0
A29: судак | C29: =B29*B29 -> 0 | D29: судак | F29: =E29*E29 -> 0 | G29: судак | I29: =H29*H29 -> 0 | J29: судак | K29: 53.5 | L29: =K29*K29 -> 2862.25 | M29: судак | N29: 57.5 | O29: =N29*N29 -> 3306.25 | P29: судак | Q29: 67 | R29: =Q29*Q29 -> 4489 | S29: судак | U29: =T29*T29 -> 0
A30: судак | C30: =B30*B30 -> 0 | D30: судак | F30: =E30*E30 -> 0 | G30: судак | I30: =H30*H30 -> 0 | J30: судак | L30: =K30*K30 -> 0 | M30: судак | N30: 56.5 | O30: =N30*N30 -> 3192.25 | P30: судак | Q30: 67.5 | R30: =Q30*Q30 -> 4556.25 | S30: судак | U30: =T30*T30 -> 0
A31: судак | C31: =B31*B31 -> 0 | D31: судак | F31: =E31*E31 -> 0 | G31: судак | I31: =H31*H31 -> 0 | J31: судак | L31: =K31*K31 -> 0 | M31: судак | N31: 60 | O31: =N31*N31 -> 3600 | P31: судак | R31: =Q31*Q31 -> 0 | S31: судак | U31: =T31*T31 -> 0
F32: =E32*E32 -> 0 | I32: =H32*H32 -> 0 | L32: =K32*K32 -> 0 | O32: =N32*N32 -> 0 | R32: =Q32*Q32 -> 0 | U32: =T32*T32 -> 0
C33: =B33*B33 -> 0 | F33: =E33*E33 -> 0 | I33: =H33*H33 -> 0 | L33: =K33*K33 -> 0 | O33: =N33*N33 -> 0 | R33: =Q33*Q33 -> 0 | U33: =T33*T33 -> 0
C34: =B34*B34 -> 0 | F34: =E34*E34 -> 0 | I34: =H34*H34 -> 0 | L34: =K34*K34 -> 0 | O34: =N34*N34 -> 0 | R34: =Q34*Q34 -> 0 | U34: =T34*T34 -> 0
C35: =B35*B35 -> 0 | F35: =E35*E35 -> 0 | I35: =H35*H35 -> 0 | L35: =K35*K35 -> 0 | O35: =N35*N35 -> 0 | R35: =Q35*Q35 -> 0 | U35: =T35*T35 -> 0
C36: =B36*B36 -> 0 | F36: =E36*E36 -> 0 | I36: =H36*H36 -> 0 | L36: =K36*K36 -> 0 | O36: =N36*N36 -> 0 | R36: =Q36*Q36 -> 0 | U36: =T36*T36 -> 0
C37: =B37*B37 -> 0 | F37: =E37*E37 -> 0 | I37: =H37*H37 -> 0 | L37: =K37*K37 -> 0 | O37: =N37*N37 -> 0 | R37: =Q37*Q37 -> 0 | U37: =T37*T37 -> 0
C38: =SUM(B23:B37) -> 0 | F38: =SUM(E23:E37) -> 0 | I38: =SUM(H23:H37) -> 0 | L38: =SUM(K23:K37) -> 53.5 | O38: =SUM(N23:N37) -> 202.5 | R38: =SUM(Q23:Q37) -> 134.5 | U38: =SUM(T23:T37) -> 0
A41: Орлович Плявго | D41: Юцевич Казинец | G41: Ребковец Филатов | J41: Мальцев Мальцев | M41: Чопко Чопко | P41: Мельников Силицкий
A42: Вид | B42: Длина, см | C42: Баллы | D42: Вид | E42: Длина, см | F42: Баллы | G42: Вид | H42: Длина, см | I42: Баллы | J42: Вид | K42: Длина, см | L42: Баллы | M42: Вид | N42: Длина, см | O42: Баллы | P42: Вид | Q42: Длина, см | R42: Баллы | S42: Вид | T42: Длина, см | U42: Баллы
A43: окунь | C43: =B43*B43 -> 0 | D43: окунь | G43: окунь | I43: =H43 -> 0 | J43: окунь | M43: окунь | P43: окунь | R43: =Q43*Q43 -> 0 | U43: =T43*T43 -> 0
A44: окунь | D44: окунь | G44: окунь | I44: =H44 -> 0 | J44: окунь | M44: окунь | P44: окунь | R44: =Q44*Q44 -> 0 | U44: =T44*T44 -> 0
...

Sheet 3-й тур
A1: Боровский Веснянко | D1: Смолко Смолко | G1: Щемер Крат | J1: Чернякевич Телюков | M1: Гришкевич Чикита | P1: Турков Ворон | S1: Можжерин Лихачев
A2: Вид | B2: Длина, см | C2: Баллы | D2: Вид | E2: Длина, см | F2: Баллы | G2: Вид | H2: Длина, см | I2: Баллы | J2: Вид | K2: Длина, см | L2: Баллы | M2: Вид | N2: Длина, см | O2: Баллы | P2: Вид | Q2: Длина, см | R2: Баллы | S2: Вид | T2: Длина, см | U2: Баллы
A3: щука | B3: 52 | C3: =B3*B3 -> 2704 | D3: щука | E3: 50 | F3: =E3*E3 -> 2500 | G3: щука | H3: 81 | I3: =H3*H3 -> 6561 | L3: =K3*K3 -> 0 | M3: щука | N3: 74 | O3: =N3*N3 -> 5476 | P3: щука | Q3: 101 | R3: =Q3*Q3 -> 10201 | S3: щука | T3: 68 | U3: =T3*T3 -> 4624
C4: =B4*B4 -> 0 | D4: щука | E4: 62 | F4: =E4*E4 -> 3844 | I4: =H4*H4 -> 0 | L4: =K4*K4 -> 0 | M4: щука | N4: 72 | O4: =N4*N4 -> 5184 | P4: щука | Q4: 91 | R4: =Q4*Q4 -> 8281 | S4: щука | T4: 52 | U4: =T4*T4 -> 2704
C5: =B5*B5 -> 0 | F5: =E5*E5 -> 0 | I5: =H5*H5 -> 0 | L5: =K5*K5 -> 0 | M5: щука | N5: 50.5 | O5: =N5*N5 -> 2550.25 | R5: =Q5*Q5 -> 0 | S5: щука | T5: 52.5 | U5: =T5*T5 -> 2756.25
C6: =B6*B6 -> 0 | F6: =E6*E6 -> 0 | I6: =H6*H6 -> 0 | L6: =K6*K6 -> 0 | M6: щука | N6: 93 | O6: =N6*N6 -> 8649 | R6: =Q6*Q6 -> 0 | S6: щука | T6: 73 | U6: =T6*T6 -> 5329
C7: =B7*B7 -> 0 | F7: =E7*E7 -> 0 | I7: =H7*H7 -> 0 | L7: =K7*K7 -> 0 | O7: =N7*N7 -> 0 | R7: =Q7*Q7 -> 0 | S7: щука | T7: 53.5 | U7: =T7*T7 -> 2862.25
C8: =B8*B8 -> 0 | F8: =E8*E8 -> 0 | I8: =H8*H8 -> 0 | L8: =K8*K8 -> 0 | O8: =N8*N8 -> 0 | R8: =Q8*Q8 -> 0 | U8: =T8*T8 -> 0
C9: =B9*B9 -> 0 | F9: =E9*E9 -> 0 | I9: =H9*H9 -> 0 | L9: =K9*K9 -> 0 | O9: =N9*N9 -> 0 | R9: =Q9*Q9 -> 0 | U9: =T9*T9 -> 0
C10: =B10*B10 -> 0 | F10: =E10*E10 -> 0 | I10: =H10*H10 -> 0 | L10: =K10*K10 -> 0 | O10: =N10*N10 -> 0 | R10: =Q10*Q10 -> 0 | U10: =T10*T10 -> 0
C11: =B11*B11 -> 0 | F11: =E11*E11 -> 0 | I11: =H11*H11 -> 0 | L11: =K11*K11 -> 0 | O11: =N11*N11 -> 0 | R11: =Q11*Q11 -> 0 | U11: =T11*T11 -> 0
C12: =B12*B12 -> 0 | F12: =E12*E12 -> 0 | I12: =H12*H12 -> 0 | L12: =K12*K12 -> 0 | O12: =N12*N12 -> 0 | R12: =Q12*Q12 -> 0 | U12: =T12*T12 -> 0
C13: =B13*B13 -> 0 | F13: =E13*E13 -> 0 | I13: =H13*H13 -> 0 | L13: =K13*K13 -> 0 | O13: =N13*N13 -> 0 | R13: =Q13*Q13 -> 0 | U13: =T13*T13 -> 0
C14: =B14*B14 -> 0 | F14: =E14*E14 -> 0 | I14: =H14*H14 -> 0 | L14: =K14*K14 -> 0 | O14: =N14*N14 -> 0 | R14: =Q14*Q14 -> 0 | U14: =T14*T14 -> 0
C15: =B15*B15 -> 0 | F15: =E15*E15 -> 0 | I15: =H15*H15 -> 0 | L15: =K15*K15 -> 0 | O15: =N15*N15 -> 0 | R15: =Q15*Q15 -> 0 | U15: =T15*T15 -> 0
C16: =B16*B16 -> 0 | F16: =E16*E16 -> 0 | I16: =H16*H16 -> 0 | L16: =K16*K16 -> 0 | O16: =N16*N16 -> 0 | R16: =Q16*Q16 -> 0 | U16: =T16*T16 -> 0
C17: =B17*B17 -> 0 | F17: =E17*E17 -> 0 | I17: =H17*H17 -> 0 | L17: =K17*K17 -> 0 | O17: =N17*N17 -> 0 | R17: =Q17*Q17 -> 0 | U17: =T17*T17 -> 0
C18: =SUM(C3:C17) -> 2704 | F18: =SUM(F3:F17) -> 6344 | I18: =SUM(I3:I17) -> 6561 | L18: =SUM(L3:L17) -> 0 | O18: =SUM(O3:O17) -> 21859.25 | R18: =SUM(R3:R17) -> 18482 | U18: =SUM(U3:U17) -> 18275.5
A21: Шевчук Римашевский | D21: Юцевич Юцевич | G21: Менделев Менделева | J21: Палагин Пархоменко | M21: Дудко Ю./Дудко Ю. | P21: Шабловский Кужовник | S21: Горбач Пырх
A22: Вид | B22: Длина, см | C22: Баллы | D22: Вид | E22: Длина, см | F22: Баллы | G22: Вид | H22: Длина, см | I22: Баллы | J22: Вид | K22: Длина, см | L22: Баллы | M22: Вид | N22: Длина, см | O22: Баллы | P22: Вид | Q22: Длина, см | R22: Баллы | S22: Вид | T22: Длина, см | U22: Баллы
A23: щука | B23: 76 | C23: =B23*B23 -> 5776 | D23: щука | E23: 63.5 | F23: =E23*E23 -> 4032.25 | G23: щука | H23: 53 | I23: =H23*H23 -> 2809 | J23: щука | K23: 51 | L23: =K23*K23 -> 2601 | M23: щука | N23: 66.5 | O23: =N23*N23 -> 4422.25 | P23: щука | Q23: 74.5 | R23: =Q23*Q23 -> 5550.25 | S23: щука | T23: 50.5 | U23: =T23*T23 -> 2550.25
A24: щука | B24: 69 | C24: =B24*B24 -> 4761 | D24: щука | E24: 68.5 | F24: =E24*E24 -> 4692.25 | G24: щука | H24: 67.5 | I24: =H24*H24 -> 4556.25 | J24: щука | K24: 54.5 | L24: =K24*K24 -> 2970.25 | M24: щука | N24: 76 | O24: =N24*N24 -> 5776 | P24: щука | Q24: 61 | R24: =Q24*Q24 -> 3721 | S24: щука | T24: 51 | U24: =T24*T24 -> 2601
A25: щука | B25: 81 | C25: =B25*B25 -> 6561 | D25: щука | E25: 60.5 | F25: =E25*E25 -> 3660.25 | G25: щука | H25: 59 | I25: =H25*H25 -> 3481 | J25: щука | K25: 57 | L25: =K25*K25 -> 3249 | M25: щука | N25: 51 | O25: =N25*N25 -> 2601 | R25: =Q25*Q25 -> 0 | U25: =T25*T25 -> 0
A26: щука | B26: 58.5 | C26: =B26*B26 -> 3422.25 | D26: окунь | E26: 34 | F26: =E26*E26 -> 1156 | G26: щука | H26: 50 | I26: =H26*H26 -> 2500 | J26: щука | K26: 50 | L26: =K26*K26 -> 2500 | O26: =N26*N26 -> 0 | R26: =Q26*Q26 -> 0 | U26: =T26*T26 -> 0
A27: щука | B27: 58.5 | C27: =B27*B27 -> 3422.25 | D27: щука | E27: 50 | F27: =E27*E27 -> 2500 | I27: =H27*H27 -> 0 | J27: щука | K27: 52 | L27: =K27*K27 -> 2704 | O27: =N27*N27 -> 0 | R27: =Q27*Q27 -> 0 | U27: =T27*T27 -> 0
A28: щука | B28: 62 | C28: =B28*B28 -> 3844 | D28: щука | E28: 61.5 | F28: =E28*E28 -> 3782.25 | I28: =H28*H28 -> 0 | J28: щука | K28: 80 | L28: =K28*K28 -> 6400 | O28: =N28*N28 -> 0 | R28: =Q28*Q28 -> 0 | U28: =T28*T28 -> 0
A29: щука | B29: 59 | C29: =B29*B29 -> 3481 | D29: щука | E29: 82 | F29: =E29*E29 -> 6724 | I29: =H29*H29 -> 0 | J29: щука | K29: 58.5 | L29: =K29*K29 -> 3422.25 | O29: =N29*N29 -> 0 | R29: =Q29*Q29 -> 0 | U29: =T29*T29 -> 0
C30: =B30*B30 -> 0 | F30: =E30*E30 -> 0 | I30: =H30*H30 -> 0 | L30: =K30*K30 -> 0 | O30: =N30*N30 -> 0 | R30: =Q30*Q30 -> 0 | U30: =T30*T30 -> 0
C31: =B31*B31 -> 0 | F31: =E31*E31 -> 0 | I31: =H31*H31 -> 0 | L31: =K31*K31 -> 0 | O31: =N31*N31 -> 0 | R31: =Q31*Q31 -> 0 | U31: =T31*T31 -> 0
C32: =B32*B32 -> 0 | F32: =E32*E32 -> 0 | I32: =H32*H32 -> 0 | L32: =K32*K32 -> 0 | O32: =N32*N32 -> 0 | R32: =Q32*Q32 -> 0 | U32: =T32*T32 -> 0
C33: =B33*B33 -> 0 | F33: =E33*E33 -> 0 | I33: =H33*H33 -> 0 | L33: =K33*K33 -> 0 | O33: =N33*N33 -> 0 | R33: =Q33*Q33 -> 0 | U33: =T33*T33 -> 0
C34: =B34*B34 -> 0 | F34: =E34*E34 -> 0 | I34: =H34*H34 -> 0 | L34: =K34*K34 -> 0 | O34: =N34*N34 -> 0 | R34: =Q34*Q34 -> 0 | U34: =T34*T34 -> 0
C35: =B35*B35 -> 0 | F35: =E35*E35 -> 0 | I35: =H35*H35 -> 0 | L35: =K35*K35 -> 0 | O35: =N35*N35 -> 0 | R35: =Q35*Q35 -> 0 | U35: =T35*T35 -> 0
C36: =B36*B36 -> 0 | F36: =E36*E36 -> 0 | I36: =H36*H36 -> 0 | L36: =K36*K36 -> 0 | O36: =N36*N36 -> 0 | R36: =Q36*Q36 -> 0 | U36: =T36*T36 -> 0
C37: =B37*B37 -> 0 | F37: =E37*E37 -> 0 | I37: =H37*H37 -> 0 | L37: =K37*K37 -> 0 | O37: =N37*N37 -> 0 | R37: =Q37*Q37 -> 0 | U37: =T37*T37 -> 0
C38: =SUM(C23:C37) -> 31267.5 | F38: =SUM(F23:F37) -> 26547 | I38: =SUM(I23:I37) -> 13346.25 | L38: =SUM(L23:L37) -> 23846.5 | O38: =SUM(O23:O37) -> 12799.25 | R38: =SUM(R23:R37) -> 9271.25 | U38: =SUM(U23:U37) -> 5151.25
A41: Иокша Мехович | D41: Юцевич Казинец | G41: Чернухо Пыжов | J41: Юденков Якушко | M41: Довгель Барковский | P41: Шакур Шакур
A42: Вид | B42: Длина, см | C42: Баллы | D42: Вид | E42: Длина, см | F42: Баллы | G42: Вид | H42: Длина, см | I42: Баллы | J42: Вид | K42: Длина, см | L42: Баллы | M42: Вид | N42: Длина, см | O42: Баллы | P42: Вид | Q42: Длина, см | R42: Баллы | S42: Вид | T42: Длина, см | U42: Баллы
A43: щука | B43: 94 | C43: =B43*B43 -> 8836 | D43: щука | E43: 78.5 | F43: =E43*E43 -> 6162.25 | G43: щука | H43: 52.5 | I43: =H43*H43 -> 2756.25 | J43: щука | K43: 91 | L43: =K43*K43 -> 8281 | M43: щука | N43: 50 | O43: =N43*N43 -> 2500 | P43: щука | Q43: 52 | R43: =Q43*Q43 -> 2704 | U43: =T43*T43 -> 0
A44: щука | B44: 93 | C44: =B44*B44 -> 8649 | D44: щука | E44: 72 | F44: =E44*E44 -> 5184 | G44: щука | H44: 58 | I44: =H44*H44 -> 3364 | J44: щука | K44: 63 | L44: =K44*K44 -> 3969 | M44: щука | N44: 62.5 | O44: =N44*N44 -> 3906.25 | P44: окунь | Q44: 38.5 | R44: =Q44*Q44 -> 1482.25 | U44: =T44*T44 -> 0
...

Sheet 4-тур
A1: Боровский Веснянко | D1: Смолко Смолко | G1: Щемер Крат | J1: Чернякевич Телюков | M1: Гришкевич Чикита | P1: Турков Ворон | S1: Можжерин Лихачев
A2: Вид | B2: Длина, см | C2: Баллы | D2: Вид | E2: Длина, см | F2: Баллы | G2: Вид | H2: Длина, см | I2: Баллы | J2: Вид | K2: Длина, см | L2: Баллы | M2: Вид | N2: Длина, см | O2: Баллы | P2: Вид | Q2: Длина, см | R2: Баллы | S2: Вид | T2: Длина, см | U2: Баллы
A3: щука | B3: 51 | C3: =B3*B3 -> 2601 | D3: окунь | E3: 30.5 | F3: =E3*E3 -> 930.25 | G3: щука | H3: 87.5 | I3: =H3*H3 -> 7656.25 | L3: =K3*K3 -> 0 | M3: щука | N3: 79 | O3: =N3*N3 -> 6241 | P3: щука | Q3: 59 | R3: =Q3*Q3 -> 3481 | S3: щука | T3: 62.5 | U3: =T3*T3 -> 3906.25
A4: щука | B4: 71 | C4: =B4*B4 -> 5041 | F4: =E4*E4 -> 0 | G4: щука | H4: 81 | I4: =H4*H4 -> 6561 | L4: =K4*K4 -> 0 | M4: щука | N4: 57 | O4: =N4*N4 -> 3249 | P4: щука | Q4: 81 | R4: =Q4*Q4 -> 6561 | S4: щука | T4: 87.5 | U4: =T4*T4 -> 7656.25
A5: щука | B5: 60 | C5: =B5*B5 -> 3600 | F5: =E5*E5 -> 0 | I5: =H5*H5 -> 0 | L5: =K5*K5 -> 0 | M5: щука | N5: 61 | O5: =N5*N5 -> 3721 | P5: щука | Q5: 85 | R5: =Q5*Q5 -> 7225 | S5: щука | T5: 57.5 | U5: =T5*T5 -> 3306.25
A6: щука | B6: 55 | C6: =B6*B6 -> 3025 | F6: =E6*E6 -> 0 | I6: =H6*H6 -> 0 | L6: =K6*K6 -> 0 | O6: =N6*N6 -> 0 | P6: щука | Q6: 71 | R6: =Q6*Q6 -> 5041 | U6: =T6*T6 -> 0
C7: =B7*B7 -> 0 | F7: =E7*E7 -> 0 | I7: =H7*H7 -> 0 | L7: =K7*K7 -> 0 | O7: =N7*N7 -> 0 | R7: =Q7*Q7 -> 0 | U7: =T7*T7 -> 0
C8: =B8*B8 -> 0 | F8: =E8*E8 -> 0 | I8: =H8*H8 -> 0 | L8: =K8*K8 -> 0 | O8: =N8*N8 -> 0 | R8: =Q8*Q8 -> 0 | U8: =T8*T8 -> 0
C9: =B9*B9 -> 0 | F9: =E9*E9 -> 0 | I9: =H9*H9 -> 0 | L9: =K9*K9 -> 0 | O9: =N9*N9 -> 0 | R9: =Q9*Q9 -> 0 | U9: =T9*T9 -> 0
C10: =B10*B10 -> 0 | F10: =E10*E10 -> 0 | I10: =H10*H10 -> 0 | L10: =K10*K10 -> 0 | O10: =N10*N10 -> 0 | R10: =Q10*Q10 -> 0 | U10: =T10*T10 -> 0
C11: =B11*B11 -> 0 | F11: =E11*E11 -> 0 | I11: =H11*H11 -> 0 | L11: =K11*K11 -> 0 | O11: =N11*N11 -> 0 | R11: =Q11*Q11 -> 0 | U11: =T11*T11 -> 0
C12: =B12*B12 -> 0 | F12: =E12*E12 -> 0 | I12: =H12*H12 -> 0 | L12: =K12*K12 -> 0 | O12: =N12*N12 -> 0 | R12: =Q12*Q12 -> 0 | U12: =T12*T12 -> 0
C13: =B13*B13 -> 0 | F13: =E13*E13 -> 0 | I13: =H13*H13 -> 0 | L13: =K13*K13 -> 0 | O13: =N13*N13 -> 0 | R13: =Q13*Q13 -> 0 | U13: =T13*T13 -> 0
C14: =B14*B14 -> 0 | F14: =E14*E14 -> 0 | I14: =H14*H14 -> 0 | L14: =K14*K14 -> 0 | O14: =N14*N14 -> 0 | R14: =Q14*Q14 -> 0 | U14: =T14*T14 -> 0
C15: =B15*B15 -> 0 | F15: =E15*E15 -> 0 | I15: =H15*H15 -> 0 | L15: =K15*K15 -> 0 | O15: =N15*N15 -> 0 | R15: =Q15*Q15 -> 0 | U15: =T15*T15 -> 0
C16: =B16*B16 -> 0 | F16: =E16*E16 -> 0 | I16: =H16*H16 -> 0 | L16: =K16*K16 -> 0 | O16: =N16*N16 -> 0 | R16: =Q16*Q16 -> 0 | U16: =T16*T16 -> 0
C17: =B17*B17 -> 0 | F17: =E17*E17 -> 0 | I17: =H17*H17 -> 0 | L17: =K17*K17 -> 0 | O17: =N17*N17 -> 0 | R17: =Q17*Q17 -> 0 | U17: =T17*T17 -> 0
C18: =SUM(C3:C17) -> 14267 | F18: =SUM(F3:F17) -> 930.25 | I18: =SUM(I3:I17) -> 14217.25 | L18: =SUM(L3:L17) -> 0 | O18: =SUM(O3:O17) -> 13211 | R18: =SUM(R3:R17) -> 22308 | U18: =SUM(U3:U17) -> 14868.75
A21: Шевчук Римашевский | D21: Юцевич Юцевич | G21: Менделев Менделева | J21: Палагин Пархоменко | M21: Дудко Ю./Дудко Ю. | P21: Шабловский Кужовник | S21: Горбач Пырх
A22: Вид | B22: Длина, см | C22: Баллы | D22: Вид | E22: Длина, см | F22: Баллы | G22: Вид | H22: Длина, см | I22: Баллы | J22: Вид | K22: Длина, см | L22: Баллы | M22: Вид | N22: Длина, см | O22: Баллы | P22: Вид | Q22: Длина, см | R22: Баллы | S22: Вид | T22: Длина, см | U22: Баллы
A23: щука | B23: 77 | C23: =B23*B23 -> 5929 | D23: щука | E23: 59.5 | F23: =E23*E23 -> 3540.25 | G23: щука | H23: 58 | I23: =H23*H23 -> 3364 | J23: щука | K23: 52 | L23: =K23*K23 -> 2704 | M23: щука | N23: 72 | O23: =N23*N23 -> 5184 | P23: щука | Q23: 54 | R23: =Q23*Q23 -> 2916 | S23: щука | T23: 55 | U23: =T23*T23 -> 3025
A24: щука | B24: 60.5 | C24: =B24*B24 -> 3660.25 | F24: =E24*E24 -> 0 | G24: щука | H24: 52 | I24: =H24*H24 -> 2704 | J24: щука | K24: 75 | L24: =K24*K24 -> 5625 | M24: щука | N24: 87 | O24: =N24*N24 -> 7569 | P24: щука | Q24: 71.5 | R24: =Q24*Q24 -> 5112.25 | S24: щука | T24: 55 | U24: =T24*T24 -> 3025
A25: щука | B25: 62.5 | C25: =B25*B25 -> 3906.25 | F25: =E25*E25 -> 0 | G25: щука | H25: 61.5 | I25: =H25*H25 -> 3782.25 | J25: щука | K25: 63 | L25: =K25*K25 -> 3969 | M25: щука | N25: 55 | O25: =N25*N25 -> 3025 | P25: щука | Q25: 55.5 | R25: =Q25*Q25 -> 3080.25 | S25: щука | T25: 54 | U25: =T25*T25 -> 2916
A26: щука | B26: 59.5 | C26: =B26*B26 -> 3540.25 | F26: =E26*E26 -> 0 | I26: =H26*H26 -> 0 | J26: щука | K26: 55 | L26: =K26*K26 -> 3025 | O26: =N26*N26 -> 0 | R26: =Q26*Q26 -> 0 | S26: щука | T26: 54 | U26: =T26*T26 -> 2916
A27: щука | B27: 61 | C27: =B27*B27 -> 3721 | F27: =E27*E27 -> 0 | I27: =H27*H27 -> 0 | L27: =K27*K27 -> 0 | O27: =N27*N27 -> 0 | R27: =Q27*Q27 -> 0 | S27: щука | T27: 65.5 | U27: =T27*T27 -> 4290.25
A28: щука | B28: 56.5 | C28: =B28*B28 -> 3192.25 | F28: =E28*E28 -> 0 | I28: =H28*H28 -> 0 | L28: =K28*K28 -> 0 | O28: =N28*N28 -> 0 | R28: =Q28*Q28 -> 0 | U28: =T28*T28 -> 0
A29: щука | B29: 55 | C29: =B29*B29 -> 3025 | F29: =E29*E29 -> 0 | I29: =H29*H29 -> 0 | L29: =K29*K29 -> 0 | O29: =N29*N29 -> 0 | R29: =Q29*Q29 -> 0 | U29: =T29*T29 -> 0
A30: щука | B30: 109 | C30: =B30*B30 -> 11881 | F30: =E30*E30 -> 0 | I30: =H30*H30 -> 0 | L30: =K30*K30 -> 0 | O30: =N30*N30 -> 0 | R30: =Q30*Q30 -> 0 | U30: =T30*T30 -> 0
C31: =B31*B31 -> 0 | F31: =E31*E31 -> 0 | I31: =H31*H31 -> 0 | L31: =K31*K31 -> 0 | O31: =N31*N31 -> 0 | R31: =Q31*Q31 -> 0 | U31: =T31*T31 -> 0
C32: =B32*B32 -> 0 | F32: =E32*E32 -> 0 | I32: =H32*H32 -> 0 | L32: =K32*K32 -> 0 | O32: =N32*N32 -> 0 | R32: =Q32*Q32 -> 0 | U32: =T32*T32 -> 0
C33: =B33*B33 -> 0 | F33: =E33*E33 -> 0 | I33: =H33*H33 -> 0 | L33: =K33*K33 -> 0 | O33: =N33*N33 -> 0 | R33: =Q33*Q33 -> 0 | U33: =T33*T33 -> 0
C34: =B34*B34 -> 0 | F34: =E34*E34 -> 0 | I34: =H34*H34 -> 0 | L34: =K34*K34 -> 0 | O34: =N34*N34 -> 0 | R34: =Q34*Q34 -> 0 | U34: =T34*T34 -> 0
C35: =B35*B35 -> 0 | F35: =E35*E35 -> 0 | I35: =H35*H35 -> 0 | L35: =K35*K35 -> 0 | O35: =N35*N35 -> 0 | R35: =Q35*Q35 -> 0 | U35: =T35*T35 -> 0
C36: =B36*B36 -> 0 | F36: =E36*E36 -> 0 | I36: =H36*H36 -> 0 | L36: =K36*K36 -> 0 | O36: =N36*N36 -> 0 | R36: =Q36*Q36 -> 0 | U36: =T36*T36 -> 0
C37: =B37*B37 -> 0 | F37: =E37*E37 -> 0 | I37: =H37*H37 -> 0 | L37: =K37*K37 -> 0 | O37: =N37*N37 -> 0 | R37: =Q37*Q37 -> 0 | U37: =T37*T37 -> 0
C38: =SUM(C23:C37) -> 38855 | F38: =SUM(F23:F37) -> 3540.25 | I38: =SUM(I23:I37) -> 9850.25 | L38: =SUM(L23:L37) -> 15323 | O38: =SUM(O23:O37) -> 15778 | R38: =SUM(R23:R37) -> 11108.5 | U38: =SUM(U23:U37) -> 16172.25
A41: Иокша Мехович | D41: Юцевич Казинец | G41: Чернухо Пыжов | J41: Юденков Якушко | M41: Довгель Барковский | P41: Шакур Шакур
A42: Вид | B42: Длина, см | C42: Баллы | D42: Вид | E42: Длина, см | F42: Баллы | G42: Вид | H42: Длина, см | I42: Баллы | J42: Вид | K42: Длина, см | L42: Баллы | M42: Вид | N42: Длина, см | O42: Баллы | P42: Вид | Q42: Длина, см | R42: Баллы | S42: Вид | T42: Длина, см | U42: Баллы
A43: щука | B43: 98 | C43: =B43*B43 -> 9604 | D43: щука | E43: 50 | F43: =E43*E43 -> 2500 | G43: щука | H43: 77 | I43: =H43*H43 -> 5929 | J43: щука | K43: 50 | L43: =K43*K43 -> 2500 | M43: щука | N43: 56 | O43: =N43*N43 -> 3136 | P43: щука | Q43: 75 | R43: =Q43*Q43 -> 5625 | U43: =T43*T43 -> 0
A44: щука | B44: 82 | C44: =B44*B44 -> 6724 | D44: щука | E44: 51 | F44: =E44*E44 -> 2601 | I44: =H44*H44 -> 0 | J44: щука | K44: 62.5 | L44: =K44*K44 -> 3906.25 | M44: щука | N44: 66.5 | O44: =N44*N44 -> 4422.25 | P44: щука | Q44: 50 | R44: =Q44*Q44 -> 2500 | U44: =T44*T44 -> 0
...

Sheet Командный зачет
A1: ПРОТОКОЛ РЕЗУЛЬТАТОВ
A2: турнир Казущик KempingBy Cup
A3: по спортивному лову рыбы спиннингом с лодок
A4: 27-28 августа вдхр Вилейское
B5: Ф.И.О. рыболова-спортсмена | C5: Сумма баллов | D5: Место | E5: Ф.И.О. рыболова-спортсмена | F5: Сумма баллов | G5: Место | H5: Ф.И.О. рыболова-спортсмена | I5: Сумма баллов | J5: Место | K5: Ф.И.О. рыболова-спортсмена | L5: Сумма баллов | M5: Место
A6: N п/п | B6: 1 тур | C6: 1 тур | D6: 1 тур | E6: 2 тур | F6: 2 тур | G6: 2 тур | H6: 3 тур | I6: 3 тур | J6: 3 тур | K6: 4 тур | L6: 4тур | M6: 4 тур | N6: Сумма баллов за 4 тура | O6: Сумма мест За 4 тура | P6: Итоговое командное место
B7: Ф.И.О. рыболова-спортсмена | C7: Сумма баллов | D7: Место | E7: Ф.И.О. рыболова-спортсмена | F7: Сумма баллов | G7: Место | H7: Ф.И.О. рыболова-спортсмена | I7: Сумма баллов | J7: Место | K7: Ф.И.О. рыболова-спортсмена | L7: Сумма баллов | M7: Место
B8: Юденков Алексей Якушко Андрей Палагин Дмитрий Пархоменко Сергей | C8: 123185 | D8: 1 | E8: Юденков Алексей Якушко Андрей Палагин Дмитрий Пархоменко Сергей | F8: 72108 | G8: 1 | H8: Юденков Алексей Якушко Андрей Палагин Дмитрий Пархоменко Сергей | I8: 66487 | J8: 1 | K8: Юденков Алексей Якушко Андрей Палагин Дмитрий Пархоменко Сергей | N8: =C8+F8+I8+L8 -> 261780 | O8: =D8+G8+J8+M8 -> 3
B9: Можжерин Антон Лихачев Максим Шевчук Дмитрий Римашевский Антон | C9: 99806 | D9: 2 | E9: Можжерин Антон Лихачев Максим Шевчук Дмитрий Римашевский Антон | F9: 68802 | G9: 2 | H9: Можжерин Антон Лихачев Максим Шевчук Дмитрий Римашевский Антон | I9: 49544 | J9: 2 | K9: Можжерин Антон Лихачев Максим Шевчук Дмитрий Римашевский Антон | N9: =C9+F9+I9+L9 -> 218152 | O9: =D9+G9+J9+M9 -> 6
B10: Гришкевич Александр Чикита Илья Дудко Юрий Дудко Юлия | C10: 85830 | D10: 3 | E10: Гришкевич Александр Чикита Илья Дудко Юрий Дудко Юлия | F10: 66641 | G10: 3 | H10: Гришкевич Александр Чикита Илья Дудко Юрий Дудко Юлия | I10: 34658 | J10: 6 | K10: Гришкевич Александр Чикита Илья Дудко Юрий Дудко Юлия | N10: =C10+F10+I10+L10 -> 187129 | O10: =D10+G10+J10+M10 -> 12
B11: Горбач Дмитрий Пырх Виталий Шакур Александр Шакур Дмитрий | C11: 83854 | D11: 4 | E11: Горбач Дмитрий Пырх Виталий Шакур Александр Шакур Дмитрий | F11: 40845 | G11: 7 | H11: Горбач Дмитрий Пырх Виталий Шакур Александр Шакур Дмитрий | I11: 20400 | J11: 7 | K11: Горбач Дмитрий Пырх Виталий Шакур Александр Шакур Дмитрий | N11: =C11+F11+I11+L11 -> 145099 | O11: =D11+G11+J11+M11 -> 18
B12: Менделев Александр Менделева Анна Казанович Владислав Смолко Андрей | C12: 77679 | D12: 5 | E12: Менделев Александр Менделева Анна Смолко Виктор Смолко Андрей | F12: 44672 | G12: 5 | H12: Менделев Александр Менделева Анна Смолко Виктор Смолко Андрей | I12: 19690 | J12: 8 | K12: Менделев Александр Менделева Анна Казанович Владислав Смолко Андрей | N12: =C12+F12+I12+L12 -> 142041 | O12: =D12+G12+J12+M12 -> 18
B13: Турков Станислав Ворон Павел Иокша Дмитрий Мехович Андрей | C13: 74282 | D13: 6 | E13: Турков Станислав Ворон Павел Иокша Дмитрий Мехович Андрей | F13: 52232 | G13: 4 | H13: Турков Станислав Ворон Павел Иокша Дмитрий Мехович Андрей | I13: 39047 | J13: 4 | K13: Турков Станислав Ворон Павел Иокша Дмитрий Мехович Андрей | N13: =C13+F13+I13+L13 -> 165561 | O13: =D13+G13+J13+M13 -> 14
B14: Юцевич Дмитрий Юцевич Ира Юцевич Максим Казинец Павел | C14: 74277 | D14: 7 | E14: Юцевич Дмитрий Юцевич Ира Юцевич Максим Казинец Павел | F14: 36395 | G14: 8 | H14: Юцевич Дмитрий Юцевич Ира Юцевич Максим Казинец Павел | I14: 42793 | J14: 3 | K14: Юцевич Дмитрий Юцевич Ира Юцевич Максим Казинец Павел | N14: =C14+F14+I14+L14 -> 153465 | O14: =D14+G14+J14+M14 -> 18
B15: Щемер Сергей Крат Вадим Боровский Алексей Веснянко Тарас | C15: 42261 | D15: 8 | E15: Щемер Сергей Крат Вадим Боровский Алексей Веснянко Тарас | F15: 14978 | G15: 9 | H15: Щемер Сергей Крат Вадим Боровский Алексей Веснянко Тарас | I15: 9265 | J15: 9 | K15: Щемер Сергей Крат Вадим Боровский Алексей Веснянко Тарас | N15: =C15+F15+I15+L15 -> 66504 | O15: =D15+G15+J15+M15 -> 26
B16: Чернухо Михаил Пыжов Дмитрий Довгель Сергей Барковский Сергей | C16: 35806 | D16: 9 | E16: Чернухо Михаил Пыжов Дмитрий Довгель Сергей Барковский Сергей | F16: 41948 | G16: 6 | H16: Чернухо Михаил Пыжов Дмитрий Довгель Сергей Барковский Сергей | I16: 37519 | J16: 5 | K16: Чернухо Михаил Пыжов Дмитрий Довгель Сергей Барковский Сергей | N16: =C16+F16+I16+L16 -> 115273 | O16: =D16+G16+J16+M16 -> 20
