Workbook

Sheet личный зачет1 этап
A1: ПРОТОКОЛ РЕЗУЛЬТАТОВ
A2: турнир Казущик KempingBy Cup
A3: по спортивному лову рыбы спиннингом с лодок
A4: 27-28 августа вдхр Вилейское
A6: N п/п | B6: Ф.И.О. рыболова-спортсмена | C6: Общая Длина, см | D6: Место
A8: 21 | B8: Бычок Александр (к) Холодинский Сергей | C8: ='1-й тур'!C84+'2-й тур'!C84 -> 647.5 | D8: 1
A11: 22 | B11: Гришкевич Александр (к) Чикита Илья | C11: ='1-й тур'!F84+'2-й тур'!F84 -> 352 | D11: 2
A14: 1 | B14: Шарабайко Андрей (к) Аноп Андрей | C14: ='1-й тур'!C18+'2-й тур'!C18 -> 327 | D14: 3
A17: 13 | B17: Кужовник Сергей (к) Ковалёв Николай | C17: ='1-й тур'!R38+'2-й тур'!R38 -> 326.5 | D17: 4
A20: 19 | B20: Мельников Владимир (к) Силицкий Александр | C20: ='1-й тур'!R61+'2-й тур'!R61 -> 323 | D20: 5
A23: 5 | B23: Довгель Сергей (к) Барковский Сергей | C23: ='1-й тур'!O18+'2-й тур'!O18 -> 304.5 | D23: 6
A26: 12 | B26: Плявго Евгений (к) Коледа Александр | C26: ='1-й тур'!O38+'2-й тур'!O38 -> 293 | D26: 7
A29: 20 | B29: Чопко Дмитрий (к) Чопко Артур | C29: ='1-й тур'!O61+'2-й тур'!O61 -> 252 | D29: 8
A32: 7 | B32: Ореховский Максим (к) Ореховская Анастасия | C32: ='1-й тур'!R18+'2-й тур'!R18 -> 237.5 | D32: 9
A35: 2 | B35: Крупеньков Сергей (к) Рулинский Александр | C35: ='1-й тур'!F18+'2-й тур'!F18 -> 169.5 | D35: 10
A38: 11 | B38: Шейнин Андрей (к) Гапеев Игорь | C38: ='1-й тур'!L38+'2-й тур'!L38 -> 145.5 | D38: 11
A41: 3 | B41: Кевра Дмитрий (к) Годун Владислав | C41: ='1-й тур'!I18+'2-й тур'!I18 -> 110 | D41: 12
A44: 4 | B44: Лютик Игорь (к) Русанов Сергей | C44: ='1-й тур'!L18+'2-й тур'!L18 -> 51.5 | D44: 13
A47: 17 | B47: Ребковец Андрей (к) Филатов Сергей | C47: ='1-й тур'!I61+'2-й тур'!I61 -> 30 | D47: 14
A50: 9 | B50: Чернухо Михаил (к) Чехлов Юрий | C50: ='1-й тур'!F38+'2-й тур'!F38 -> 0 | D50: 15
A53: 10 | B53: Менделев Александр (к) Менделева Анна | C53: ='1-й тур'!I38+'2-й тур'!I38 -> 0 | D53: 15
A56: 14 | B56: Шабловский Дмитрий (к) Молош Александр | C56: ='1-й тур'!U38+'2-й тур'!U38 -> 0 | D56: 15
A59: 16 | B59: Юцевич Моисей (к) Казинец Павел | C59: технические проблемы | D59: 15
A62: 6 | B62: Можжерин Антон (к) Лихачев Максим | C62: технические проблемы | D62: 15
A65: 18 | B65: Мальцев Максим (к) Мальцев Артур | C65: технические проблемы | D65: 15

Sheet 1-й тур
A1: Шарабайко Аноп | D1: Крупеньков Рулинский | G1: Кевра Годун | J1: Лютик Русанов | M1: Довгель Барсковский | P1: Ореховский Ореховская | S1: Можжерин Лихачев
A2: Вид | B2: Длина, см | C2: Баллы | D2: Вид | E2: Длина, см | F2: Баллы | G2: Вид | H2: Длина, см | I2: Баллы | J2: Вид | K2: Длина, см | L2: Баллы | M2: Вид | N2: Длина, см | O2: Баллы | P2: Вид | Q2: Длина, см | R2: Баллы | S2: Вид | T2: Длина, см | U2: Баллы
A3: окунь | C3: =B3*B3 -> 0 | D3: окунь | G3: окунь | J3: окунь | L3: =K3*K3 -> 0 | M3: окунь | P3: окунь | S3: окунь | U3: =T3*T3 -> 0
A4: окунь | C4: =B4*B4 -> 0 | D4: окунь | G4: окунь | J4: окунь | L4: =K4*K4 -> 0 | M4: окунь | O4: =N4*N4 -> 0 | P4: окунь | S4: окунь | U4: =T4*T4 -> 0
A5: окунь | C5: =B5*B5 -> 0 | D5: окунь | G5: окунь | J5: окунь | L5: =K5*K5 -> 0 | M5: окунь | O5: =N5*N5 -> 0 | P5: окунь | S5: окунь | U5: =T5*T5 -> 0
A6: щука | C6: =B6*B6 -> 0 | D6: щука | G6: щука | H6: 52.5 | J6: щука | L6: =K6*K6 -> 0 | M6: щука | N6: 64 | O6: =N6*N6 -> 4096 | P6: щука | Q6: 53 | S6: щука | U6: =T6*T6 -> 0
A7: щука | C7: =B7*B7 -> 0 | D7: щука | G7: щука | H7: 57.5 | J7: щука | L7: =K7*K7 -> 0 | M7: щука | N7: 53 | O7: =N7*N7 -> 2809 | P7: щука | Q7: 58 | S7: щука | U7: =T7*T7 -> 0
A8: щука | C8: =B8*B8 -> 0 | D8: щука | G8: щука | J8: щука | L8: =K8*K8 -> 0 | M8: щука | N8: 61 | O8: =N8*N8 -> 3721 | P8: щука | S8: щука | U8: =T8*T8 -> 0
A9: судак | B9: 59 | C9: =B9*B9 -> 3481 | D9: судак | E9: 56.5 | G9: судак | J9: судак | L9: =K9*K9 -> 0 | M9: судак | O9: =N9*N9 -> 0 | P9: судак | Q9: 55 | S9: судак | U9: =T9*T9 -> 0
A10: судак | B10: 61 | C10: =B10*B10 -> 3721 | D10: судак | G10: судак | J10: судак | K10: 51.5 | L10: =K10*K10 -> 2652.25 | M10: судак | O10: =N10*N10 -> 0 | P10: судак | Q10: 71.5 | S10: судак | U10: =T10*T10 -> 0
A11: судак | C11: =B11*B11 -> 0 | D11: судак | G11: судак | J11: судак | L11: =K11*K11 -> 0 | M11: судак | O11: =N11*N11 -> 0 | P11: судак | S11: судак | U11: =T11*T11 -> 0
C12: =B12*B12 -> 0 | F12: =E12*E12 -> 0 | L12: =K12*K12 -> 0 | O12: =N12*N12 -> 0 | U12: =T12*T12 -> 0
C13: =B13*B13 -> 0 | F13: =E13*E13 -> 0 | L13: =K13*K13 -> 0 | O13: =N13*N13 -> 0 | R13: =Q13*Q13 -> 0 | U13: =T13*T13 -> 0
C14: =B14*B14 -> 0 | F14: =E14*E14 -> 0 | L14: =K14*K14 -> 0 | O14: =N14*N14 -> 0 | R14: =Q14*Q14 -> 0 | U14: =T14*T14 -> 0
C15: =B15*B15 -> 0 | F15: =E15*E15 -> 0 | L15: =K15*K15 -> 0 | O15: =N15*N15 -> 0 | R15: =Q15*Q15 -> 0 | U15: =T15*T15 -> 0
C16: =B16*B16 -> 0 | F16: =E16*E16 -> 0 | L16: =K16*K16 -> 0 | O16: =N16*N16 -> 0 | R16: =Q16*Q16 -> 0 | U16: =T16*T16 -> 0
C17: =B17*B17 -> 0 | F17: =E17*E17 -> 0 | I17: =H17*H17 -> 0 | L17: =K17*K17 -> 0 | O17: =N17*N17 -> 0 | R17: =Q17*Q17 -> 0 | U17: =T17*T17 -> 0
C18: =SUM(B3:B17) -> 120 | F18: =SUM(E3:E17) -> 56.5 | I18: =SUM(H3:H17) -> 110 | L18: =SUM(K3:K17) -> 51.5 | O18: =SUM(N3:N17) -> 178 | R18: =SUM(Q3:Q17) -> 237.5 | U18: =SUM(T3:T17) -> 0
A21: Пилюга Присада | D21: Чернухо Чехлов | G21: Менделев Менделева | J21: Шейнин Гапеев | M21: Плявго Коледа | P21: Кужовник Ковалев | S21: Шабловский Молош
A22: Вид | B22: Длина, см | C22: Баллы | D22: Вид | E22: Длина, см | F22: Баллы | G22: Вид | H22: Длина, см | I22: Баллы | J22: Вид | K22: Длина, см | L22: Баллы | M22: Вид | N22: Длина, см | O22: Баллы | P22: Вид | Q22: Длина, см | R22: Баллы | S22: Вид | T22: Длина, см | U22: Баллы
A23: окунь | C23: =B23*B23 -> 0 | D23: окунь | F23: =E23*E23 -> 0 | G23: окунь | I23: =H23*H23 -> 0 | J23: окунь | L23: =K23*K23 -> 0 | M23: окунь | N23: 28.5 | O23: =N23*N23 -> 812.25 | P23: окунь | R23: =Q23*Q23 -> 0 | S23: окунь | U23: =T23*T23 -> 0
A24: окунь | C24: =B24*B24 -> 0 | D24: окунь | F24: =E24*E24 -> 0 | G24: окунь | I24: =H24*H24 -> 0 | J24: окунь | L24: =K24*K24 -> 0 | M24: окунь | O24: =N24*N24 -> 0 | P24: окунь | R24: =Q24*Q24 -> 0 | S24: окунь | U24: =T24*T24 -> 0
A25: окунь | C25: =B25*B25 -> 0 | D25: окунь | F25: =E25*E25 -> 0 | G25: окунь | I25: =H25*H25 -> 0 | J25: окунь | L25: =K25*K25 -> 0 | M25: окунь | O25: =N25*N25 -> 0 | P25: окунь | R25: =Q25*Q25 -> 0 | S25: окунь | U25: =T25*T25 -> 0
A26: щука | C26: =B26*B26 -> 0 | D26: щука | F26: =E26*E26 -> 0 | G26: щука | I26: =H26*H26 -> 0 | J26: щука | L26: =K26*K26 -> 0 | M26: щука | N26: 62 | O26: =N26*N26 -> 3844 | P26: щука | R26: =Q26*Q26 -> 0 | S26: щука | U26: =T26*T26 -> 0
A27: щука | C27: =B27*B27 -> 0 | D27: щука | F27: =E27*E27 -> 0 | G27: щука | I27: =H27*H27 -> 0 | J27: щука | L27: =K27*K27 -> 0 | M27: щука | O27: =N27*N27 -> 0 | P27: щука | R27: =Q27*Q27 -> 0 | S27: щука | U27: =T27*T27 -> 0
A28: щука | C28: =B28*B28 -> 0 | D28: щука | F28: =E28*E28 -> 0 | G28: щука | I28: =H28*H28 -> 0 | J28: щука | L28: =K28*K28 -> 0 | M28: щука | O28: =N28*N28 -> 0 | P28: щука | R28: =Q28*Q28 -> 0 | S28: щука | U28: =T28*T28 -> 0
A29: судак | C29: =B29*B29 -> 0 | D29: судак | F29: =E29*E29 -> 0 | G29: судак | I29: =H29*H29 -> 0 | J29: судак | K29: 92 | L29: =K29*K29 -> 8464 | M29: судак | O29: =N29*N29 -> 0 | P29: судак | Q29: 72 | R29: =Q29*Q29 -> 5184 | S29: судак | U29: =T29*T29 -> 0
A30: судак | C30: =B30*B30 -> 0 | D30: судак | F30: =E30*E30 -> 0 | G30: судак | I30: =H30*H30 -> 0 | J30: судак | L30: =K30*K30 -> 0 | M30: судак | O30: =N30*N30 -> 0 | P30: судак | Q30: 47 | R30: =Q30*Q30 -> 2209 | S30: судак | U30: =T30*T30 -> 0
A31: судак | C31: =B31*B31 -> 0 | D31: судак | F31: =E31*E31 -> 0 | G31: судак | I31: =H31*H31 -> 0 | J31: судак | L31: =K31*K31 -> 0 | M31: судак | O31: =N31*N31 -> 0 | P31: судак | Q31: 73 | R31: =Q31*Q31 -> 5329 | S31: судак | U31: =T31*T31 -> 0
F32: =E32*E32 -> 0 | I32: =H32*H32 -> 0 | L32: =K32*K32 -> 0 | O32: =N32*N32 -> 0 | R32: =Q32*Q32 -> 0 | U32: =T32*T32 -> 0
C33: =B33*B33 -> 0 | F33: =E33*E33 -> 0 | I33: =H33*H33 -> 0 | L33: =K33*K33 -> 0 | O33: =N33*N33 -> 0 | R33: =Q33*Q33 -> 0 | U33: =T33*T33 -> 0
C34: =B34*B34 -> 0 | F34: =E34*E34 -> 0 | I34: =H34*H34 -> 0 | L34: =K34*K34 -> 0 | O34: =N34*N34 -> 0 | R34: =Q34*Q34 -> 0 | U34: =T34*T34 -> 0
C35: =B35*B35 -> 0 | F35: =E35*E35 -> 0 | I35: =H35*H35 -> 0 | L35: =K35*K35 -> 0 | O35: =N35*N35 -> 0 | R35: =Q35*Q35 -> 0 | U35: =T35*T35 -> 0
C36: =B36*B36 -> 0 | F36: =E36*E36 -> 0 | I36: =H36*H36 -> 0 | L36: =K36*K36 -> 0 | O36: =N36*N36 -> 0 | R36: =Q36*Q36 -> 0 | U36: =T36*T36 -> 0
C37: =B37*B37 -> 0 | F37: =E37*E37 -> 0 | I37: =H37*H37 -> 0 | L37: =K37*K37 -> 0 | O37: =N37*N37 -> 0 | R37: =Q37*Q37 -> 0 | U37: =T37*T37 -> 0
C38: =SUM(B23:B37) -> 0 | F38: =SUM(E23:E37) -> 0 | I38: =SUM(H23:H37) -> 0 | L38: =SUM(K23:K37) -> 92 | O38: =SUM(N23:N37) -> 90.5 | R38: =SUM(Q23:Q37) -> 192 | U38: =SUM(T23:T37) -> 0
A41: Орлович Плявго | D41: Юцевич Казинец | G41: Ребковец Филатов | J41: Мальцев Мальцев | M41: Чопко Чопко | P41: Мельников Силицкий
A42: Вид | B42: Длина, см | C42: Баллы | D42: Вид | E42: Длина, см | F42: Баллы | G42: Вид | H42: Длина, см | I42: Баллы | J42: Вид | K42: Длина, см | L42: Баллы | M42: Вид | N42: Длина, см | O42: Баллы | P42: Вид | Q42: Длина, см | R42: Баллы | S42: Вид | T42: Длина, см | U42: Баллы
A43: окунь | C43: =B43*B43 -> 0 | D43: окунь | G43: окунь | H43: 30 | I43: =H43 -> 30 | J43: окунь | M43: окунь | P43: окунь | R43: =Q43*Q43 -> 0 | U43: =T43*T43 -> 0
A44: окунь | D44: окунь | G44: окунь | I44: =H44 -> 0 | J44: окунь | M44: окунь | P44: окунь | R44: =Q44*Q44 -> 0 | U44: =T44*T44 -> 0
A45: окунь | C45: =B45*B45 -> 0 | D45: окунь | G45: окунь | I45: =H45 -> 0 | J45: окунь | M45: окунь | P45: окунь | R45: =Q45*Q45 -> 0 | U45: =T45*T45 -> 0
A46: щука | C46: =B46*B46 -> 0 | D46: щука | G46: щука | I46: =H46 -> 0 | J46: щука | M46: щука | P46: щука | U46: =T46*T46 -> 0
A47: щука | C47: =B47*B47 -> 0 | D47: щука | G47: щука | I47: =H47 -> 0 | J47: щука | M47: щука | P47: щука | R47: =Q47*Q47 -> 0 | U47: =T47*T47 -> 0
A48: щука | C48: =B48*B48 -> 0 | D48: щука | G48: щука | I48: =H48 -> 0 | J48: щука | M48: щука | P48: щука | R48: =Q48*Q48 -> 0 | U48: =T48*T48 -> 0
A49: судак | C49: =B49*B49 -> 0 | D49: судак | F49: =E49 -> 0 | G49: судак | I49: =H49 -> 0 | J49: судак | M49: судак | N49: 58.5 | P49: судак | Q49: 63.5 | R49: =Q49*Q49 -> 4032.25 | U49: =T49*T49 -> 0
A50: судак | C50: =B50*B50 -> 0 | D50: судак | F50: =E50 -> 0 | G50: судак | I50: =H50 -> 0 | J50: судак | M50: судак | N50: 61 | P50: судак | Q50: 78 | R50: =Q50*Q50 -> 6084 | U50: =T50*T50 -> 0
A51: судак | C51: =B51*B51 -> 0 | D51: судак | F51: =E51 -> 0 | G51: судак | I51: =H51 -> 0 | J51: судак | M51: судак | N51: 56.5 | P51: судак | R51: =Q51*Q51 -> 0 | U51: =T51*T51 -> 0
C52: =B52*B52 -> 0 | F52: =E52 -> 0 | I52: =H52 -> 0 | R52: =Q52*Q52 -> 0 | U52: =T52*T52 -> 0
C53: =B53*B53 -> 0 | F53: =E53 -> 0 | I53: =H53 -> 0 | R53: =Q53*Q53 -> 0 | U53: =T53*T53 -> 0
C54: =B54*B54 -> 0 | F54: =E54 -> 0 | I54: =H54 -> 0 | O54: =N54*N54 -> 0 | R54: =Q54*Q54 -> 0 | U54: =T54*T54 -> 0
C55: =B55*B55 -> 0 | F55: =E55 -> 0 | I55: =H55 -> 0 | O55: =N55*N55 -> 0 | R55: =Q55*Q55 -> 0 | U55: =T55*T55 -> 0
C56: =B56*B56 -> 0 | F56: =E56 -> 0 | I56: =H56 -> 0 | O56: =N56*N56 -> 0 | R56: =Q56*Q56 -> 0 | U56: =T56*T56 -> 0
C57: =B57*B57 -> 0 | F57: =E57 -> 0 | I57: =H57 -> 0 | L57: =K57*K57 -> 0 | O57: =N57*N57 -> 0 | R57: =Q57*Q57 -> 0 | U57: =T57*T57 -> 0
C58: =B58*B58 -> 0 | F58: =E58 -> 0 | I58: =H58 -> 0 | L58: =K58*K58 -> 0 | O58: =N58*N58 -> 0 | R58: =Q58*Q58 -> 0 | U58: =T58*T58 -> 0
C59: =B59*B59 -> 0 | F59: =E59 -> 0 | I59: =H59 -> 0 | L59: =K59*K59 -> 0 | O59: =N59*N59 -> 0 | R59: =Q59*Q59 -> 0 | U59: =T59*T59 -> 0
C60: =B60*B60 -> 0 | F60: =E60 -> 0 | I60: =H60 -> 0 | L60: =K60*K60 -> 0 | O60: =N60*N60 -> 0 | R60: =Q60*Q60 -> 0 | U60: =T60*T60 -> 0
C61: =SUM(B43:B60) -> 0 | F61: =SUM(E43:E60) -> 0 | I61: =SUM(H43:H57) -> 30 | L61: =SUM(K43:K60) -> 0 | O61: =SUM(N43:N60) -> 176 | R61: =SUM(Q43:Q60) -> 141.5 | U61: =SUM(U43:U60) -> 0
A64: Бычок Холодинский | D64: Гришкевич Чикита
A65: Вид | B65: Длина, см | C65: Баллы | D65: Вид | E65: Длина, см | F65: Баллы | G65: Вид | H65: Длина, см | I65: Баллы | J65: Вид | K65: Длина, см | L65: Баллы | M65: Вид | N65: Длина, см | O65: Баллы | P65: Вид | Q65: Длина, см | R65: Баллы | S65: Вид | T65: Длина, см | U65: Баллы
A66: окунь | D66: окунь | I66: =H66*H66 -> 0 | L66: =K66*K66 -> 0 | O66: =N66*N66 -> 0 | R66: =Q66*Q66 -> 0 | U66: =T66*T66 -> 0
A67: окунь | D67: окунь | L67: =K67*K67 -> 0 | O67: =N67*N67 -> 0 | R67: =Q67*Q67 -> 0 | U67: =T67*T67 -> 0
A68: окунь | D68: окунь | L68: =K68*K68 -> 0 | O68: =N68*N68 -> 0 | R68: =Q68*Q68 -> 0 | U68: =T68*T68 -> 0
A69: щука | D69: щука | L69: =K69*K69 -> 0 | O69: =N69*N69 -> 0 | R69: =Q69*Q69 -> 0 | U69: =T69*T69 -> 0
A70: щука | B70: 91 | D70: щука | L70: =K70*K70 -> 0 | O70: =N70*N70 -> 0 | R70: =Q70*Q70 -> 0 | U70: =T70*T70 -> 0
A71: щука | B71: 68 | D71: щука | L71: =K71*K71 -> 0 | O71: =N71*N71 -> 0 | R71: =Q71*Q71 -> 0 | U71: =T71*T71 -> 0
A72: судак | B72: 57 | D72: судак | E72: 51.5 | L72: =K72*K72 -> 0 | O72: =N72*N72 -> 0 | R72: =Q72*Q72 -> 0 | U72: =T72*T72 -> 0
A73: судак | B73: 87.5 | C73: =B73*B73 -> 7656.25 | D73: судак | E73: 57 | L73: =K73*K73 -> 0 | O73: =N73*N73 -> 0 | R73: =Q73*Q73 -> 0 | U73: =T73*T73 -> 0
A74: судак | B74: 76 | C74: =B74*B74 -> 5776 | D74: судак | E74: 57 | L74: =K74*K74 -> 0 | O74: =N74*N74 -> 0 | R74: =Q74*Q74 -> 0 | U74: =T74*T74 -> 0
C75: =B75*B75 -> 0 | L75: =K75*K75 -> 0 | O75: =N75*N75 -> 0 | R75: =Q75*Q75 -> 0 | U75: =T75*T75 -> 0
C76: =B76*B76 -> 0 | I76: =H76*H76 -> 0 | L76: =K76*K76 -> 0 | O76: =N76*N76 -> 0 | R76: =Q76*Q76 -> 0 | U76: =T76*T76 -> 0
C77: =B77*B77 -> 0 | I77: =H77*H77 -> 0 | L77: =K77*K77 -> 0 | O77: =N77*N77 -> 0 | R77: =Q77*Q77 -> 0 | U77: =T77*T77 -> 0
C78: =B78*B78 -> 0 | F78: =E78*E78 -> 0 | I78: =H78*H78 -> 0 | L78: =K78*K78 -> 0 | O78: =N78*N78 -> 0 | R78: =Q78*Q78 -> 0 | U78: =T78*T78 -> 0
C79: =B79*B79 -> 0 | F79: =E79*E79 -> 0 | I79: =H79*H79 -> 0 | L79: =K79*K79 -> 0 | O79: =N79*N79 -> 0 | R79: =Q79*Q79 -> 0 | U79: =T79*T79 -> 0
C80: =B80*B80 -> 0 | F80: =E80*E80 -> 0 | I80: =H80*H80 -> 0 | L80: =K80*K80 -> 0 | O80: =N80*N80 -> 0 | R80: =Q80*Q80 -> 0 | U80: =T80*T80 -> 0
C81: =B81*B81 -> 0 | F81: =E81*E81 -> 0 | I81: =H81*H81 -> 0 | L81: =K81*K81 -> 0 | O81: =N81*N81 -> 0 | R81: =Q81*Q81 -> 0 | U81: =T81*T81 -> 0
C82: =B82*B82 -> 0 | F82: =E82*E82 -> 0 | I82: =H82*H82 -> 0 | L82: =K82*K82 -> 0 | O82: =N82*N82 -> 0 | R82: =Q82*Q82 -> 0 | U82: =T82*T82 -> 0
C83: =B83*B83 -> 0 | F83: =E83*E83 -> 0 | I83: =H83*H83 -> 0 | L83: =K83*K83 -> 0 | O83: =N83*N83 -> 0 | R83: =Q83*Q83 -> 0 | U83: =T83*T83 -> 0
C84: =SUM(B66:B83) -> 379.5 | F84: =SUM(E66:E83) -> 165.5 | I84: =SUM(I66:I80) -> 0 | L84: =SUM(L66:L83) -> 0 | O84: =SUM(O66:O83) -> 0 | R84: =SUM(R66:R83) -> 0 | U84: =SUM(U66:U83) -> 0

Sheet 2-й тур
A1: Шарабайко Аноп | D1: Крупеньков Рулинский | G1: Кевра Годун | J1: Лютик Русанов | M1: Довгель Барсковский | P1: Ореховский Ореховская | S1: Можжерин Лихачев
A2: Вид | B2: Длина, см | C2: Баллы | D2: Вид | E2: Длина, см | F2: Баллы | G2: Вид | H2: Длина, см | I2: Баллы | J2: Вид | K2: Длина, см | L2: Баллы | M2: Вид | N2: Длина, см | O2: Баллы | P2: Вид | Q2: Длина, см | R2: Баллы | S2: Вид | T2: Длина, см | U2: Баллы
A3: окунь | C3: =B3*B3 -> 0 | D3: окунь | G3: окунь | J3: окунь | L3: =K3*K3 -> 0 | M3: окунь | P3: окунь | S3: окунь | U3: =T3*T3 -> 0
A4: окунь | C4: =B4*B4 -> 0 | D4: окунь | G4: окунь | J4: окунь | L4: =K4*K4 -> 0 | M4: окунь | O4: =N4*N4 -> 0 | P4: окунь | S4: окунь | U4: =T4*T4 -> 0
A5: окунь | C5: =B5*B5 -> 0 | D5: окунь | G5: окунь | J5: окунь | L5: =K5*K5 -> 0 | M5: окунь | O5: =N5*N5 -> 0 | P5: окунь | S5: окунь | U5: =T5*T5 -> 0
A6: щука | C6: =B6*B6 -> 0 | D6: щука | G6: щука | J6: щука | L6: =K6*K6 -> 0 | M6: щука | N6: 72.5 | O6: =N6*N6 -> 5256.25 | P6: щука | S6: щука | U6: =T6*T6 -> 0
A7: щука | C7: =B7*B7 -> 0 | D7: щука | G7: щука | J7: щука | L7: =K7*K7 -> 0 | M7: щука | N7: 54 | O7: =N7*N7 -> 2916 | P7: щука | S7: щука | U7: =T7*T7 -> 0
A8: щука | C8: =B8*B8 -> 0 | D8: щука | G8: щука | J8: щука | L8: =K8*K8 -> 0 | M8: щука | O8: =N8*N8 -> 0 | P8: щука | S8: щука | U8: =T8*T8 -> 0
A9: судак | B9: 75 | C9: =B9*B9 -> 5625 | D9: судак | E9: 56 | G9: судак | J9: судак | L9: =K9*K9 -> 0 | M9: судак | O9: =N9*N9 -> 0 | P9: судак | S9: судак | U9: =T9*T9 -> 0
A10: судак | B10: 70 | C10: =B10*B10 -> 4900 | D10: судак | E10: 57 | G10: судак | J10: судак | L10: =K10*K10 -> 0 | M10: судак | O10: =N10*N10 -> 0 | P10: судак | S10: судак | U10: =T10*T10 -> 0
A11: судак | B11: 62 | C11: =B11*B11 -> 3844 | D11: судак | G11: судак | J11: судак | L11: =K11*K11 -> 0 | M11: судак | O11: =N11*N11 -> 0 | P11: судак | S11: судак | U11: =T11*T11 -> 0
C12: =B12*B12 -> 0 | F12: =E12*E12 -> 0 | L12: =K12*K12 -> 0 | O12: =N12*N12 -> 0 | U12: =T12*T12 -> 0
C13: =B13*B13 -> 0 | F13: =E13*E13 -> 0 | L13: =K13*K13 -> 0 | O13: =N13*N13 -> 0 | R13: =Q13*Q13 -> 0 | U13: =T13*T13 -> 0
C14: =B14*B14 -> 0 | F14: =E14*E14 -> 0 | L14: =K14*K14 -> 0 | O14: =N14*N14 -> 0 | R14: =Q14*Q14 -> 0 | U14: =T14*T14 -> 0
C15: =B15*B15 -> 0 | F15: =E15*E15 -> 0 | L15: =K15*K15 -> 0 | O15: =N15*N15 -> 0 | R15: =Q15*Q15 -> 0 | U15: =T15*T15 -> 0
C16: =B16*B16 -> 0 | F16: =E16*E16 -> 0 | L16: =K16*K16 -> 0 | O16: =N16*N16 -> 0 | R16: =Q16*Q16 -> 0 | U16: =T16*T16 -> 0
C17: =B17*B17 -> 0 | F17: =E17*E17 -> 0 | I17: =H17*H17 -> 0 | L17: =K17*K17 -> 0 | O17: =N17*N17 -> 0 | R17: =Q17*Q17 -> 0 | U17: =T17*T17 -> 0
C18: =SUM(B3:B17) -> 207 | F18: =SUM(E3:E17) -> 113 | I18: =SUM(H3:H17) -> 0 | L18: =SUM(K3:K17) -> 0 | O18: =SUM(N3:N17) -> 126.5 | R18: =SUM(Q3:Q17) -> 0 | U18: =SUM(T3:T17) -> 0
A21: Пилюга Присада | D21: Чернухо Чехлов | G21: Менделев Менделева | J21: Шейнин Гапеев | M21: Плявго Коледа | P21: Кужовник Ковалев | S21: Шабловский Молош
A22: Вид | B22: Длина, см | C22: Баллы | D22: Вид | E22: Длина, см | F22: Баллы | G22: Вид | H22: Длина, см | I22: Баллы | J22: Вид | K22: Длина, см | L22: Баллы | M22: Вид | N22: Длина, см | O22: Баллы | P22: Вид | Q22: Длина, см | R22: Баллы | S22: Вид | T22: Длина, см | U22: Баллы
A23: окунь | C23: =B23*B23 -> 0 | D23: окунь | F23: =E23*E23 -> 0 | G23: окунь | I23: =H23*H23 -> 0 | J23: окунь | L23: =K23*K23 -> 0 | M23: окунь | N23: 28.5 | O23: =N23*N23 -> 812.25 | P23: окунь | R23: =Q23*Q23 -> 0 | S23: окунь | U23: =T23*T23 -> 0
A24: окунь | C24: =B24*B24 -> 0 | D24: окунь | F24: =E24*E24 -> 0 | G24: окунь | I24: =H24*H24 -> 0 | J24: окунь | L24: =K24*K24 -> 0 | M24: окунь | O24: =N24*N24 -> 0 | P24: окунь | R24: =Q24*Q24 -> 0 | S24: окунь | U24: =T24*T24 -> 0
A25: окунь | C25: =B25*B25 -> 0 | D25: окунь | F25: =E25*E25 -> 0 | G25: окунь | I25: =H25*H25 -> 0 | J25: окунь | L25: =K25*K25 -> 0 | M25: окунь | O25: =N25*N25 -> 0 | P25: окунь | R25: =Q25*Q25 -> 0 | S25: окунь | U25: =T25*T25 -> 0
A26: щука | C26: =B26*B26 -> 0 | D26: щука | F26: =E26*E26 -> 0 | G26: щука | I26: =H26*H26 -> 0 | J26: щука | L26: =K26*K26 -> 0 | M26: щука | O26: =N26*N26 -> 0 | P26: щука | R26: =Q26*Q26 -> 0 | S26: щука | U26: =T26*T26 -> 0
A27: щука | C27: =B27*B27 -> 0 | D27: щука | F27: =E27*E27 -> 0 | G27: щука | I27: =H27*H27 -> 0 | J27: щука | L27: =K27*K27 -> 0 | M27: щука | O27: =N27*N27 -> 0 | P27: щука | R27: =Q27*Q27 -> 0 | S27: щука | U27: =T27*T27 -> 0
A28: щука | C28: =B28*B28 -> 0 | D28: щука | F28: =E28*E28 -> 0 | G28: щука | I28: =H28*H28 -> 0 | J28: щука | L28: =K28*K28 -> 0 | M28: щука | O28: =N28*N28 -> 0 | P28: щука | R28: =Q28*Q28 -> 0 | S28: щука | U28: =T28*T28 -> 0
A29: судак | C29: =B29*B29 -> 0 | D29: судак | F29: =E29*E29 -> 0 | G29: судак | I29: =H29*H29 -> 0 | J29: судак | K29: 53.5 | L29: =K29*K29 -> 2862.25 | M29: судак | N29: 57.5 | O29: =N29*N29 -> 3306.25 | P29: судак | Q29: 67 | R29: =Q29*Q29 -> 4489 | S29: судак | U29: =T29*T29 -> 0
A30: судак | C30: =B30*B30 -> 0 | D30: судак | F30: =E30*E30 -> 0 | G30: судак | I30: =H30*H30 -> 0 | J30: судак | L30: =K30*K30 -> 0 | M30: судак | N30: 56.5 | O30: =N30*N30 -> 3192.25 | P30: судак | Q30: 67.5 | R30: =Q30*Q30 -> 4556.25 | S30: судак | U30: =T30*T30 -> 0
A31: судак | C31: =B31*B31 -> 0 | D31: судак | F31: =E31*E31 -> 0 | G31: судак | I31: =H31*H31 -> 0 | J31: судак | L31: =K31*K31 -> 0 | M31: судак | N31: 60 | O31: =N31*N31 -> 3600 | P31: судак | R31: =Q31*Q31 -> 0 | S31: судак | U31: =T31*T31 -> 0
F32: =E32*E32 -> 0 | I32: =H32*H32 -> 0 | L32: =K32*K32 -> 0 | O32: =N32*N32 -> 0 | R32: =Q32*Q32 -> 0 | U32: =T32*T32 -> 0
C33: =B33*B33 -> 0 | F33: =E33*E33 -> 0 | I33: =H33*H33 -> 0 | L33: =K33*K33 -> 0 | O33: =N33*N33 -> 0 | R33: =Q33*Q33 -> 0 | U33: =T33*T33 -> 0
C34: =B34*B34 -> 0 | F34: =E34*E34 -> 0 | I34: =H34*H34 -> 0 | L34: =K34*K34 -> 0 | O34: =N34*N34 -> 0 | R34: =Q34*Q34 -> 0 | U34: =T34*T34 -> 0
C35: =B35*B35 -> 0 | F35: =E35*E35 -> 0 | I35: =H35*H35 -> 0 | L35: =K35*K35 -> 0 | O35: =N35*N35 -> 0 | R35: =Q35*Q35 -> 0 | U35: =T35*T35 -> 0
C36: =B36*B36 -> 0 | F36: =E36*E36 -> 0 | I36: =H36*H36 -> 0 | L36: =K36*K36 -> 0 | O36: =N36*N36 -> 0 | R36: =Q36*Q36 -> 0 | U36: =T36*T36 -> 0
C37: =B37*B37 -> 0 | F37: =E37*E37 -> 0 | I37: =H37*H37 -> 0 | L37: =K37*K37 -> 0 | O37: =N37*N37 -> 0 | R37: =Q37*Q37 -> 0 | U37: =T37*T37 -> 0
C38: =SUM(B23:B37) -> 0 | F38: =SUM(E23:E37) -> 0 | I38: =SUM(H23:H37) -> 0 | L38: =SUM(K23:K37) -> 53.5 | O38: =SUM(N23:N37) -> 202.5 | R38: =SUM(Q23:Q37) -> 134.5 | U38: =SUM(T23:T37) -> 0
A41: Орлович Плявго | D41: Юцевич Казинец | G41: Ребковец Филатов | J41: Мальцев Мальцев | M41: Чопко Чопко | P41: Мельников Силицкий
A42: Вид | B42: Длина, см | C42: Баллы | D42: Вид | E42: Длина, см | F42: Баллы | G42: Вид | H42: Длина, см | I42: Баллы | J42: Вид | K42: Длина, см | L42: Баллы | M42: Вид | N42: Длина, см | O42: Баллы | P42: Вид | Q42: Длина, см | R42: Баллы | S42: Вид | T42: Длина, см | U42: Баллы
A43: окунь | C43: =B43*B43 -> 0 | D43: окунь | G43: окунь | I43: =H43 -> 0 | J43: окунь | M43: окунь | P43: окунь | R43: =Q43*Q43 -> 0 | U43: =T43*T43 -> 0
A44: окунь | D44: окунь | G44: окунь | I44: =H44 -> 0 | J44: окунь | M44: окунь | P44: окунь | R44: =Q44*Q44 -> 0 | U44: =T44*T44 -> 0
A45: окунь | C45: =B45*B45 -> 0 | D45: окунь | G45: окунь | I45: =H45 -> 0 | J45: окунь | M45: окунь | P45: окунь | R45: =Q45*Q45 -> 0 | U45: =T45*T45 -> 0
A46: щука | C46: =B46*B46 -> 0 | D46: щука | G46: щука | I46: =H46 -> 0 | J46: щука | M46: щука | P46: щука | U46: =T46*T46 -> 0
A47: щука | C47: =B47*B47 -> 0 | D47: щука | G47: щука | I47: =H47 -> 0 | J47: щука | M47: щука | P47: щука | R47: =Q47*Q47 -> 0 | U47: =T47*T47 -> 0
A48: щука | C48: =B48*B48 -> 0 | D48: щука | G48: щука | I48: =H48 -> 0 | J48: щука | M48: щука | P48: щука | R48: =Q48*Q48 -> 0 | U48: =T48*T48 -> 0
A49: судак | C49: =B49*B49 -> 0 | D49: судак | F49: =E49 -> 0 | G49: судак | I49: =H49 -> 0 | J49: судак | M49: судак | P49: судак | Q49: 65 | R49: =Q49*Q49 -> 4225 | U49: =T49*T49 -> 0
A50: судак | C50: =B50*B50 -> 0 | D50: судак | F50: =E50 -> 0 | G50: судак | I50: =H50 -> 0 | J50: судак | M50: судак | P50: судак | Q50: 58.5 | R50: =Q50*Q50 -> 3422.25 | U50: =T50*T50 -> 0
A51: судак | C51: =B51*B51 -> 0 | D51: судак | F51: =E51 -> 0 | G51: судак | I51: =H51 -> 0 | J51: судак | M51: судак | N51: 76 | P51: судак | Q51: 58 | R51: =Q51*Q51 -> 3364 | U51: =T51*T51 -> 0
C52: =B52*B52 -> 0 | F52: =E52 -> 0 | I52: =H52 -> 0 | R52: =Q52*Q52 -> 0 | U52: =T52*T52 -> 0
C53: =B53*B53 -> 0 | F53: =E53 -> 0 | I53: =H53 -> 0 | R53: =Q53*Q53 -> 0 | U53: =T53*T53 -> 0
C54: =B54*B54 -> 0 | F54: =E54 -> 0 | I54: =H54 -> 0 | O54: =N54*N54 -> 0 | R54: =Q54*Q54 -> 0 | U54: =T54*T54 -> 0
C55: =B55*B55 -> 0 | F55: =E55 -> 0 | I55: =H55 -> 0 | O55: =N55*N55 -> 0 | R55: =Q55*Q55 -> 0 | U55: =T55*T55 -> 0
C56: =B56*B56 -> 0 | F56: =E56 -> 0 | I56: =H56 -> 0 | O56: =N56*N56 -> 0 | R56: =Q56*Q56 -> 0 | U56: =T56*T56 -> 0
C57: =B57*B57 -> 0 | F57: =E57 -> 0 | I57: =H57 -> 0 | L57: =K57*K57 -> 0 | O57: =N57*N57 -> 0 | R57: =Q57*Q57 -> 0 | U57: =T57*T57 -> 0
C58: =B58*B58 -> 0 | F58: =E58 -> 0 | I58: =H58 -> 0 | L58: =K58*K58 -> 0 | O58: =N58*N58 -> 0 | R58: =Q58*Q58 -> 0 | U58: =T58*T58 -> 0
C59: =B59*B59 -> 0 | F59: =E59 -> 0 | I59: =H59 -> 0 | L59: =K59*K59 -> 0 | O59: =N59*N59 -> 0 | R59: =Q59*Q59 -> 0 | U59: =T59*T59 -> 0
C60: =B60*B60 -> 0 | F60: =E60 -> 0 | I60: =H60 -> 0 | L60: =K60*K60 -> 0 | O60: =N60*N60 -> 0 | R60: =Q60*Q60 -> 0 | U60: =T60*T60 -> 0
C61: =SUM(B43:B60) -> 0 | F61: =SUM(E43:E60) -> 0 | I61: =SUM(H43:H57) -> 0 | L61: =SUM(K43:K60) -> 0 | O61: =SUM(N43:N60) -> 76 | R61: =SUM(Q43:Q60) -> 181.5 | U61: =SUM(U43:U60) -> 0
A64: Бычок Холодинский | D64: Гришкевич Чикита
A65: Вид | B65: Длина, см | C65: Баллы | D65: Вид | E65: Длина, см | F65: Баллы | G65: Вид | H65: Длина, см | I65: Баллы | J65: Вид | K65: Длина, см | L65: Баллы | M65: Вид | N65: Длина, см | O65: Баллы | P65: Вид | Q65: Длина, см | R65: Баллы | S65: Вид | T65: Длина, см | U65: Баллы
A66: окунь | D66: окунь | I66: =H66*H66 -> 0 | L66: =K66*K66 -> 0 | O66: =N66*N66 -> 0 | R66: =Q66*Q66 -> 0 | U66: =T66*T66 -> 0
A67: окунь | D67: окунь | L67: =K67*K67 -> 0 | O67: =N67*N67 -> 0 | R67: =Q67*Q67 -> 0 | U67: =T67*T67 -> 0
A68: окунь | D68: окунь | L68: =K68*K68 -> 0 | O68: =N68*N68 -> 0 | R68: =Q68*Q68 -> 0 | U68: =T68*T68 -> 0
A69: щука | D69: щука | L69: =K69*K69 -> 0 | O69: =N69*N69 -> 0 | R69: =Q69*Q69 -> 0 | U69: =T69*T69 -> 0
A70: щука | D70: щука | L70: =K70*K70 -> 0 | O70: =N70*N70 -> 0 | R70: =Q70*Q70 -> 0 | U70: =T70*T70 -> 0
A71: щука | B71: 54 | D71: щука | L71: =K71*K71 -> 0 | O71: =N71*N71 -> 0 | R71: =Q71*Q71 -> 0 | U71: =T71*T71 -> 0
A72: судак | B72: 61 | D72: судак | E72: 68.5 | L72: =K72*K72 -> 0 | O72: =N72*N72 -> 0 | R72: =Q72*Q72 -> 0 | U72: =T72*T72 -> 0
A73: судак | B73: 85.5 | C73: =B73*B73 -> 7310.25 | D73: судак | E73: 61 | L73: =K73*K73 -> 0 | O73: =N73*N73 -> 0 | R73: =Q73*Q73 -> 0 | U73: =T73*T73 -> 0
A74: судак | B74: 67.5 | C74: =B74*B74 -> 4556.25 | D74: судак | E74: 57 | L74: =K74*K74 -> 0 | O74: =N74*N74 -> 0 | R74: =Q74*Q74 -> 0 | U74: =T74*T74 -> 0
C75: =B75*B75 -> 0 | L75: =K75*K75 -> 0 | O75: =N75*N75 -> 0 | R75: =Q75*Q75 -> 0 | U75: =T75*T75 -> 0
C76: =B76*B76 -> 0 | I76: =H76*H76 -> 0 | L76: =K76*K76 -> 0 | O76: =N76*N76 -> 0 | R76: =Q76*Q76 -> 0 | U76: =T76*T76 -> 0
C77: =B77*B77 -> 0 | I77: =H77*H77 -> 0 | L77: =K77*K77 -> 0 | O77: =N77*N77 -> 0 | R77: =Q77*Q77 -> 0 | U77: =T77*T77 -> 0
C78: =B78*B78 -> 0 | F78: =E78*E78 -> 0 | I78: =H78*H78 -> 0 | L78: =K78*K78 -> 0 | O78: =N78*N78 -> 0 | R78: =Q78*Q78 -> 0 | U78: =T78*T78 -> 0
C79: =B79*B79 -> 0 | F79: =E79*E79 -> 0 | I79: =H79*H79 -> 0 | L79: =K79*K79 -> 0 | O79: =N79*N79 -> 0 | R79: =Q79*Q79 -> 0 | U79: =T79*T79 -> 0
C80: =B80*B80 -> 0 | F80: =E80*E80 -> 0 | I80: =H80*H80 -> 0 | L80: =K80*K80 -> 0 | O80: =N80*N80 -> 0 | R80: =Q80*Q80 -> 0 | U80: =T80*T80 -> 0
C81: =B81*B81 -> 0 | F81: =E81*E81 -> 0 | I81: =H81*H81 -> 0 | L81: =K81*K81 -> 0 | O81: =N81*N81 -> 0 | R81: =Q81*Q81 -> 0 | U81: =T81*T81 -> 0
C82: =B82*B82 -> 0 | F82: =E82*E82 -> 0 | I82: =H82*H82 -> 0 | L82: =K82*K82 -> 0 | O82: =N82*N82 -> 0 | R82: =Q82*Q82 -> 0 | U82: =T82*T82 -> 0
C83: =B83*B83 -> 0 | F83: =E83*E83 -> 0 | I83: =H83*H83 -> 0 | L83: =K83*K83 -> 0 | O83: =N83*N83 -> 0 | R83: =Q83*Q83 -> 0 | U83: =T83*T83 -> 0
C84: =SUM(B66:B83) -> 268 | F84: =SUM(E66:E83) -> 186.5 | I84: =SUM(I66:I80) -> 0 | L84: =SUM(L66:L83) -> 0 | O84: =SUM(O66:O83) -> 0 | R84: =SUM(R66:R83) -> 0 | U84: =SUM(U66:U83) -> 0

Sheet 3-й тур
A1: Боровский Веснянко | D1: Смолко Смолко | G1: Щемер Крат | J1: Чернякевич Телюков | M1: Гришкевич Чикита | P1: Турков Ворон | S1: Можжерин Лихачев
A2: Вид | B2: Длина, см | C2: Баллы | D2: Вид | E2: Длина, см | F2: Баллы | G2: Вид | H2: Длина, см | I2: Баллы | J2: Вид | K2: Длина, см | L2: Баллы | M2: Вид | N2: Длина, см | O2: Баллы | P2: Вид | Q2: Длина, см | R2: Баллы | S2: Вид | T2: Длина, см | U2: Баллы
A3: щука | B3: 52 | C3: =B3*B3 -> 2704 | D3: щука | E3: 50 | F3: =E3*E3 -> 2500 | G3: щука | H3: 81 | I3: =H3*H3 -> 6561 | L3: =K3*K3 -> 0 | M3: щука | N3: 74 | O3: =N3*N3 -> 5476 | P3: щука | Q3: 101 | R3: =Q3*Q3 -> 10201 | S3: щука | T3: 68 | U3: =T3*T3 -> 4624
C4: =B4*B4 -> 0 | D4: щука | E4: 62 | F4: =E4*E4 -> 3844 | I4: =H4*H4 -> 0 | L4: =K4*K4 -> 0 | M4: щука | N4: 72 | O4: =N4*N4 -> 5184 | P4: щука | Q4: 91 | R4: =Q4*Q4 -> 8281 | S4: щука | T4: 52 | U4: =T4*T4 -> 2704
C5: =B5*B5 -> 0 | F5: =E5*E5 -> 0 | I5: =H5*H5 -> 0 | L5: =K5*K5 -> 0 | M5: щука | N5: 50.5 | O5: =N5*N5 -> 2550.25 | R5: =Q5*Q5 -> 0 | S5: щука | T5: 52.5 | U5: =T5*T5 -> 2756.25
C6: =B6*B6 -> 0 | F6: =E6*E6 -> 0 | I6: =H6*H6 -> 0 | L6: =K6*K6 -> 0 | M6: щука | N6: 93 | O6: =N6*N6 -> 8649 | R6: =Q6*Q6 -> 0 | S6: щука | T6: 73 | U6: =T6*T6 -> 5329
C7: =B7*B7 -> 0 | F7: =E7*E7 -> 0 | I7: =H7*H7 -> 0 | L7: =K7*K7 -> 0 | O7: =N7*N7 -> 0 | R7: =Q7*Q7 -> 0 | S7: щука | T7: 53.5 | U7: =T7*T7 -> 2862.25
C8: =B8*B8 -> 0 | F8: =E8*E8 -> 0 | I8: =H8*H8 -> 0 | L8: =K8*K8 -> 0 | O8: =N8*N8 -> 0 | R8: =Q8*Q8 -> 0 | U8: =T8*T8 -> 0
C9: =B9*B9 -> 0 | F9: =E9*E9 -> 0 | I9: =H9*H9 -> 0 | L9: =K9*K9 -> 0 | O9: =N9*N9 -> 0 | R9: =Q9*Q9 -> 0 | U9: =T9*T9 -> 0
C10: =B10*B10 -> 0 | F10: =E10*E10 -> 0 | I10: =H10*H10 -> 0 | L10: =K10*K10 -> 0 | O10: =N10*N10 -> 0 | R10: =Q10*Q10 -> 0 | U10: =T10*T10 -> 0
C11: =B11*B11 -> 0 | F11: =E11*E11 -> 0 | I11: =H11*H11 -> 0 | L11: =K11*K11 -> 0 | O11: =N11*N11 -> 0 | R11: =Q11*Q11 -> 0 | U11: =T11*T11 -> 0
C12: =B12*B12 -> 0 | F12: =E12*E12 -> 0 | I12: =H12*H12 -> 0 | L12: =K12*K12 -> 0 | O12: =N12*N12 -> 0 | R12: =Q12*Q12 -> 0 | U12: =T12*T12 -> 0
C13: =B13*B13 -> 0 | F13: =E13*E13 -> 0 | I13: =H13*H13 -> 0 | L13: =K13*K13 -> 0 | O13: =N13*N13 -> 0 | R13: =Q13*Q13 -> 0 | U13: =T13*T13 -> 0
C14: =B14*B14 -> 0 | F14: =E14*E14 -> 0 | I14: =H14*H14 -> 0 | L14: =K14*K14 -> 0 | O14: =N14*N14 -> 0 | R14: =Q14*Q14 -> 0 | U14: =T14*T14 -> 0
C15: =B15*B15 -> 0 | F15: =E15*E15 -> 0 | I15: =H15*H15 -> 0 | L15: =K15*K15 -> 0 | O15: =N15*N15 -> 0 | R15: =Q15*Q15 -> 0 | U15: =T15*T15 -> 0
C16: =B16*B16 -> 0 | F16: =E16*E16 -> 0 | I16: =H16*H16 -> 0 | L16: =K16*K16 -> 0 | O16: =N16*N16 -> 0 | R16: =Q16*Q16 -> 0 | U16: =T16*T16 -> 0
C17: =B17*B17 -> 0 | F17: =E17*E17 -> 0 | I17: =H17*H17 -> 0 | L17: =K17*K17 -> 0 | O17: =N17*N17 -> 0 | R17: =Q17*Q17 -> 0 | U17: =T17*T17 -> 0
C18: =SUM(C3:C17) -> 2704 | F18: =SUM(F3:F17) -> 6344 | I18: =SUM(I3:I17) -> 6561 | L18: =SUM(L3:L17) -> 0 | O18: =SUM(O3:O17) -> 21859.25 | R18: =SUM(R3:R17) -> 18482 | U18: =SUM(U3:U17) -> 18275.5
A21: Шевчук Римашевский | D21: Юцевич Юцевич | G21: Менделев Менделева | J21: Палагин Пархоменко | M21: Дудко Ю./Дудко Ю. | P21: Шабловский Кужовник | S21: Горбач Пырх
A22: Вид | B22: Длина, см | C22: Баллы | D22: Вид | E22: Длина, см | F22: Баллы | G22: Вид | H22: Длина, см | I22: Баллы | J22: Вид | K22: Длина, см | L22: Баллы | M22: Вид | N22: Длина, см | O22: Баллы | P22: Вид | Q22: Длина, см | R22: Баллы | S22: Вид | T22: Длина, см | U22: Баллы
A23: щука | B23: 76 | C23: =B23*B23 -> 5776 | D23: щука | E23: 63.5 | F23: =E23*E23 -> 4032.25 | G23: щука | H23: 53 | I23: =H23*H23 -> 2809 | J23: щука | K23: 51 | L23: =K23*K23 -> 2601 | M23: щука | N23: 66.5 | O23: =N23*N23 -> 4422.25 | P23: щука | Q23: 74.5 | R23: =Q23*Q23 -> 5550.25 | S23: щука | T23: 50.5 | U23: =T23*T23 -> 2550.25
A24: щука | B24: 69 | C24: =B24*B24 -> 4761 | D24: щука | E24: 68.5 | F24: =E24*E24 -> 4692.25 | G24: щука | H24: 67.5 | I24: =H24*H24 -> 4556.25 | J24: щука | K24: 54.5 | L24: =K24*K24 -> 2970.25 | M24: щука | N24: 76 | O24: =N24*N24 -> 5776 | P24: щука | Q24: 61 | R24: =Q24*Q24 -> 3721 | S24: щука | T24: 51 | U24: =T24*T24 -> 2601
A25: щука | B25: 81 | C25: =B25*B25 -> 6561 | D25: щука | E25: 60.5 | F25: =E25*E25 -> 3660.25 | G25: щука | H25: 59 | I25: =H25*H25 -> 3481 | J25: щука | K25: 57 | L25: =K25*K25 -> 3249 | M25: щука | N25: 51 | O25: =N25*N25 -> 2601 | R25: =Q25*Q25 -> 0 | U25: =T25*T25 -> 0
A26: щука | B26: 58.5 | C26: =B26*B26 -> 3422.25 | D26: окунь | E26: 34 | F26: =E26*E26 -> 1156 | G26: щука | H26: 50 | I26: =H26*H26 -> 2500 | J26: щука | K26: 50 | L26: =K26*K26 -> 2500 | O26: =N26*N26 -> 0 | R26: =Q26*Q26 -> 0 | U26: =T26*T26 -> 0
A27: щука | B27: 58.5 | C27: =B27*B27 -> 3422.25 | D27: щука | E27: 50 | F27: =E27*E27 -> 2500 | I27: =H27*H27 -> 0 | J27: щука | K27: 52 | L27: =K27*K27 -> 2704 | O27: =N27*N27 -> 0 | R27: =Q27*Q27 -> 0 | U27: =T27*T27 -> 0
A28: щука | B28: 62 | C28: =B28*B28 -> 3844 | D28: щука | E28: 61.5 | F28: =E28*E28 -> 3782.25 | I28: =H28*H28 -> 0 | J28: щука | K28: 80 | L28: =K28*K28 -> 6400 | O28: =N28*N28 -> 0 | R28: =Q28*Q28 -> 0 | U28: =T28*T28 -> 0
A29: щука | B29: 59 | C29: =B29*B29 -> 3481 | D29: щука | E29: 82 | F29: =E29*E29 -> 6724 | I29: =H29*H29 -> 0 | J29: щука | K29: 58.5 | L29: =K29*K29 -> 3422.25 | O29: =N29*N29 -> 0 | R29: =Q29*Q29 -> 0 | U29: =T29*T29 -> 0
C30: =B30*B30 -> 0 | F30: =E30*E30 -> 0 | I30: =H30*H30 -> 0 | L30: =K30*K30 -> 0 | O30: =N30*N30 -> 0 | R30: =Q30*Q30 -> 0 | U30: =T30*T30 -> 0
C31: =B31*B31 -> 0 | F31: =E31*E31 -> 0 | I31: =H31*H31 -> 0 | L31: =K31*K31 -> 0 | O31: =N31*N31 -> 0 | R31: =Q31*Q31 -> 0 | U31: =T31*T31 -> 0
C32: =B32*B32 -> 0 | F32: =E32*E32 -> 0 | I32: =H32*H32 -> 0 | L32: =K32*K32 -> 0 | O32: =N32*N32 -> 0 | R32: =Q32*Q32 -> 0 | U32: =T32*T32 -> 0
C33: =B33*B33 -> 0 | F33: =E33*E33 -> 0 | I33: =H33*H33 -> 0 | L33: =K33*K33 -> 0 | O33: =N33*N33 -> 0 | R33: =Q33*Q33 -> 0 | U33: =T33*T33 -> 0
C34: =B34*B34 -> 0 | F34: =E34*E34 -> 0 | I34: =H34*H34 -> 0 | L34: =K34*K34 -> 0 | O34: =N34*N34 -> 0 | R34: =Q34*Q34 -> 0 | U34: =T34*T34 -> 0
C35: =B35*B35 -> 0 | F35: =E35*E35 -> 0 | I35: =H35*H35 -> 0 | L35: =K35*K35 -> 0 | O35: =N35*N35 -> 0 | R35: =Q35*Q35 -> 0 | U35: =T35*T35 -> 0
C36: =B36*B36 -> 0 | F36: =E36*E36 -> 0 | I36: =H36*H36 -> 0 | L36: =K36*K36 -> 0 | O36: =N36*N36 -> 0 | R36: =Q36*Q36 -> 0 | U36: =T36*T36 -> 0
C37: =B37*B37 -> 0 | F37: =E37*E37 -> 0 | I37: =H37*H37 -> 0 | L37: =K37*K37 -> 0 | O37: =N37*N37 -> 0 | R37: =Q37*Q37 -> 0 | U37: =T37*T37 -> 0
C38: =SUM(C23:C37) -> 31267.5 | F38: =SUM(F23:F37) -> 26547 | I38: =SUM(I23:I37) -> 13346.25 | L38: =SUM(L23:L37) -> 23846.5 | O38: =SUM(O23:O37) -> 12799.25 | R38: =SUM(R23:R37) -> 9271.25 | U38: =SUM(U23:U37) -> 5151.25
A41: Иокша Мехович | D41: Юцевич Казинец | G41: Чернухо Пыжов | J41: Юденков Якушко | M41: Довгель Барковский | P41: Шакур Шакур
A42: Вид | B42: Длина, см | C42: Баллы | D42: Вид | E42: Длина, см | F42: Баллы | G42: Вид | H42: Длина, см | I42: Баллы | J42: Вид | K42: Длина, см | L42: Баллы | M42: Вид | N42: Длина, см | O42: Баллы | P42: Вид | Q42: Длина, см | R42: Баллы | S42: Вид | T42: Длина, см | U42: Баллы
A43: щука | B43: 94 | C43: =B43*B43 -> 8836 | D43: щука | E43: 78.5 | F43: =E43*E43 -> 6162.25 | G43: щука | H43: 52.5 | I43: =H43*H43 -> 2756.25 | J43: щука | K43: 91 | L43: =K43*K43 -> 8281 | M43: щука | N43: 50 | O43: =N43*N43 -> 2500 | P43: щука | Q43: 52 | R43: =Q43*Q43 -> 2704 | U43: =T43*T43 -> 0
A44: щука | B44: 93 | C44: =B44*B44 -> 8649 | D44: щука | E44: 72 | F44: =E44*E44 -> 5184 | G44: щука | H44: 58 | I44: =H44*H44 -> 3364 | J44: щука | K44: 63 | L44: =K44*K44 -> 3969 | M44: щука | N44: 62.5 | O44: =N44*N44 -> 3906.25 | P44: окунь | Q44: 38.5 | R44: =Q44*Q44 -> 1482.25 | U44: =T44*T44 -> 0
A45: щука | B45: 55.5 | C45: =B45*B45 -> 3080.25 | D45: щука | E45: 70 | F45: =E45*E45 -> 4900 | G45: щука | H45: 50 | I45: =H45*H45 -> 2500 | J45: щука | K45: 59.5 | L45: =K45*K45 -> 3540.25 | M45: щука | N45: 66 | O45: =N45*N45 -> 4356 | P45: щука | Q45: 75.5 | R45: =Q45*Q45 -> 5700.25 | U45: =T45*T45 -> 0
C46: =B46*B46 -> 0 | F46: =E46*E46 -> 0 | G46: щука | H46: 59.5 | I46: =H46*H46 -> 3540.25 | J46: щука | K46: 75.5 | L46: =K46*K46 -> 5700.25 | M46: щука | N46: 54 | O46: =N46*N46 -> 2916 | P46: щука | Q46: 50 | R46: =Q46*Q46 -> 2500 | U46: =T46*T46 -> 0
C47: =B47*B47 -> 0 | F47: =E47*E47 -> 0 | G47: щука | H47: 68 | I47: =H47*H47 -> 4624 | J47: щука | K47: 64 | L47: =K47*K47 -> 4096 | O47: =N47*N47 -> 0 | P47: щука | Q47: 53.5 | R47: =Q47*Q47 -> 2862.25 | U47: =T47*T47 -> 0
C48: =B48*B48 -> 0 | F48: =E48*E48 -> 0 | G48: щука | H48: 84 | I48: =H48*H48 -> 7056 | J48: щука | K48: 64.5 | L48: =K48*K48 -> 4160.25 | O48: =N48*N48 -> 0 | R48: =Q48*Q48 -> 0 | U48: =T48*T48 -> 0
C49: =B49*B49 -> 0 | F49: =E49*E49 -> 0 | I49: =H49*H49 -> 0 | J49: щука | K49: 77 | L49: =K49*K49 -> 5929 | O49: =N49*N49 -> 0 | R49: =Q49*Q49 -> 0 | U49: =T49*T49 -> 0
C50: =B50*B50 -> 0 | F50: =E50*E50 -> 0 | I50: =H50*H50 -> 0 | J50: щука | K50: 58 | L50: =K50*K50 -> 3364 | O50: =N50*N50 -> 0 | R50: =Q50*Q50 -> 0 | U50: =T50*T50 -> 0
C51: =B51*B51 -> 0 | F51: =E51*E51 -> 0 | I51: =H51*H51 -> 0 | J51: щука | K51: 60 | L51: =K51*K51 -> 3600 | O51: =N51*N51 -> 0 | R51: =Q51*Q51 -> 0 | U51: =T51*T51 -> 0
C52: =B52*B52 -> 0 | F52: =E52*E52 -> 0 | I52: =H52*H52 -> 0 | L52: =K52*K52 -> 0 | O52: =N52*N52 -> 0 | R52: =Q52*Q52 -> 0 | U52: =T52*T52 -> 0
C53: =B53*B53 -> 0 | F53: =E53*E53 -> 0 | I53: =H53*H53 -> 0 | L53: =K53*K53 -> 0 | O53: =N53*N53 -> 0 | R53: =Q53*Q53 -> 0 | U53: =T53*T53 -> 0
C54: =B54*B54 -> 0 | F54: =E54*E54 -> 0 | I54: =H54*H54 -> 0 | L54: =K54*K54 -> 0 | O54: =N54*N54 -> 0 | R54: =Q54*Q54 -> 0 | U54: =T54*T54 -> 0
C55: =B55*B55 -> 0 | F55: =E55*E55 -> 0 | I55: =H55*H55 -> 0 | L55: =K55*K55 -> 0 | O55: =N55*N55 -> 0 | R55: =Q55*Q55 -> 0 | U55: =T55*T55 -> 0
C56: =B56*B56 -> 0 | F56: =E56*E56 -> 0 | I56: =H56*H56 -> 0 | L56: =K56*K56 -> 0 | O56: =N56*N56 -> 0 | R56: =Q56*Q56 -> 0 | U56: =T56*T56 -> 0
C57: =B57*B57 -> 0 | F57: =E57*E57 -> 0 | I57: =H57*H57 -> 0 | L57: =K57*K57 -> 0 | O57: =N57*N57 -> 0 | R57: =Q57*Q57 -> 0 | U57: =T57*T57 -> 0
C58: =B58*B58 -> 0 | F58: =E58*E58 -> 0 | I58: =H58*H58 -> 0 | L58: =K58*K58 -> 0 | O58: =N58*N58 -> 0 | R58: =Q58*Q58 -> 0 | U58: =T58*T58 -> 0
C59: =B59*B59 -> 0 | F59: =E59*E59 -> 0 | I59: =H59*H59 -> 0 | L59: =K59*K59 -> 0 | O59: =N59*N59 -> 0 | R59: =Q59*Q59 -> 0 | U59: =T59*T59 -> 0
C60: =B60*B60 -> 0 | F60: =E60*E60 -> 0 | I60: =H60*H60 -> 0 | L60: =K60*K60 -> 0 | O60: =N60*N60 -> 0 | R60: =Q60*Q60 -> 0 | U60: =T60*T60 -> 0
C61: =SUM(C43:C60) -> 20565.25 | F61: =SUM(F43:F60) -> 16246.25 | I61: =SUM(I43:I60) -> 23840.5 | L61: =SUM(L43:L60) -> 42639.75 | O61: =SUM(O43:O60) -> 13678.25 | R61: =SUM(R43:R60) -> 15248.75 | U61: =SUM(U43:U60) -> 0
A64: Плявго Муратов | D64: Молох Андрейковец | G64: Максуль Яскель
A65: Вид | B65: Длина, см | C65: Баллы | D65: Вид | E65: Длина, см | F65: Баллы | G65: Вид | H65: Длина, см | I65: Баллы | J65: Вид | K65: Длина, см | L65: Баллы | M65: Вид | N65: Длина, см | O65: Баллы | P65: Вид | Q65: Длина, см | R65: Баллы | S65: Вид | T65: Длина, см | U65: Баллы
A66: щука | B66: 51.5 | C66: =B66*B66 -> 2652.25 | D66: щука | E66: 82 | F66: =E66*E66 -> 6724 | I66: =H66*H66 -> 0 | L66: =K66*K66 -> 0 | O66: =N66*N66 -> 0 | R66: =Q66*Q66 -> 0 | U66: =T66*T66 -> 0
A67: щука | B67: 68.5 | C67: =B67*B67 -> 4692.25 | D67: щука | E67: 74 | F67: =E67*E67 -> 5476 | I67: =H67*H67 -> 0 | L67: =K67*K67 -> 0 | O67: =N67*N67 -> 0 | R67: =Q67*Q67 -> 0 | U67: =T67*T67 -> 0
A68: щука | B68: 62.5 | C68: =B68*B68 -> 3906.25 | D68: щука | E68: 55.5 | F68: =E68*E68 -> 3080.25 | I68: =H68*H68 -> 0 | L68: =K68*K68 -> 0 | O68: =N68*N68 -> 0 | R68: =Q68*Q68 -> 0 | U68: =T68*T68 -> 0
A69: щука | B69: 57.5 | C69: =B69*B69 -> 3306.25 | D69: щука | E69: 51 | F69: =E69*E69 -> 2601 | I69: =H69*H69 -> 0 | L69: =K69*K69 -> 0 | O69: =N69*N69 -> 0 | R69: =Q69*Q69 -> 0 | U69: =T69*T69 -> 0
C70: =B70*B70 -> 0 | D70: щука | E70: 55.5 | F70: =E70*E70 -> 3080.25 | I70: =H70*H70 -> 0 | L70: =K70*K70 -> 0 | O70: =N70*N70 -> 0 | R70: =Q70*Q70 -> 0 | U70: =T70*T70 -> 0
C71: =B71*B71 -> 0 | D71: щука | E71: 79 | F71: =E71*E71 -> 6241 | I71: =H71*H71 -> 0 | L71: =K71*K71 -> 0 | O71: =N71*N71 -> 0 | R71: =Q71*Q71 -> 0 | U71: =T71*T71 -> 0
C72: =B72*B72 -> 0 | D72: щука | E72: 72.5 | F72: =E72*E72 -> 5256.25 | I72: =H72*H72 -> 0 | L72: =K72*K72 -> 0 | O72: =N72*N72 -> 0 | R72: =Q72*Q72 -> 0 | U72: =T72*T72 -> 0
C73: =B73*B73 -> 0 | D73: щука | E73: 82.5 | F73: =E73*E73 -> 6806.25 | I73: =H73*H73 -> 0 | L73: =K73*K73 -> 0 | O73: =N73*N73 -> 0 | R73: =Q73*Q73 -> 0 | U73: =T73*T73 -> 0
C74: =B74*B74 -> 0 | D74: щука | E74: 61 | F74: =E74*E74 -> 3721 | I74: =H74*H74 -> 0 | L74: =K74*K74 -> 0 | O74: =N74*N74 -> 0 | R74: =Q74*Q74 -> 0 | U74: =T74*T74 -> 0
C75: =B75*B75 -> 0 | D75: щука | E75: 74 | F75: =E75*E75 -> 5476 | I75: =H75*H75 -> 0 | L75: =K75*K75 -> 0 | O75: =N75*N75 -> 0 | R75: =Q75*Q75 -> 0 | U75: =T75*T75 -> 0
C76: =B76*B76 -> 0 | D76: щука | E76: 84.5 | F76: =E76*E76 -> 7140.25 | I76: =H76*H76 -> 0 | L76: =K76*K76 -> 0 | O76: =N76*N76 -> 0 | R76: =Q76*Q76 -> 0 | U76: =T76*T76 -> 0
C77: =B77*B77 -> 0 | F77: =E77*E77 -> 0 | I77: =H77*H77 -> 0 | L77: =K77*K77 -> 0 | O77: =N77*N77 -> 0 | R77: =Q77*Q77 -> 0 | U77: =T77*T77 -> 0
C78: =B78*B78 -> 0 | F78: =E78*E78 -> 0 | I78: =H78*H78 -> 0 | L78: =K78*K78 -> 0 | O78: =N78*N78 -> 0 | R78: =Q78*Q78 -> 0 | U78: =T78*T78 -> 0
C79: =B79*B79 -> 0 | F79: =E79*E79 -> 0 | I79: =H79*H79 -> 0 | L79: =K79*K79 -> 0 | O79: =N79*N79 -> 0 | R79: =Q79*Q79 -> 0 | U79: =T79*T79 -> 0
C80: =B80*B80 -> 0 | F80: =E80*E80 -> 0 | I80: =H80*H80 -> 0 | L80: =K80*K80 -> 0 | O80: =N80*N80 -> 0 | R80: =Q80*Q80 -> 0 | U80: =T80*T80 -> 0
C81: =B81*B81 -> 0 | F81: =E81*E81 -> 0 | I81: =H81*H81 -> 0 | L81: =K81*K81 -> 0 | O81: =N81*N81 -> 0 | R81: =Q81*Q81 -> 0 | U81: =T81*T81 -> 0
C82: =B82*B82 -> 0 | F82: =E82*E82 -> 0 | I82: =H82*H82 -> 0 | L82: =K82*K82 -> 0 | O82: =N82*N82 -> 0 | R82: =Q82*Q82 -> 0 | U82: =T82*T82 -> 0
C83: =B83*B83 -> 0 | F83: =E83*E83 -> 0 | I83: =H83*H83 -> 0 | L83: =K83*K83 -> 0 | O83: =N83*N83 -> 0 | R83: =Q83*Q83 -> 0 | U83: =T83*T83 -> 0
C84: =SUM(C66:C83) -> 14557 | F84: =SUM(F66:F83) -> 55602.25 | I84: =SUM(I66:I83) -> 0 | L84: =SUM(L66:L83) -> 0 | O84: =SUM(O66:O83) -> 0 | R84: =SUM(R66:R83) -> 0 | U84: =SUM(U66:U83) -> 0

Sheet 4-тур
A1: Боровский Веснянко | D1: Смолко Смолко | G1: Щемер Крат | J1: Чернякевич Телюков | M1: Гришкевич Чикита | P1: Турков Ворон | S1: Можжерин Лихачев
A2: Вид | B2: Длина, см | C2: Баллы | D2: Вид | E2: Длина, см | F2: Баллы | G2: Вид | H2: Длина, см | I2: Баллы | J2: Вид | K2: Длина, см | L2: Баллы | M2: Вид | N2: Длина, см | O2: Баллы | P2: Вид | Q2: Длина, см | R2: Баллы | S2: Вид | T2: Длина, см | U2: Баллы
A3: щука | B3: 51 | C3: =B3*B3 -> 2601 | D3: окунь | E3: 30.5 | F3: =E3*E3 -> 930.25 | G3: щука | H3: 87.5 | I3: =H3*H3 -> 7656.25 | L3: =K3*K3 -> 0 | M3: щука | N3: 79 | O3: =N3*N3 -> 6241 | P3: щука | Q3: 59 | R3: =Q3*Q3 -> 3481 | S3: щука | T3: 62.5 | U3: =T3*T3 -> 3906.25
A4: щука | B4: 71 | C4: =B4*B4 -> 5041 | F4: =E4*E4 -> 0 | G4: щука | H4: 81 | I4: =H4*H4 -> 6561 | L4: =K4*K4 -> 0 | M4: щука | N4: 57 | O4: =N4*N4 -> 3249 | P4: щука | Q4: 81 | R4: =Q4*Q4 -> 6561 | S4: щука | T4: 87.5 | U4: =T4*T4 -> 7656.25
A5: щука | B5: 60 | C5: =B5*B5 -> 3600 | F5: =E5*E5 -> 0 | I5: =H5*H5 -> 0 | L5: =K5*K5 -> 0 | M5: щука | N5: 61 | O5: =N5*N5 -> 3721 | P5: щука | Q5: 85 | R5: =Q5*Q5 -> 7225 | S5: щука | T5: 57.5 | U5: =T5*T5 -> 3306.25
A6: щука | B6: 55 | C6: =B6*B6 -> 3025 | F6: =E6*E6 -> 0 | I6: =H6*H6 -> 0 | L6: =K6*K6 -> 0 | O6: =N6*N6 -> 0 | P6: щука | Q6: 71 | R6: =Q6*Q6 -> 5041 | U6: =T6*T6 -> 0
C7: =B7*B7 -> 0 | F7: =E7*E7 -> 0 | I7: =H7*H7 -> 0 | L7: =K7*K7 -> 0 | O7: =N7*N7 -> 0 | R7: =Q7*Q7 -> 0 | U7: =T7*T7 -> 0
C8: =B8*B8 -> 0 | F8: =E8*E8 -> 0 | I8: =H8*H8 -> 0 | L8: =K8*K8 -> 0 | O8: =N8*N8 -> 0 | R8: =Q8*Q8 -> 0 | U8: =T8*T8 -> 0
C9: =B9*B9 -> 0 | F9: =E9*E9 -> 0 | I9: =H9*H9 -> 0 | L9: =K9*K9 -> 0 | O9: =N9*N9 -> 0 | R9: =Q9*Q9 -> 0 | U9: =T9*T9 -> 0
C10: =B10*B10 -> 0 | F10: =E10*E10 -> 0 | I10: =H10*H10 -> 0 | L10: =K10*K10 -> 0 | O10: =N10*N10 -> 0 | R10: =Q10*Q10 -> 0 | U10: =T10*T10 -> 0
C11: =B11*B11 -> 0 | F11: =E11*E11 -> 0 | I11: =H11*H11 -> 0 | L11: =K11*K11 -> 0 | O11: =N11*N11 -> 0 | R11: =Q11*Q11 -> 0 | U11: =T11*T11 -> 0
C12: =B12*B12 -> 0 | F12: =E12*E12 -> 0 | I12: =H12*H12 -> 0 | L12: =K12*K12 -> 0 | O12: =N12*N12 -> 0 | R12: =Q12*Q12 -> 0 | U12: =T12*T12 -> 0
C13: =B13*B13 -> 0 | F13: =E13*E13 -> 0 | I13: =H13*H13 -> 0 | L13: =K13*K13 -> 0 | O13: =N13*N13 -> 0 | R13: =Q13*Q13 -> 0 | U13: =T13*T13 -> 0
C14: =B14*B14 -> 0 | F14: =E14*E14 -> 0 | I14: =H14*H14 -> 0 | L14: =K14*K14 -> 0 | O14: =N14*N14 -> 0 | R14: =Q14*Q14 -> 0 | U14: =T14*T14 -> 0
C15: =B15*B15 -> 0 | F15: =E15*E15 -> 0 | I15: =H15*H15 -> 0 | L15: =K15*K15 -> 0 | O15: =N15*N15 -> 0 | R15: =Q15*Q15 -> 0 | U15: =T15*T15 -> 0
C16: =B16*B16 -> 0 | F16: =E16*E16 -> 0 | I16: =H16*H16 -> 0 | L16: =K16*K16 -> 0 | O16: =N16*N16 -> 0 | R16: =Q16*Q16 -> 0 | U16: =T16*T16 -> 0
C17: =B17*B17 -> 0 | F17: =E17*E17 -> 0 | I17: =H17*H17 -> 0 | L17: =K17*K17 -> 0 | O17: =N17*N17 -> 0 | R17: =Q17*Q17 -> 0 | U17: =T17*T17 -> 0
C18: =SUM(C3:C17) -> 14267 | F18: =SUM(F3:F17) -> 930.25 | I18: =SUM(I3:I17) -> 14217.25 | L18: =SUM(L3:L17) -> 0 | O18: =SUM(O3:O17) -> 13211 | R18: =SUM(R3:R17) -> 22308 | U18: =SUM(U3:U17) -> 14868.75
A21: Шевчук Римашевский | D21: Юцевич Юцевич | G21: Менделев Менделева | J21: Палагин Пархоменко | M21: Дудко Ю./Дудко Ю. | P21: Шабловский Кужовник | S21: Горбач Пырх
A22: Вид | B22: Длина, см | C22: Баллы | D22: Вид | E22: Длина, см | F22: Баллы | G22: Вид | H22: Длина, см | I22: Баллы | J22: Вид | K22: Длина, см | L22: Баллы | M22: Вид | N22: Длина, см | O22: Баллы | P22: Вид | Q22: Длина, см | R22: Баллы | S22: Вид | T22: Длина, см | U22: Баллы
A23: щука | B23: 77 | C23: =B23*B23 -> 5929 | D23: щука | E23: 59.5 | F23: =E23*E23 -> 3540.25 | G23: щука | H23: 58 | I23: =H23*H23 -> 3364 | J23: щука | K23: 52 | L23: =K23*K23 -> 2704 | M23: щука | N23: 72 | O23: =N23*N23 -> 5184 | P23: щука | Q23: 54 | R23: =Q23*Q23 -> 2916 | S23: щука | T23: 55 | U23: =T23*T23 -> 3025
A24: щука | B24: 60.5 | C24: =B24*B24 -> 3660.25 | F24: =E24*E24 -> 0 | G24: щука | H24: 52 | I24: =H24*H24 -> 2704 | J24: щука | K24: 75 | L24: =K24*K24 -> 5625 | M24: щука | N24: 87 | O24: =N24*N24 -> 7569 | P24: щука | Q24: 71.5 | R24: =Q24*Q24 -> 5112.25 | S24: щука | T24: 55 | U24: =T24*T24 -> 3025
A25: щука | B25: 62.5 | C25: =B25*B25 -> 3906.25 | F25: =E25*E25 -> 0 | G25: щука | H25: 61.5 | I25: =H25*H25 -> 3782.25 | J25: щука | K25: 63 | L25: =K25*K25 -> 3969 | M25: щука | N25: 55 | O25: =N25*N25 -> 3025 | P25: щука | Q25: 55.5 | R25: =Q25*Q25 -> 3080.25 | S25: щука | T25: 54 | U25: =T25*T25 -> 2916
A26: щука | B26: 59.5 | C26: =B26*B26 -> 3540.25 | F26: =E26*E26 -> 0 | I26: =H26*H26 -> 0 | J26: щука | K26: 55 | L26: =K26*K26 -> 3025 | O26: =N26*N26 -> 0 | R26: =Q26*Q26 -> 0 | S26: щука | T26: 54 | U26: =T26*T26 -> 2916
A27: щука | B27: 61 | C27: =B27*B27 -> 3721 | F27: =E27*E27 -> 0 | I27: =H27*H27 -> 0 | L27: =K27*K27 -> 0 | O27: =N27*N27 -> 0 | R27: =Q27*Q27 -> 0 | S27: щука | T27: 65.5 | U27: =T27*T27 -> 4290.25
A28: щука | B28: 56.5 | C28: =B28*B28 -> 3192.25 | F28: =E28*E28 -> 0 | I28: =H28*H28 -> 0 | L28: =K28*K28 -> 0 | O28: =N28*N28 -> 0 | R28: =Q28*Q28 -> 0 | U28: =T28*T28 -> 0
A29: щука | B29: 55 | C29: =B29*B29 -> 3025 | F29: =E29*E29 -> 0 | I29: =H29*H29 -> 0 | L29: =K29*K29 -> 0 | O29: =N29*N29 -> 0 | R29: =Q29*Q29 -> 0 | U29: =T29*T29 -> 0
A30: щука | B30: 109 | C30: =B30*B30 -> 11881 | F30: =E30*E30 -> 0 | I30: =H30*H30 -> 0 | L30: =K30*K30 -> 0 | O30: =N30*N30 -> 0 | R30: =Q30*Q30 -> 0 | U30: =T30*T30 -> 0
C31: =B31*B31 -> 0 | F31: =E31*E31 -> 0 | I31: =H31*H31 -> 0 | L31: =K31*K31 -> 0 | O31: =N31*N31 -> 0 | R31: =Q31*Q31 -> 0 | U31: =T31*T31 -> 0
C32: =B32*B32 -> 0 | F32: =E32*E32 -> 0 | I32: =H32*H32 -> 0 | L32: =K32*K32 -> 0 | O32: =N32*N32 -> 0 | R32: =Q32*Q32 -> 0 | U32: =T32*T32 -> 0
C33: =B33*B33 -> 0 | F33: =E33*E33 -> 0 | I33: =H33*H33 -> 0 | L33: =K33*K33 -> 0 | O33: =N33*N33 -> 0 | R33: =Q33*Q33 -> 0 | U33: =T33*T33 -> 0
C34: =B34*B34 -> 0 | F34: =E34*E34 -> 0 | I34: =H34*H34 -> 0 | L34: =K34*K34 -> 0 | O34: =N34*N34 -> 0 | R34: =Q34*Q34 -> 0 | U34: =T34*T34 -> 0
C35: =B35*B35 -> 0 | F35: =E35*E35 -> 0 | I35: =H35*H35 -> 0 | L35: =K35*K35 -> 0 | O35: =N35*N35 -> 0 | R35: =Q35*Q35 -> 0 | U35: =T35*T35 -> 0
C36: =B36*B36 -> 0 | F36: =E36*E36 -> 0 | I36: =H36*H36 -> 0 | L36: =K36*K36 -> 0 | O36: =N36*N36 -> 0 | R36: =Q36*Q36 -> 0 | U36: =T36*T36 -> 0
C37: =B37*B37 -> 0 | F37: =E37*E37 -> 0 | I37: =H37*H37 -> 0 | L37: =K37*K37 -> 0 | O37: =N37*N37 -> 0 | R37: =Q37*Q37 -> 0 | U37: =T37*T37 -> 0
C38: =SUM(C23:C37) -> 38855 | F38: =SUM(F23:F37) -> 3540.25 | I38: =SUM(I23:I37) -> 9850.25 | L38: =SUM(L23:L37) -> 15323 | O38: =SUM(O23:O37) -> 15778 | R38: =SUM(R23:R37) -> 11108.5 | U38: =SUM(U23:U37) -> 16172.25
A41: Иокша Мехович | D41: Юцевич Казинец | G41: Чернухо Пыжов | J41: Юденков Якушко | M41: Довгель Барковский | P41: Шакур Шакур
A42: Вид | B42: Длина, см | C42: Баллы | D42: Вид | E42: Длина, см | F42: Баллы | G42: Вид | H42: Длина, см | I42: Баллы | J42: Вид | K42: Длина, см | L42: Баллы | M42: Вид | N42: Длина, см | O42: Баллы | P42: Вид | Q42: Длина, см | R42: Баллы | S42: Вид | T42: Длина, см | U42: Баллы
A43: щука | B43: 98 | C43: =B43*B43 -> 9604 | D43: щука | E43: 50 | F43: =E43*E43 -> 2500 | G43: щука | H43: 77 | I43: =H43*H43 -> 5929 | J43: щука | K43: 50 | L43: =K43*K43 -> 2500 | M43: щука | N43: 56 | O43: =N43*N43 -> 3136 | P43: щука | Q43: 75 | R43: =Q43*Q43 -> 5625 | U43: =T43*T43 -> 0
A44: щука | B44: 82 | C44: =B44*B44 -> 6724 | D44: щука | E44: 51 | F44: =E44*E44 -> 2601 | I44: =H44*H44 -> 0 | J44: щука | K44: 62.5 | L44: =K44*K44 -> 3906.25 | M44: щука | N44: 66.5 | O44: =N44*N44 -> 4422.25 | P44: щука | Q44: 50 | R44: =Q44*Q44 -> 2500 | U44: =T44*T44 -> 0
A45: щука | B45: 95 | C45: =B45*B45 -> 9025 | D45: щука | E45: 51.5 | F45: =E45*E45 -> 2652.25 | I45: =H45*H45 -> 0 | J45: щука | K45: 70 | L45: =K45*K45 -> 4900 | M45: щука | N45: 58 | O45: =N45*N45 -> 3364 | P45: щука | Q45: 52.5 | R45: =Q45*Q45 -> 2756.25 | U45: =T45*T45 -> 0
A46: щука | B46: 71 | C46: =B46*B46 -> 5041 | D46: окунь | E46: 33 | F46: =E46*E46 -> 1089 | I46: =H46*H46 -> 0 | J46: щука | K46: 60.5 | L46: =K46*K46 -> 3660.25 | M46: щука | N46: 58 | O46: =N46*N46 -> 3364 | P46: щука | Q46: 56 | R46: =Q46*Q46 -> 3136 | U46: =T46*T46 -> 0
A47: щука | B47: 52.5 | C47: =B47*B47 -> 2756.25 | F47: =E47*E47 -> 0 | I47: =H47*H47 -> 0 | J47: щука | K47: 92 | L47: =K47*K47 -> 8464 | M47: щука | N47: 66 | O47: =N47*N47 -> 4356 | P47: щука | Q47: 63 | R47: =Q47*Q47 -> 3969 | U47: =T47*T47 -> 0
C48: =B48*B48 -> 0 | F48: =E48*E48 -> 0 | I48: =H48*H48 -> 0 | J48: щука | K48: 67 | L48: =K48*K48 -> 4489 | M48: щука | N48: 61 | O48: =N48*N48 -> 3721 | R48: =Q48*Q48 -> 0 | U48: =T48*T48 -> 0
C49: =B49*B49 -> 0 | F49: =E49*E49 -> 0 | I49: =H49*H49 -> 0 | J49: щука | K49: 56.5 | L49: =K49*K49 -> 3192.25 | O49: =N49*N49 -> 0 | R49: =Q49*Q49 -> 0 | U49: =T49*T49 -> 0
C50: =B50*B50 -> 0 | F50: =E50*E50 -> 0 | I50: =H50*H50 -> 0 | J50: щука | K50: 73 | L50: =K50*K50 -> 5329 | O50: =N50*N50 -> 0 | R50: =Q50*Q50 -> 0 | U50: =T50*T50 -> 0
C51: =B51*B51 -> 0 | F51: =E51*E51 -> 0 | I51: =H51*H51 -> 0 | J51: щука | K51: 58.5 | L51: =K51*K51 -> 3422.25 | O51: =N51*N51 -> 0 | R51: =Q51*Q51 -> 0 | U51: =T51*T51 -> 0
C52: =B52*B52 -> 0 | F52: =E52*E52 -> 0 | I52: =H52*H52 -> 0 | J52: щука | K52: 77 | L52: =K52*K52 -> 5929 | O52: =N52*N52 -> 0 | R52: =Q52*Q52 -> 0 | U52: =T52*T52 -> 0
C53: =B53*B53 -> 0 | F53: =E53*E53 -> 0 | I53: =H53*H53 -> 0 | J53: щука | K53: 51 | L53: =K53*K53 -> 2601 | O53: =N53*N53 -> 0 | R53: =Q53*Q53 -> 0 | U53: =T53*T53 -> 0
C54: =B54*B54 -> 0 | F54: =E54*E54 -> 0 | I54: =H54*H54 -> 0 | L54: =K54*K54 -> 0 | O54: =N54*N54 -> 0 | R54: =Q54*Q54 -> 0 | U54: =T54*T54 -> 0
C55: =B55*B55 -> 0 | F55: =E55*E55 -> 0 | I55: =H55*H55 -> 0 | L55: =K55*K55 -> 0 | O55: =N55*N55 -> 0 | R55: =Q55*Q55 -> 0 | U55: =T55*T55 -> 0
C56: =B56*B56 -> 0 | F56: =E56*E56 -> 0 | I56: =H56*H56 -> 0 | L56: =K56*K56 -> 0 | O56: =N56*N56 -> 0 | R56: =Q56*Q56 -> 0 | U56: =T56*T56 -> 0
C57: =B57*B57 -> 0 | F57: =E57*E57 -> 0 | I57: =H57*H57 -> 0 | L57: =K57*K57 -> 0 | O57: =N57*N57 -> 0 | R57: =Q57*Q57 -> 0 | U57: =T57*T57 -> 0
C58: =B58*B58 -> 0 | F58: =E58*E58 -> 0 | I58: =H58*H58 -> 0 | L58: =K58*K58 -> 0 | O58: =N58*N58 -> 0 | R58: =Q58*Q58 -> 0 | U58: =T58*T58 -> 0
C59: =B59*B59 -> 0 | F59: =E59*E59 -> 0 | I59: =H59*H59 -> 0 | L59: =K59*K59 -> 0 | O59: =N59*N59 -> 0 | R59: =Q59*Q59 -> 0 | U59: =T59*T59 -> 0
C60: =B60*B60 -> 0 | F60: =E60*E60 -> 0 | I60: =H60*H60 -> 0 | L60: =K60*K60 -> 0 | O60: =N60*N60 -> 0 | R60: =Q60*Q60 -> 0 | U60: =T60*T60 -> 0
C61: =SUM(C43:C60) -> 33150.25 | F61: =SUM(F43:F60) -> 8842.25 | I61: =SUM(I43:I57) -> 5929 | L61: =SUM(L43:L60) -> 48393 | O61: =SUM(O43:O60) -> 22363.25 | R61: =SUM(R43:R60) -> 17986.25 | U61: =SUM(U43:U60) -> 0
A64: Плявго Муратов | D64: Молош Андрейковец | G64: Максуль Яскель
A65: Вид | B65: Длина, см | C65: Баллы | D65: Вид | E65: Длина, см | F65: Баллы | G65: Вид | H65: Длина, см | I65: Баллы | J65: Вид | K65: Длина, см | L65: Баллы | M65: Вид | N65: Длина, см | O65: Баллы | P65: Вид | Q65: Длина, см | R65: Баллы | S65: Вид | T65: Длина, см | U65: Баллы
A66: щука | B66: 58 | C66: =B66*B66 -> 3364 | D66: щука | E66: 63 | F66: =E66*E66 -> 3969 | I66: =H66*H66 -> 0 | L66: =K66*K66 -> 0 | O66: =N66*N66 -> 0 | R66: =Q66*Q66 -> 0 | U66: =T66*T66 -> 0
A67: щука | B67: 78 | C67: =B67*B67 -> 6084 | D67: щука | E67: 57 | F67: =E67*E67 -> 3249 | I67: =H67*H67 -> 0 | L67: =K67*K67 -> 0 | O67: =N67*N67 -> 0 | R67: =Q67*Q67 -> 0 | U67: =T67*T67 -> 0
C68: =B68*B68 -> 0 | D68: щука | E68: 61 | F68: =E68*E68 -> 3721 | I68: =H68*H68 -> 0 | L68: =K68*K68 -> 0 | O68: =N68*N68 -> 0 | R68: =Q68*Q68 -> 0 | U68: =T68*T68 -> 0
C69: =B69*B69 -> 0 | F69: =E69*E69 -> 0 | I69: =H69*H69 -> 0 | L69: =K69*K69 -> 0 | O69: =N69*N69 -> 0 | R69: =Q69*Q69 -> 0 | U69: =T69*T69 -> 0
C70: =B70*B70 -> 0 | F70: =E70*E70 -> 0 | I70: =H70*H70 -> 0 | L70: =K70*K70 -> 0 | O70: =N70*N70 -> 0 | R70: =Q70*Q70 -> 0 | U70: =T70*T70 -> 0
C71: =B71*B71 -> 0 | F71: =E71*E71 -> 0 | I71: =H71*H71 -> 0 | L71: =K71*K71 -> 0 | O71: =N71*N71 -> 0 | R71: =Q71*Q71 -> 0 | U71: =T71*T71 -> 0
C72: =B72*B72 -> 0 | F72: =E72*E72 -> 0 | I72: =H72*H72 -> 0 | L72: =K72*K72 -> 0 | O72: =N72*N72 -> 0 | R72: =Q72*Q72 -> 0 | U72: =T72*T72 -> 0
C73: =B73*B73 -> 0 | F73: =E73*E73 -> 0 | I73: =H73*H73 -> 0 | L73: =K73*K73 -> 0 | O73: =N73*N73 -> 0 | R73: =Q73*Q73 -> 0 | U73: =T73*T73 -> 0
C74: =B74*B74 -> 0 | F74: =E74*E74 -> 0 | I74: =H74*H74 -> 0 | L74: =K74*K74 -> 0 | O74: =N74*N74 -> 0 | R74: =Q74*Q74 -> 0 | U74: =T74*T74 -> 0
C75: =B75*B75 -> 0 | F75: =E75*E75 -> 0 | I75: =H75*H75 -> 0 | L75: =K75*K75 -> 0 | O75: =N75*N75 -> 0 | R75: =Q75*Q75 -> 0 | U75: =T75*T75 -> 0
C76: =B76*B76 -> 0 | F76: =E76*E76 -> 0 | I76: =H76*H76 -> 0 | L76: =K76*K76 -> 0 | O76: =N76*N76 -> 0 | R76: =Q76*Q76 -> 0 | U76: =T76*T76 -> 0
C77: =B77*B77 -> 0 | F77: =E77*E77 -> 0 | I77: =H77*H77 -> 0 | L77: =K77*K77 -> 0 | O77: =N77*N77 -> 0 | R77: =Q77*Q77 -> 0 | U77: =T77*T77 -> 0
C78: =B78*B78 -> 0 | F78: =E78*E78 -> 0 | I78: =H78*H78 -> 0 | L78: =K78*K78 -> 0 | O78: =N78*N78 -> 0 | R78: =Q78*Q78 -> 0 | U78: =T78*T78 -> 0
C79: =B79*B79 -> 0 | F79: =E79*E79 -> 0 | I79: =H79*H79 -> 0 | L79: =K79*K79 -> 0 | O79: =N79*N79 -> 0 | R79: =Q79*Q79 -> 0 | U79: =T79*T79 -> 0
C80: =B80*B80 -> 0 | F80: =E80*E80 -> 0 | I80: =H80*H80 -> 0 | L80: =K80*K80 -> 0 | O80: =N80*N80 -> 0 | R80: =Q80*Q80 -> 0 | U80: =T80*T80 -> 0
... C83: =B83*B83 -> 0 | F83: =E83*E83 -> 0 | I83: =H83*H83 -> 0 | L83: =K83*K83 -> 0 | O83: =N83*N83 -> 0 | R83: =Q83*Q83 -> 0 | U83: =T83*T83 -> 0
C84: =SUM(C66:C83) -> 9448 | F84: =SUM(F66:F83) -> 10939 | I84: =SUM(I66:I80) -> 0 | L84: =SUM(L66:L83) -> 0 | O84: =SUM(O66:O83) -> 0 | R84: =SUM(R66:R83) -> 0 | U84: =SUM(U66:U83) -> 0

Sheet Командный зачет
A1: ПРОТОКОЛ РЕЗУЛЬТАТОВ
A2: турнир Казущик KempingBy Cup
A3: по спортивному лову рыбы спиннингом с лодок
A4: 27-28 августа вдхр Вилейское
B5: Ф.И.О. рыболова-спортсмена | C5: Сумма баллов | D5: Место | E5: Ф.И.О. рыболова-спортсмена | F5: Сумма баллов | G5: Место | H5: Ф.И.О. рыболова-спортсмена | I5: Сумма баллов | J5: Место | K5: Ф.И.О. рыболова-спортсмена | L5: Сумма баллов | M5: Место
A6: N п/п | B6: 1 тур | C6: 1 тур | D6: 1 тур | E6: 2 тур | F6: 2 тур | G6: 2 тур | H6: 3 тур | I6: 3 тур | J6: 3 тур | K6: 4 тур | L6: 4тур | M6: 4 тур | N6: Сумма баллов за 4 тура | O6: Сумма мест За 4 тура | P6: Итоговое командное место
B7: Ф.И.О. рыболова-спортсмена | C7: Сумма баллов | D7: Место | E7: Ф.И.О. рыболова-спортсмена | F7: Сумма баллов | G7: Место | H7: Ф.И.О. рыболова-спортсмена | I7: Сумма баллов | J7: Место | K7: Ф.И.О. рыболова-спортсмена | L7: Сумма баллов | M7: Место
B8: Юденков Алексей Якушко Андрей Палагин Дмитрий Пархоменко Сергей | C8: 123185 | D8: 1 | E8: Юденков Алексей Якушко Андрей Палагин Дмитрий Пархоменко Сергей | F8: 72108 | G8: 1 | H8: Юденков Алексей Якушко Андрей Палагин Дмитрий Пархоменко Сергей | I8: 66487 | J8: 1 | K8: Юденков Алексей Якушко Андрей Палагин Дмитрий Пархоменко Сергей | N8: =C8+F8+I8+L8 -> 261780 | O8: =D8+G8+J8+M8 -> 3
B9: Можжерин Антон Лихачев Максим Шевчук Дмитрий Римашевский Антон | C9: 99806 | D9: 2 | E9: Можжерин Антон Лихачев Максим Шевчук Дмитрий Римашевский Антон | F9: 68802 | G9: 2 | H9: Можжерин Антон Лихачев Максим Шевчук Дмитрий Римашевский Антон | I9: 49544 | J9: 2 | K9: Можжерин Антон Лихачев Максим Шевчук Дмитрий Римашевский Антон | N9: =C9+F9+I9+L9 -> 218152 | O9: =D9+G9+J9+M9 -> 6
B10: Гришкевич Александр Чикита Илья Дудко Юрий Дудко Юлия | C10: 85830 | D10: 3 | E10: Гришкевич Александр Чикита Илья Дудко Юрий Дудко Юлия | F10: 66641 | G10: 3 | H10: Гришкевич Александр Чикита Илья Дудко Юрий Дудко Юлия | I10: 34658 | J10: 6 | K10: Гришкевич Александр Чикита Илья Дудко Юрий Дудко Юлия | N10: =C10+F10+I10+L10 -> 187129 | O10: =D10+G10+J10+M10 -> 12
B11: Горбач Дмитрий Пырх Виталий Шакур Александр Шакур Дмитрий | C11: 83854 | D11: 4 | E11: Горбач Дмитрий Пырх Виталий Шакур Александр Шакур Дмитрий | F11: 40845 | G11: 7 | H11: Горбач Дмитрий Пырх Виталий Шакур Александр Шакур Дмитрий | I11: 20400 | J11: 7 | K11: Горбач Дмитрий Пырх Виталий Шакур Александр Шакур Дмитрий | N11: =C11+F11+I11+L11 -> 145099 | O11: =D11+G11+J11+M11 -> 18
B12: Менделев Александр Менделева Анна Казанович Владислав Смолко Андрей | C12: 77679 | D12: 5 | E12: Менделев Александр Менделева Анна Смолко Виктор Смолко Андрей | F12: 44672 | G12: 5 | H12: Менделев Александр Менделева Анна Смолко Виктор Смолко Андрей | I12: 19690 | J12: 8 | K12: Менделев Александр Менделева Анна Казанович Владислав Смолко Андрей | N12: =C12+F12+I12+L12 -> 142041 | O12: =D12+G12+J12+M12 -> 18
B13: Турков Станислав Ворон Павел Иокша Дмитрий Мехович Андрей | C13: 74282 | D13: 6 | E13: Турков Станислав Ворон Павел Иокша Дмитрий Мехович Андрей | F13: 52232 | G13: 4 | H13: Турков Станислав Ворон Павел Иокша Дмитрий Мехович Андрей | I13: 39047 | J13: 4 | K13: Турков Станислав Ворон Павел Иокша Дмитрий Мехович Андрей | N13: =C13+F13+I13+L13 -> 165561 | O13: =D13+G13+J13+M13 -> 14
B14: Юцевич Дмитрий Юцевич Ира Юцевич Максим Казинец Павел | C14: 74277 | D14: 7 | E14: Юцевич Дмитрий Юцевич Ира Юцевич Максим Казинец Павел | F14: 36395 | G14: 8 | H14: Юцевич Дмитрий Юцевич Ира Юцевич Максим Казинец Павел | I14: 42793 | J14: 3 | K14: Юцевич Дмитрий Юцевич Ира Юцевич Максим Казинец Павел | N14: =C14+F14+I14+L14 -> 153465 | O14: =D14+G14+J14+M14 -> 18
B15: Щемер Сергей Крат Вадим Боровский Алексей Веснянко Тарас | C15: 42261 | D15: 8 | E15: Щемер Сергей Крат Вадим Боровский Алексей Веснянко Тарас | F15: 14978 | G15: 9 | H15: Щемер Сергей Крат Вадим Боровский Алексей Веснянко Тарас | I15: 9265 | J15: 9 | K15: Щемер Сергей Крат Вадим Боровский Алексей Веснянко Тарас | N15: =C15+F15+I15+L15 -> 66504 | O15: =D15+G15+J15+M15 -> 26
B16: Чернухо Михаил Пыжов Дмитрий Довгель Сергей Барковский Сергей | C16: 35806 | D16: 9 | E16: Чернухо Михаил Пыжов Дмитрий Довгель Сергей Барковский Сергей | F16: 41948 | G16: 6 | H16: Чернухо Михаил Пыжов Дмитрий Довгель Сергей Барковский Сергей | I16: 37519 | J16: 5 | K16: Чернухо Михаил Пыжов Дмитрий Довгель Сергей Барковский Сергей | N16: =C16+F16+I16+L16 -> 115273 | O16: =D16+G16+J16+M16 -> 20
