Workbook

Sheet личный зачет1 этап
A1: ПРОТОКОЛ РЕЗУЛЬТАТОВ
A2: Республиканские соревнования
A3: по спортивному лову рыбы спиннингом с лодок на Кубок РГОО БООР
A4: 04-05 октября 2025 вдх. Лепельское
A6: N п/п | B6: 1 тур | E6: 2 тур | H6: 3 тур | K6: 4 тур | N6: Сумма баллов за 2 тура | O6: Сумма мест За 2 тура | P6: Итоговое Личное место
B7: Ф.И.О. рыболова-спортсмена | C7: Баллы | D7: Место | E7: Ф.И.О. рыболова-спортсмена | F7: Баллы | G7: Место | H7: Ф.И.О. рыболова-спортсмена | I7: Баллы | J7: Место | K7: Ф.И.О. рыболова-спортсмена | L7: Баллы | M7: Место
B8: Бычок Александр Холодинский Сергей | C8: ='1-й тур'!O84 -> 17679.25 | D8: 3 | E8: Бычок Александр Холодинский Сергей | F8: ='2-й тур'!O84 -> 35315.25 | G8: 1 | H8: Бычок Александр Холодинский Сергей | I8: ='3-й тур'!O84 -> 0 | K8: Бычок Александр Холодинский Сергей | L8: ='4-тур'!O84 -> 0 | N8: =C8+F8+I8+L8 -> 52994.5 | O8: =D8+G8+J8+M8 -> 4 | P8: 1
B11: Чабай Михаил Маркевич Андрей | C11: ='1-й тур'!U61 -> 22086 | D11: 2 | E11: Чабай Михаил Маркевич Андрей | F11: ='2-й тур'!U61 -> 25988.25 | G11: 2 | H11: Чабай Михаил Маркевич Андрей | I11: ='3-й тур'!U61 -> 0 | K11: Чабай Михаил Маркевич Андрей | L11: ='4-тур'!U61 -> 0 | N11: =C11+F11+I11+L11 -> 48074.25 | O11: =D11+G11+J11+M11 -> 4 | P11: 3
B14: Юденков Алексей Якушко Андрей | C14: ='1-й тур'!L61 -> 30400.75 | D14: 1 | E14: Юденков Алексей Якушко Андрей | F14: ='2-й тур'!L61 -> 20641.5 | G14: 3 | H14: Юденков Алексей Якушко Андрей | I14: ='3-й тур'!L61 -> 0 | K14: Юденков Алексей Якушко Андрей | L14: ='4-тур'!L61 -> 0 | N14: =C14+F14+I14+L14 -> 51042.25 | O14: =D14+G14+J14+M14 -> 4 | P14: 2
B17: Гапеев Игорь Юхнюк Сергей | C17: ='1-й тур'!C18 -> 14275 | D17: 5 | E17: Гапеев Игорь Юхнюк Сергей | F17: ='2-й тур'!C18 -> 13800.25 | G17: 5 | H17: Гапеев Игорь Юхнюк Сергей | I17: ='3-й тур'!C18 -> 0 | K17: Гапеев Игорь Юхнюк Сергей | L17: ='4-тур'!C18 -> 0 | N17: =C17+F17+I17+L17 -> 28075.25 | O17: =D17+G17+J17+M17 -> 10 | P17: 4
B20: Гришкевич Александр Чикита Илья | C20: ='1-й тур'!O18 -> 13858 | D20: 7 | E20: Гришкевич Александр Чикита Илья | F20: ='2-й тур'!O18 -> 14400 | G20: 4 | H20: Гришкевич Александр Чикита Илья | I20: ='3-й тур'!O18 -> 0 | K20: Гришкевич Александр Чикита Илья | L20: ='4-тур'!O18 -> 0 | N20: =C20+F20+I20+L20 -> 28258 | O20: =D20+G20+J20+M20 -> 11 | P20: 5
B23: Палагин Дмитрий Пархоменко Сергей | C23: ='1-й тур'!L38 -> 13958 | D23: 6 | E23: Палагин Дмитрий Пархоменко Сергей | F23: ='2-й тур'!L38 -> 9170.25 | G23: 10 | H23: Палагин Дмитрий Пархоменко Сергей | I23: ='3-й тур'!L38 -> 0 | K23: Палагин Дмитрий Пархоменко Сергей | L23: ='4-тур'!L38 -> 0 | N23: =C23+F23+I23+L23 -> 23128.25 | O23: =D23+G23+J23+M23 -> 16 | P23: 6
B26: Шевчук Дмитрий Рулинский Александр | C26: ='1-й тур'!C38 -> 9236 | D26: 11 | E26: Шевчук Дмитрий Рулинский Александр | F26: ='2-й тур'!C38 -> 13031.5 | G26: 6 | H26: Шевчук Дмитрий Рулинский Александр | I26: ='3-й тур'!C38 -> 0 | K26: Шевчук Дмитрий Рулинский Александр | L26: ='4-тур'!C38 -> 0 | N26: =C26+F26+I26+L26 -> 22267.5 | O26: =D26+G26+J26+M26 -> 17 | P26: 7
B29: Турков Станислав Ворон Павел | C29: ='1-й тур'!R18 -> 12125.5 | D29: 9 | E29: Турков Станислав Ворон Павел | F29: ='2-й тур'!R18 -> 9081 | G29: 11 | H29: Турков Станислав Ворон Павел | I29: ='3-й тур'!R18 -> 0 | K29: Турков Станислав Ворон Павел | L29: ='4-тур'!R18 -> 0 | N29: =C29+F29+I29+L29 -> 21206.5 | O29: =D29+G29+J29+M29 -> 20 | P29: 8
B32: Довгель Сергей Барковский Сергей | C32: ='1-й тур'!O61 -> 7245.25 | D32: 14 | E32: Довгель Сергей Барковский Сергей | F32: ='2-й тур'!O61 -> 10140.25 | G32: 9 | H32: Довгель Сергей Барковский Сергей | I32: ='3-й тур'!O61 -> 0 | K32: Довгель Сергей Барковский Сергей | L32: ='4-тур'!O61 -> 0 | N32: =C32+F32+I32+L32 -> 17385.5 | O32: =D32+G32+J32+M32 -> 23 | P32: 9
B35: Можжерин Антон Скопец Михаил | C35: ='1-й тур'!U18 -> 5620 | D35: 17 | E35: Можжерин Антон Скопец Михаил | F35: ='2-й тур'!U18 -> 10627.25 | G35: 7 | H35: Можжерин Антон Скопец Михаил | I35: ='3-й тур'!U18 -> 0 | K35: Можжерин Антон Скопец Михаил | L35: ='4-тур'!U18 -> 0 | N35: =C35+F35+I35+L35 -> 16247.25 | O35: =D35+G35+J35+M35 -> 24 | P35: 11
B38: Носик Сергей Хомиченок Сергей | C38: ='1-й тур'!R84 -> 6272 | D38: 16 | E38: Носик Сергей Хомиченок Сергей | F38: ='2-й тур'!R84 -> 10364 | G38: 8 | H38: Носик Сергей Хомиченок Сергей | I38: ='3-й тур'!R84 -> 0 | K38: Носик Сергей Хомиченок Сергей | L38: ='4-тур'!R84 -> 0 | N38: =C38+F38+I38+L38 -> 16636 | O38: =D38+G38+J38+M38 -> 24 | P38: 10
B41: Якубицкий Евгений Борозна Денис | C41: ='1-й тур'!F61 -> 7744 | D41: 13 | E41: Якубицкий Евгений Борозна Денис | F41: ='2-й тур'!F61 -> 6506 | G41: 14 | H41: Якубицкий Евгений Борозна Денис | I41: ='3-й тур'!F61 -> 0 | K41: Якубицкий Евгений Борозна Денис | L41: ='4-тур'!F61 -> 0 | N41: =C41+F41+I41+L41 -> 14250 | O41: =D41+G41+J41+M41 -> 27 | P41: 12
B44: Дудко Юрий Дудко Юлия | C44: ='1-й тур'!O38 -> 15237 | D44: 4 | E44: Дудко Юрий Дудко Юлия | F44: ='2-й тур'!O38 -> 0 | G44: 25 | H44: Дудко Юрий Дудко Юлия | I44: ='3-й тур'!O38 -> 0 | K44: Дудко Юрий Дудко Юлия | L44: ='4-тур'!O38 -> 0 | N44: =C44+F44+I44+L44 -> 15237 | O44: =D44+G44+J44+M44 -> 29 | P44: 13
B47: Лютик Игорь Чернухо Михаил | C47: ='1-й тур'!I61 -> 4761 | D47: 19 | E47: Лютик Игорь Чернухо Михаил | F47: ='2-й тур'!I61 -> 7817 | G47: 12 | H47: Лютик Игорь Чернухо Михаил | I47: ='3-й тур'!I61 -> 0 | K47: Лютик Игорь Чернухо Михаил | L47: ='4-тур'!I61 -> 0 | N47: =C47+F47+I47+L47 -> 12578 | O47: =D47+G47+J47+M47 -> 31 | P47: 14
B50: Горбач Дмитрий Пырх Виталий | C50: ='1-й тур'!U38 -> 8330 | D50: 12 | E50: Горбач Дмитрий Пырх Виталий | F50: ='2-й тур'!U38 -> 2601 | G50: 20 | H50: Горбач Дмитрий Пырх Виталий | I50: ='3-й тур'!U38 -> 0 | K50: Горбач Дмитрий Пырх Виталий | L50: ='4-тур'!U38 -> 0 | N50: =C50+F50+I50+L50 -> 10931 | O50: =D50+G50+J50+M50 -> 32 | P50: 15
B53: Чернякевич Виталий Телюков Вячеслав | C53: ='1-й тур'!L18 -> 13581 | D53: 8 | E53: Чернякевич Виталий Телюков Вячеслав | F53: ='2-й тур'!L18 -> 0 | G53: 25 | H53: Чернякевич Виталий Телюков Вячеслав | I53: ='3-й тур'!L18 -> 0 | K53: Чернякевич Виталий Телюков Вячеслав | L53: ='4-тур'!L18 -> 0 | N53: =C53+F53+I53+L53 -> 13581 | O53: =D53+G53+J53+M53 -> 33 | P53: 16
B56: Щемер Сергей | C56: ='1-й тур'!I18 -> 3249 | D56: 21 | E56: Щемер Сергей | F56: ='2-й тур'!I18 -> 6516 | G56: 13 | H56: Щемер Сергей Крат Вадим | I56: ='3-й тур'!I18 -> 0 | K56: Щемер Сергей Крат Вадим | L56: ='4-тур'!I18 -> 0 | N56: =C56+F56+I56+L56 -> 9765 | O56: =D56+G56+J56+M56 -> 34 | P56: 17
B59: Смолко Виктор Смолко Андрей | C59: ='1-й тур'!F18 -> 10739.25 | D59: 10 | E59: Смолко Виктор Смолко Андрей | F59: ='2-й тур'!F18 -> 0 | G59: 25 | H59: Смолко Виктор Смолко Андрей | I59: ='3-й тур'!F18 -> 0 | K59: Смолко Виктор Смолко Андрей | L59: ='4-тур'!F18 -> 0 | N59: =C59+F59+I59+L59 -> 10739.25 | O59: =D59+G59+J59+M59 -> 35 | P59: 18
B62: Менделев Александр Давыдов Николай | C62: ='1-й тур'!I38 -> 4489 | D62: 20 | E62: Менделев Александр Давыдов Николай | F62: ='2-й тур'!I38 -> 3600 | G62: 16 | H62: Менделев Александр Менделева Анна | I62: ='3-й тур'!I38 -> 0 | K62: Менделев Александр Менделева Анна | L62: ='4-тур'!I38 -> 0 | N62: =C62+F62+I62+L62 -> 8089 | O62: =D62+G62+J62+M62 -> 36 | P62: 20
B65: Иокша Дмитрий Мехович Андрей | C65: ='1-й тур'!C61 -> 5101 | D65: 18 | E65: Иокша Дмитрий Мехович Андрей | F65: ='2-й тур'!C61 -> 3249 | G65: 18 | H65: Иокша Дмитрий Мехович Андрей | I65: ='3-й тур'!C61 -> 0 | K65: Иокша Дмитрий Мехович Андрей | L65: ='4-тур'!C61 -> 0 | N65: =C65+F65+I65+L65 -> 8350 | O65: =D65+G65+J65+M65 -> 36 | P65: 19
B68: Боровский Алексей Веснянко Тарас | C68: ='1-й тур'!C84 -> 2601 | D68: 24 | E68: Боровский Алексей Веснянко Тарас | F68: ='2-й тур'!C84 -> 4321 | G68: 15 | H68: Боровский Алексей Веснянко Тарас | I68: ='3-й тур'!C84 -> 0 | K68: Боровский Алексей Веснянко Тарас | L68: ='4-тур'!C84 -> 0 | N68: =C68+F68+I68+L68 -> 6922 | O68: =D68+G68+J68+M68 -> 39 | P68: 21
B71: Ореховский Максим Ореховская Анастасия | C71: ='1-й тур'!I84 -> 2916 | D71: 23 | E71: Ореховский Максим Ореховская Анастасия | F71: ='2-й тур'!I84 -> 3481 | G71: 17 | H71: Ореховский Максим Ореховская Анастасия | I71: ='3-й тур'!I84 -> 0 | K71: Ореховский Максим Ореховская Анастасия | L71: ='4-тур'!I84 -> 0 | N71: =C71+F71+I71+L71 -> 6397 | O71: =D71+G71+J71+M71 -> 40 | P71: 23
B74: Шабловский Дмитрий Алешко Павел | C74: ='1-й тур'!R38 -> 6637 | D74: 15 | E74: Шабловский Дмитрий Алешко Павел | F74: ='2-й тур'!R38 -> 0 | G74: 25 | H74: Шабловский Дмитрий Алешко Павел | I74: ='3-й тур'!R38 -> 0 | K74: Шабловский Дмитрий Алешко Павел | L74: ='4-тур'!R38 -> 0 | N74: =C74+F74+I74+L74 -> 6637 | O74: =D74+G74+J74+M74 -> 40 | P74: 22
B77: Лобкис Евгений Гарбук Алексей | C77: ='1-й тур'!U84 -> 0 | D77: 27 | E77: Лобкис Евгений Гарбук Алексей | F77: ='2-й тур'!U84 -> 3080.25 | G77: 19 | H77: Лобкис Евгений Гарбук Алексей | I77: ='3-й тур'!U84 -> 0 | K77: Лобкис Евгений Гарбук Алексей | L77: ='4-тур'!U84 -> 0 | N77: =C77+F77+I77+L77 -> 3080.25 | O77: =D77+G77+J77+M77 -> 46 | P77: 25
B80: Молош Александр Андрейковец Вячеслав | C80: ='1-й тур'!F84 -> 2601 | D80: 25 | E80: Молош Александр Андрейковец Вячеслав | F80: ='2-й тур'!F84 -> 2500 | G80: 21 | H80: Молош Александр Андрейковец Вячеслав | I80: ='3-й тур'!F84 -> 0 | K80: Молош Александр Андрейковец Вячеслав | L80: ='4-тур'!F84 -> 0 | N80: =C80+F80+I80+L80 -> 5101 | O80: =D80+G80+J80+M80 -> 46 | P80: 24
B83: Кевра Дмитрий Годун Владислав | C83: ='1-й тур'!L84 -> 2970.25 | D83: 22 | E83: Кевра Дмитрий Годун Владислав | F83: ='2-й тур'!L84 -> 0 | G83: 25 | H83: Кевра Дмитрий Годун Владислав | I83: ='3-й тур'!L84 -> 0 | K83: Кевра Дмитрий Годун Владислав | L83: ='4-тур'!L84 -> 0 | N83: =C83+F83+I83+L83 -> 2970.25 | O83: =D83+G83+J83+M83 -> 47 | P83: 26
B86: Кужовник Сергей Крупеньков Сергей | C86: ='1-й тур'!R61 -> 0 | D86: 27 | E86: Кужовник Сергей Крупеньков Сергей | F86: ='2-й тур'!R61 -> 0 | G86: 25 | H86: Кужовник Сергей Крупеньков Сергей | I86: ='3-й тур'!R61 -> 0 | K86: Кужовник Сергей Крупеньков Сергей | L86: ='4-тур'!R61 -> 0 | N86: =C86+F86+I86+L86 -> 0 | O86: =D86+G86+J86+M86 -> 52 | P86: 27.5
B89: Погорелов Александр Делегевич Дмитрий | C89: ='1-й тур'!F38 -> 0 | D89: 27 | E89: Погорелов Александр Делегевич Дмитрий | F89: ='2-й тур'!F38 -> 0 | G89: 25 | H89: Погорелов Александр Делегевич Дмитрий | I89: ='3-й тур'!F38 -> 0 | K89: Погорелов Александр Делегевич Дмитрий | L89: ='4-тур'!F38 -> 0 | N89: =C89+F89+I89+L89 -> 0 | O89: =D89+G89+J89+M89 -> 52 | P89: 27.5

Sheet 1-й тур
A1: Гапеев Юхнюк | D1: Смолко Смолко | G1: Щемер Крат | J1: Чернякевич Телюков | M1: Гришкевич Чикита | P1: Турков Ворон | S1: Можжерин Скопец
A2: Вид | B2: Длина, см | C2: Баллы | D2: Вид | E2: Длина, см | F2: Баллы | G2: Вид | H2: Длина, см | I2: Баллы | J2: Вид | K2: Длина, см | L2: Баллы | M2: Вид | N2: Длина, см | O2: Баллы | P2: Вид | Q2: Длина, см | R2: Баллы | S2: Вид | T2: Длина, см | U2: Баллы
A3: щука | B3: 51 | C3: =B3*B3 -> 2601 | D3: щука | E3: 51 | F3: =E3*E3 -> 2601 | G3: щука | H3: 57 | I3: =H3*H3 -> 3249 | J3: судак | K3: 75 | L3: =K3*K3 -> 5625 | M3: окунь | N3: 37 | O3: =N3*N3 -> 1369 | P3: щука | Q3: 57.5 | R3: =Q3*Q3 -> 3306.25 | S3: щука | T3: 54 | U3: =T3*T3 -> 2916
A4: щука | B4: 56 | C4: =B4*B4 -> 3136 | D4: щука | E4: 61.5 | F4: =E4*E4 -> 3782.25 | I4: =H4*H4 -> 0 | J4: судак | K4: 66 | L4: =K4*K4 -> 4356 | M4: щука | N4: 60 | O4: =N4*N4 -> 3600 | P4: щука | Q4: 53 | R4: =Q4*Q4 -> 2809 | S4: щука | T4: 52 | U4: =T4*T4 -> 2704
A5: щука | B5: 55 | C5: =B5*B5 -> 3025 | D5: щука | E5: 66 | F5: =E5*E5 -> 4356 | I5: =H5*H5 -> 0 | J5: судак | K5: 60 | L5: =K5*K5 -> 3600 | M5: щука | N5: 52 | O5: =N5*N5 -> 2704 | P5: щука | Q5: 57.5 | R5: =Q5*Q5 -> 3306.25 | U5: =T5*T5 -> 0
A6: щука | B6: 52 | C6: =B6*B6 -> 2704 | F6: =E6*E6 -> 0 | I6: =H6*H6 -> 0 | L6: =K6*K6 -> 0 | M6: щука | N6: 59 | O6: =N6*N6 -> 3481 | P6: щука | Q6: 52 | R6: =Q6*Q6 -> 2704 | U6: =T6*T6 -> 0
A7: щупа | B7: 53 | C7: =B7*B7 -> 2809 | F7: =E7*E7 -> 0 | I7: =H7*H7 -> 0 | L7: =K7*K7 -> 0 | M7: щука | N7: 52 | O7: =N7*N7 -> 2704 | R7: =Q7*Q7 -> 0 | U7: =T7*T7 -> 0
C8: =B8*B8 -> 0 | F8: =E8*E8 -> 0 | I8: =H8*H8 -> 0 | L8: =K8*K8 -> 0 | O8: =N8*N8 -> 0 | R8: =Q8*Q8 -> 0 | U8: =T8*T8 -> 0
C9: =B9*B9 -> 0 | F9: =E9*E9 -> 0 | I9: =H9*H9 -> 0 | L9: =K9*K9 -> 0 | O9: =N9*N9 -> 0 | R9: =Q9*Q9 -> 0 | U9: =T9*T9 -> 0
C10: =B10*B10 -> 0 | F10: =E10*E10 -> 0 | I10: =H10*H10 -> 0 | L10: =K10*K10 -> 0 | O10: =N10*N10 -> 0 | R10: =Q10*Q10 -> 0 | U10: =T10*T10 -> 0
C11: =B11*B11 -> 0 | F11: =E11*E11 -> 0 | I11: =H11*H11 -> 0 | L11: =K11*K11 -> 0 | O11: =N11*N11 -> 0 | R11: =Q11*Q11 -> 0 | U11: =T11*T11 -> 0
C12: =B12*B12 -> 0 | F12: =E12*E12 -> 0 | I12: =H12*H12 -> 0 | L12: =K12*K12 -> 0 | O12: =N12*N12 -> 0 | R12: =Q12*Q12 -> 0 | U12: =T12*T12 -> 0
C13: =B13*B13 -> 0 | F13: =E13*E13 -> 0 | I13: =H13*H13 -> 0 | L13: =K13*K13 -> 0 | O13: =N13*N13 -> 0 | R13: =Q13*Q13 -> 0 | U13: =T13*T13 -> 0
C14: =B14*B14 -> 0 | F14: =E14*E14 -> 0 | I14: =H14*H14 -> 0 | L14: =K14*K14 -> 0 | O14: =N14*N14 -> 0 | R14: =Q14*Q14 -> 0 | U14: =T14*T14 -> 0
C15: =B15*B15 -> 0 | F15: =E15*E15 -> 0 | I15: =H15*H15 -> 0 | L15: =K15*K15 -> 0 | O15: =N15*N15 -> 0 | R15: =Q15*Q15 -> 0 | U15: =T15*T15 -> 0
C16: =B16*B16 -> 0 | F16: =E16*E16 -> 0 | I16: =H16*H16 -> 0 | L16: =K16*K16 -> 0 | O16: =N16*N16 -> 0 | R16: =Q16*Q16 -> 0 | U16: =T16*T16 -> 0
C17: =B17*B17 -> 0 | F17: =E17*E17 -> 0 | I17: =H17*H17 -> 0 | L17: =K17*K17 -> 0 | O17: =N17*N17 -> 0 | R17: =Q17*Q17 -> 0 | U17: =T17*T17 -> 0
C18: =SUM(C3:C17) -> 14275 | F18: =SUM(F3:F17) -> 10739.25 | I18: =SUM(I3:I17) -> 3249 | L18: =SUM(L3:L17) -> 13581 | O18: =SUM(O3:O17) -> 13858 | R18: =SUM(R3:R17) -> 12125.5 | U18: =SUM(U3:U17) -> 5620
A21: Шевчук Рулинский | D21: Погорелов Делегевич | G21: Менделев Давыдов | J21: Палагин Пархоменко | M21: Дудко Ю./Дудко Ю. | P21: Шабловский Алешко | S21: Горбач Пырх
A22: Вид | B22: Длина, см | C22: Баллы | D22: Вид | E22: Длина, см | F22: Баллы | G22: Вид | H22: Длина, см | I22: Баллы | J22: Вид | K22: Длина, см | L22: Баллы | M22: Вид | N22: Длина, см | O22: Баллы | P22: Вид | Q22: Длина, см | R22: Баллы | S22: Вид | T22: Длина, см | U22: Баллы
A23: щука | B23: 60 | C23: =B23*B23 -> 3600 | F23: =E23*E23 -> 0 | G23: щука | H23: 67 | I23: =H23*H23 -> 4489 | J23: судак | K23: 55 | L23: =K23*K23 -> 3025 | M23: щука | N23: 54 | O23: =N23*N23 -> 2916 | P23: щука | Q23: 54 | R23: =Q23*Q23 -> 2916 | S23: щука | T23: 55 | U23: =T23*T23 -> 3025
A24: щука | B24: 56 | C24: =B24*B24 -> 3136 | F24: =E24*E24 -> 0 | I24: =H24*H24 -> 0 | J24: щука | K24: 58 | L24: =K24*K24 -> 3364 | M24: щука | N24: 111 | O24: =N24*N24 -> 12321 | P24: щука | Q24: 61 | R24: =Q24*Q24 -> 3721 | S24: щука | T24: 51 | U24: =T24*T24 -> 2601
A25: щука | B25: 50 | C25: =B25*B25 -> 2500 | F25: =E25*E25 -> 0 | I25: =H25*H25 -> 0 | J25: щука | K25: 60 | L25: =K25*K25 -> 3600 | O25: =N25*N25 -> 0 | R25: =Q25*Q25 -> 0 | S25: судак | T25: 52 | U25: =T25*T25 -> 2704
C26: =B26*B26 -> 0 | F26: =E26*E26 -> 0 | I26: =H26*H26 -> 0 | J26: щука | K26: 63 | L26: =K26*K26 -> 3969 | O26: =N26*N26 -> 0 | R26: =Q26*Q26 -> 0 | U26: =T26*T26 -> 0
C27: =B27*B27 -> 0 | F27: =E27*E27 -> 0 | I27: =H27*H27 -> 0 | L27: =K27*K27 -> 0 | O27: =N27*N27 -> 0 | R27: =Q27*Q27 -> 0 | U27: =T27*T27 -> 0
C28: =B28*B28 -> 0 | F28: =E28*E28 -> 0 | I28: =H28*H28 -> 0 | L28: =K28*K28 -> 0 | O28: =N28*N28 -> 0 | R28: =Q28*Q28 -> 0 | U28: =T28*T28 -> 0
C29: =B29*B29 -> 0 | F29: =E29*E29 -> 0 | I29: =H29*H29 -> 0 | L29: =K29*K29 -> 0 | O29: =N29*N29 -> 0 | R29: =Q29*Q29 -> 0 | U29: =T29*T29 -> 0
C30: =B30*B30 -> 0 | F30: =E30*E30 -> 0 | I30: =H30*H30 -> 0 | L30: =K30*K30 -> 0 | O30: =N30*N30 -> 0 | R30: =Q30*Q30 -> 0 | U30: =T30*T30 -> 0
C31: =B31*B31 -> 0 | F31: =E31*E31 -> 0 | I31: =H31*H31 -> 0 | L31: =K31*K31 -> 0 | O31: =N31*N31 -> 0 | R31: =Q31*Q31 -> 0 | U31: =T31*T31 -> 0
C32: =B32*B32 -> 0 | F32: =E32*E32 -> 0 | I32: =H32*H32 -> 0 | L32: =K32*K32 -> 0 | O32: =N32*N32 -> 0 | R32: =Q32*Q32 -> 0 | U32: =T32*T32 -> 0
C33: =B33*B33 -> 0 | F33: =E33*E33 -> 0 | I33: =H33*H33 -> 0 | L33: =K33*K33 -> 0 | O33: =N33*N33 -> 0 | R33: =Q33*Q33 -> 0 | U33: =T33*T33 -> 0
C34: =B34*B34 -> 0 | F34: =E34*E34 -> 0 | I34: =H34*H34 -> 0 | L34: =K34*K34 -> 0 | O34: =N34*N34 -> 0 | R34: =Q34*Q34 -> 0 | U34: =T34*T34 -> 0
C35: =B35*B35 -> 0 | F35: =E35*E35 -> 0 | I35: =H35*H35 -> 0 | L35: =K35*K35 -> 0 | O35: =N35*N35 -> 0 | R35: =Q35*Q35 -> 0 | U35: =T35*T35 -> 0
C36: =B36*B36 -> 0 | F36: =E36*E36 -> 0 | I36: =H36*H36 -> 0 | L36: =K36*K36 -> 0 | O36: =N36*N36 -> 0 | R36: =Q36*Q36 -> 0 | U36: =T36*T36 -> 0
C37: =B37*B37 -> 0 | F37: =E37*E37 -> 0 | I37: =H37*H37 -> 0 | L37: =K37*K37 -> 0 | O37: =N37*N37 -> 0 | R37: =Q37*Q37 -> 0 | U37: =T37*T37 -> 0
C38: =SUM(C23:C37) -> 9236 | F38: =SUM(F23:F37) -> 0 | I38: =SUM(I23:I37) -> 4489 | L38: =SUM(L23:L37) -> 13958 | O38: =SUM(O23:O37) -> 15237 | R38: =SUM(R23:R37) -> 6637 | U38: =SUM(U23:U37) -> 8330
A41: Иокша Мехович | D41: Якубицкий Борозна | G41: Лютик Чернухо | J41: Юденков Якушко | M41: Довгель Барковский | P41: Кужовник Крупеньков | S41: Чабай Маркевич
A42: Вид | B42: Длина, см | C42: Баллы | D42: Вид | E42: Длина, см | F42: Баллы | G42: Вид | H42: Длина, см | I42: Баллы | J42: Вид | K42: Длина, см | L42: Баллы | M42: Вид | N42: Длина, см | O42: Баллы | P42: Вид | Q42: Длина, см | R42: Баллы | S42: Вид | T42: Длина, см | U42: Баллы
A43: щука | B43: 50 | C43: =B43*B43 -> 2500 | D43: щука | E43: 88 | F43: =E43*E43 -> 7744 | G43: щука | H43: 69 | I43: =H43*H43 -> 4761 | J43: щука | K43: 52.5 | L43: =K43*K43 -> 2756.25 | M43: щука | N43: 67 | O43: =N43*N43 -> 4489 | R43: =Q43*Q43 -> 0 | S43: судак | T43: 73 | U43: =T43*T43 -> 5329
A44: щука | B44: 51 | C44: =B44*B44 -> 2601 | F44: =E44*E44 -> 0 | I44: =H44*H44 -> 0 | J44: щука | K44: 57 | L44: =K44*K44 -> 3249 | M44: щука | N44: 52.5 | O44: =N44*N44 -> 2756.25 | R44: =Q44*Q44 -> 0 | S44: судак | T44: 65 | U44: =T44*T44 -> 4225
...

Sheet 2-й тур
A1: Гапеев Юхнюк | D1: Смолко Смолко | G1: Щемер | J1: Чернякевич Телюков | M1: Гришкевич Чикита | P1: Турков Ворон | S1: Можжерин Скопец
A2: Вид | B2: Длина, см | C2: Баллы | D2: Вид | E2: Длина, см | F2: Баллы | G2: Вид | H2: Длина, см | I2: Баллы | J2: Вид | K2: Длина, см | L2: Баллы | M2: Вид | N2: Длина, см | O2: Баллы | P2: Вид | Q2: Длина, см | R2: Баллы | S2: Вид | T2: Длина, см | U2: Баллы
A3: щука | B3: 55 | C3: =B3*B3 -> 3025 | F3: =E3*E3 -> 0 | G3: щука | H3: 60 | I3: =H3*H3 -> 3600 | L3: =K3*K3 -> 0 | M3: судак | N3: 72 | O3: =N3*N3 -> 5184 | P3: щука | Q3: 57 | R3: =Q3*Q3 -> 3249 | S3: щука | T3: 59 | U3: =T3*T3 -> 3481
A4: щука | B4: 50.5 | C4: =B4*B4 -> 2550.25 | F4: =E4*E4 -> 0 | G4: щука | H4: 54 | I4: =H4*H4 -> 2916 | L4: =K4*K4 -> 0 | M4: щука | N4: 96 | O4: =N4*N4 -> 9216 | P4: щука | Q4: 54 | R4: =Q4*Q4 -> 2916 | S4: щука | T4: 58 | U4: =T4*T4 -> 3364
A5: щука | B5: 50 | C5: =B5*B5 -> 2500 | F5: =E5*E5 -> 0 | I5: =H5*H5 -> 0 | L5: =K5*K5 -> 0 | O5: =N5*N5 -> 0 | P5: щука | Q5: 54 | R5: =Q5*Q5 -> 2916 | S5: щука | T5: 61.5 | U5: =T5*T5 -> 3782.25
A6: щука | B6: 54 | C6: =B6*B6 -> 2916 | F6: =E6*E6 -> 0 | I6: =H6*H6 -> 0 | L6: =K6*K6 -> 0 | O6: =N6*N6 -> 0 | R6: =Q6*Q6 -> 0 | U6: =T6*T6 -> 0
A7: щука | B7: 53 | C7: =B7*B7 -> 2809 | F7: =E7*E7 -> 0 | I7: =H7*H7 -> 0 | L7: =K7*K7 -> 0 | O7: =N7*N7 -> 0 | R7: =Q7*Q7 -> 0 | U7: =T7*T7 -> 0
C8: =B8*B8 -> 0 | F8: =E8*E8 -> 0 | I8: =H8*H8 -> 0 | L8: =K8*K8 -> 0 | O8: =N8*N8 -> 0 | R8: =Q8*Q8 -> 0 | U8: =T8*T8 -> 0
C9: =B9*B9 -> 0 | F9: =E9*E9 -> 0 | I9: =H9*H9 -> 0 | L9: =K9*K9 -> 0 | O9: =N9*N9 -> 0 | R9: =Q9*Q9 -> 0 | U9: =T9*T9 -> 0
C10: =B10*B10 -> 0 | F10: =E10*E10 -> 0 | I10: =H10*H10 -> 0 | L10: =K10*K10 -> 0 | O10: =N10*N10 -> 0 | R10: =Q10*Q10 -> 0 | U10: =T10*T10 -> 0
C11: =B11*B11 -> 0 | F11: =E11*E11 -> 0 | I11: =H11*H11 -> 0 | L11: =K11*K11 -> 0 | O11: =N11*N11 -> 0 | R11: =Q11*Q11 -> 0 | U11: =T11*T11 -> 0
C12: =B12*B12 -> 0 | F12: =E12*E12 -> 0 | I12: =H12*H12 -> 0 | L12: =K12*K12 -> 0 | O12: =N12*N12 -> 0 | R12: =Q12*Q12 -> 0 | U12: =T12*T12 -> 0
C13: =B13*B13 -> 0 | F13: =E13*E13 -> 0 | I13: =H13*H13 -> 0 | L13: =K13*K13 -> 0 | O13: =N13*N13 -> 0 | R13: =Q13*Q13 -> 0 | U13: =T13*T13 -> 0
C14: =B14*B14 -> 0 | F14: =E14*E14 -> 0 | I14: =H14*H14 -> 0 | L14: =K14*K14 -> 0 | O14: =N14*N14 -> 0 | R14: =Q14*Q14 -> 0 | U14: =T14*T14 -> 0
C15: =B15*B15 -> 0 | F15: =E15*E15 -> 0 | I15: =H15*H15 -> 0 | L15: =K15*K15 -> 0 | O15: =N15*N15 -> 0 | R15: =Q15*Q15 -> 0 | U15: =T15*T15 -> 0
C16: =B16*B16 -> 0 | F16: =E16*E16 -> 0 | I16: =H16*H16 -> 0 | L16: =K16*K16 -> 0 | O16: =N16*N16 -> 0 | R16: =Q16*Q16 -> 0 | U16: =T16*T16 -> 0
C17: =B17*B17 -> 0 | F17: =E17*E17 -> 0 | I17: =H17*H17 -> 0 | L17: =K17*K17 -> 0 | O17: =N17*N17 -> 0 | R17: =Q17*Q17 -> 0 | U17: =T17*T17 -> 0
C18: =SUM(C3:C17) -> 13800.25 | F18: =SUM(F3:F17) -> 0 | I18: =SUM(I3:I17) -> 6516 | L18: =SUM(L3:L17) -> 0 | O18: =SUM(O3:O17) -> 14400 | R18: =SUM(R3:R17) -> 9081 | U18: =SUM(U3:U17) -> 10627.25
A21: Шевчук Рулинский | D21: Погорелов Делегевич | G21: Менделев Давыдов | J21: Палагин Пархоменко | M21: Дудко Ю./Дудко Ю. | P21: Шабловский Алешко | S21: Горбач Пырх
A22: Вид | B22: Длина, см | C22: Баллы | D22: Вид | E22: Длина, см | F22: Баллы | G22: Вид | H22: Длина, см | I22: Баллы | J22: Вид | K22: Длина, см | L22: Баллы | M22: Вид | N22: Длина, см | O22: Баллы | P22: Вид | Q22: Длина, см | R22: Баллы | S22: Вид | T22: Длина, см | U22: Баллы
A23: щука | B23: 59.5 | C23: =B23*B23 -> 3540.25 | F23: =E23*E23 -> 0 | G23: щука | H23: 60 | I23: =H23*H23 -> 3600 | J23: щука | K23: 50 | L23: =K23*K23 -> 2500 | O23: =N23*N23 -> 0 | R23: =Q23*Q23 -> 0 | S23: щука | T23: 51 | U23: =T23*T23 -> 2601
A24: щука | B24: 57.5 | C24: =B24*B24 -> 3306.25 | F24: =E24*E24 -> 0 | I24: =H24*H24 -> 0 | J24: щука | K24: 57.5 | L24: =K24*K24 -> 3306.25 | O24: =N24*N24 -> 0 | R24: =Q24*Q24 -> 0 | U24: =T24*T24 -> 0
A25: щука | B25: 52 | C25: =B25*B25 -> 2704 | F25: =E25*E25 -> 0 | I25: =H25*H25 -> 0 | J25: щука | K25: 58 | L25: =K25*K25 -> 3364 | O25: =N25*N25 -> 0 | R25: =Q25*Q25 -> 0 | U25: =T25*T25 -> 0
A26: щука | B26: 59 | C26: =B26*B26 -> 3481 | F26: =E26*E26 -> 0 | I26: =H26*H26 -> 0 | L26: =K26*K26 -> 0 | O26: =N26*N26 -> 0 | R26: =Q26*Q26 -> 0 | U26: =T26*T26 -> 0
C27: =B27*B27 -> 0 | F27: =E27*E27 -> 0 | I27: =H27*H27 -> 0 | L27: =K27*K27 -> 0 | O27: =N27*N27 -> 0 | R27: =Q27*Q27 -> 0 | U27: =T27*T27 -> 0
C28: =B28*B28 -> 0 | F28: =E28*E28 -> 0 | I28: =H28*H28 -> 0 | L28: =K28*K28 -> 0 | O28: =N28*N28 -> 0 | R28: =Q28*Q28 -> 0 | U28: =T28*T28 -> 0
C29: =B29*B29 -> 0 | F29: =E29*E29 -> 0 | I29: =H29*H29 -> 0 | L29: =K29*K29 -> 0 | O29: =N29*N29 -> 0 | R29: =Q29*Q29 -> 0 | U29: =T29*T29 -> 0
C30: =B30*B30 -> 0 | F30: =E30*E30 -> 0 | I30: =H30*H30 -> 0 | L30: =K30*K30 -> 0 | O30: =N30*N30 -> 0 | R30: =Q30*Q30 -> 0 | U30: =T30*T30 -> 0
C31: =B31*B31 -> 0 | F31: =E31*E31 -> 0 | I31: =H31*H31 -> 0 | L31: =K31*K31 -> 0 | O31: =N31*N31 -> 0 | R31: =Q31*Q31 -> 0 | U31: =T31*T31 -> 0
C32: =B32*B32 -> 0 | F32: =E32*E32 -> 0 | I32: =H32*H32 -> 0 | L32: =K32*K32 -> 0 | O32: =N32*N32 -> 0 | R32: =Q32*Q32 -> 0 | U32: =T32*T32 -> 0
C33: =B33*B33 -> 0 | F33: =E33*E33 -> 0 | I33: =H33*H33 -> 0 | L33: =K33*K33 -> 0 | O33: =N33*N33 -> 0 | R33: =Q33*Q33 -> 0 | U33: =T33*T33 -> 0
C34: =B34*B34 -> 0 | F34: =E34*E34 -> 0 | I34: =H34*H34 -> 0 | L34: =K34*K34 -> 0 | O34: =N34*N34 -> 0 | R34: =Q34*Q34 -> 0 | U34: =T34*T34 -> 0
C35: =B35*B35 -> 0 | F35: =E35*E35 -> 0 | I35: =H35*H35 -> 0 | L35: =K35*K35 -> 0 | O35: =N35*N35 -> 0 | R35: =Q35*Q35 -> 0 | U35: =T35*T35 -> 0
C36: =B36*B36 -> 0 | F36: =E36*E36 -> 0 | I36: =H36*H36 -> 0 | L36: =K36*K36 -> 0 | O36: =N36*N36 -> 0 | R36: =Q36*Q36 -> 0 | U36: =T36*T36 -> 0
C37: =B37*B37 -> 0 | F37: =E37*E37 -> 0 | I37: =H37*H37 -> 0 | L37: =K37*K37 -> 0 | O37: =N37*N37 -> 0 | R37: =Q37*Q37 -> 0 | U37: =T37*T37 -> 0
C38: =SUM(C23:C37) -> 13031.5 | F38: =SUM(F23:F37) -> 0 | I38: =SUM(I23:I37) -> 3600 | L38: =SUM(L23:L37) -> 9170.25 | O38: =SUM(O23:O37) -> 0 | R38: =SUM(R23:R37) -> 0 | U38: =SUM(U23:U37) -> 2601
A41: Иокша Мехович | D41: Якубицкий Борозна | G41: Лютик Чернухо | J41: Юденков Якушко | M41: Довгель Барковский | P41: Кужовник Крупеньков | S41: Чабай Маркевич
A42: Вид | B42: Длина, см | C42: Баллы | D42: Вид | E42: Длина, см | F42: Баллы | G42: Вид | H42: Длина, см | I42: Баллы | J42: Вид | K42: Длина, см | L42: Баллы | M42: Вид | N42: Длина, см | O42: Баллы | P42: Вид | Q42: Длина, см | R42: Баллы | S42: Вид | T42: Длина, см | U42: Баллы
A43: щука | B43: 57 | C43: =B43*B43 -> 3249 | D43: судак | E43: 55 | F43: =E43*E43 -> 3025 | G43: щука | H43: 64 | I43: =H43*H43 -> 4096 | J43: щука | K43: 67 | L43: =K43*K43 -> 4489 | M43: щука | N43: 55.5 | O43: =N43*N43 -> 3080.25 | R43: =Q43*Q43 -> 0 | S43: судак | T43: 66 | U43: =T43*T43 -> 4356
C44: =B44*B44 -> 0 | D44: судак | E44: 59 | F44: =E44*E44 -> 3481 | G44: щука | H44: 61 | I44: =H44*H44 -> 3721 | J44: щука | K44: 56 | L44: =K44*K44 -> 3136 | M44: щука | N44: 52 | O44: =N44*N44 -> 2704 | R44: =Q44*Q44 -> 0 | S44: щука | T44: 97 | U44: =T44*T44 -> 9409
...

Sheet 3-й тур
A1: Гапеев Юхнюк | D1: Смолко Смолко | G1: Щемер Крат | J1: Чернякевич Телюков | M1: Гришкевич Чикита | P1: Турков Ворон | S1: Можжерин Скопец
A2: Вид | B2: Длина, см | C2: Баллы | D2: Вид | E2: Длина, см | F2: Баллы | G2: Вид | H2: Длина, см | I2: Баллы | J2: Вид | K2: Длина, см | L2: Баллы | M2: Вид | N2: Длина, см | O2: Баллы | P2: Вид | Q2: Длина, см | R2: Баллы | S2: Вид | T2: Длина, см | U2: Баллы
C3: =B3*B3 -> 0 | F3: =E3*E3 -> 0 | I3: =H3*H3 -> 0 | L3: =K3*K3 -> 0 | O3: =N3*N3 -> 0 | R3: =Q3*Q3 -> 0 | U3: =T3*T3 -> 0
C4: =B4*B4 -> 0 | F4: =E4*E4 -> 0 | I4: =H4*H4 -> 0 | L4: =K4*K4 -> 0 | O4: =N4*N4 -> 0 | R4: =Q4*Q4 -> 0 | U4: =T4*T4 -> 0
C5: =B5*B5 -> 0 | F5: =E5*E5 -> 0 | I5: =H5*H5 -> 0 | L5: =K5*K5 -> 0 | O5: =N5*N5 -> 0 | R5: =Q5*Q5 -> 0 | U5: =T5*T5 -> 0
C6: =B6*B6 -> 0 | F6: =E6*E6 -> 0 | I6: =H6*H6 -> 0 | L6: =K6*K6 -> 0 | O6: =N6*N6 -> 0 | R6: =Q6*Q6 -> 0 | U6: =T6*T6 -> 0
C7: =B7*B7 -> 0 | F7: =E7*E7 -> 0 | I7: =H7*H7 -> 0 | L7: =K7*K7 -> 0 | O7: =N7*N7 -> 0 | R7: =Q7*Q7 -> 0 | U7: =T7*T7 -> 0
C8: =B8*B8 -> 0 | F8: =E8*E8 -> 0 | I8: =H8*H8 -> 0 | L8: =K8*K8 -> 0 | O8: =N8*N8 -> 0 | R8: =Q8*Q8 -> 0 | U8: =T8*T8 -> 0
C9: =B9*B9 -> 0 | F9: =E9*E9 -> 0 | I9: =H9*H9 -> 0 | L9: =K9*K9 -> 0 | O9: =N9*N9 -> 0 | R9: =Q9*Q9 -> 0 | U9: =T9*T9 -> 0
C10: =B10*B10 -> 0 | F10: =E10*E10 -> 0 | I10: =H10*H10 -> 0 | L10: =K10*K10 -> 0 | O10: =N10*N10 -> 0 | R10: =Q10*Q10 -> 0 | U10: =T10*T10 -> 0
C11: =B11*B11 -> 0 | F11: =E11*E11 -> 0 | I11: =H11*H11 -> 0 | L11: =K11*K11 -> 0 | O11: =N11*N11 -> 0 | R11: =Q11*Q11 -> 0 | U11: =T11*T11 -> 0
C12: =B12*B12 -> 0 | F12: =E12*E12 -> 0 | I12: =H12*H12 -> 0 | L12: =K12*K12 -> 0 | O12: =N12*N12 -> 0 | R12: =Q12*Q12 -> 0 | U12: =T12*T12 -> 0
C13: =B13*B13 -> 0 | F13: =E13*E13 -> 0 | I13: =H13*H13 -> 0 | L13: =K13*K13 -> 0 | O13: =N13*N13 -> 0 | R13: =Q13*Q13 -> 0 | U13: =T13*T13 -> 0
C14: =B14*B14 -> 0 | F14: =E14*E14 -> 0 | I14: =H14*H14 -> 0 | L14: =K14*K14 -> 0 | O14: =N14*N14 -> 0 | R14: =Q14*Q14 -> 0 | U14: =T14*T14 -> 0
... C17: =B17*B17 -> 0 | F17: =E17*E17 -> 0 | I17: =H17*H17 -> 0 | L17: =K17*K17 -> 0 | O17: =N17*N17 -> 0 | R17: =Q17*Q17 -> 0 | U17: =T17*T17 -> 0
C18: =SUM(C3:C17) -> 0 | F18: =SUM(F3:F17) -> 0 | I18: =SUM(I3:I17) -> 0 | L18: =SUM(L3:L17) -> 0 | O18: =SUM(O3:O17) -> 0 | R18: =SUM(R3:R17) -> 0 | U18: =SUM(U3:U17) -> 0
A21: Шевчук Рулинскийй | D21: Погорелов Делегевич | G21: Менделев Давыдов | J21: Палагин Пархоменко | M21: Дудко Ю./Дудко Ю. | P21: Шабловский Алешко | S21: Горбач Пырх
A22: Вид | B22: Длина, см | C22: Баллы | D22: Вид | E22: Длина, см | F22: Баллы | G22: Вид | H22: Длина, см | I22: Баллы | J22: Вид | K22: Длина, см | L22: Баллы | M22: Вид | N22: Длина, см | O22: Баллы | P22: Вид | Q22: Длина, см | R22: Баллы | S22: Вид | T22: Длина, см | U22: Баллы
C23: =B23*B23 -> 0 | F23: =E23*E23 -> 0 | I23: =H23*H23 -> 0 | L23: =K23*K23 -> 0 | O23: =N23*N23 -> 0 | R23: =Q23*Q23 -> 0 | U23: =T23*T23 -> 0
C24: =B24*B24 -> 0 | F24: =E24*E24 -> 0 | I24: =H24*H24 -> 0 | L24: =K24*K24 -> 0 | O24: =N24*N24 -> 0 | R24: =Q24*Q24 -> 0 | U24: =T24*T24 -> 0
C25: =B25*B25 -> 0 | F25: =E25*E25 -> 0 | I25: =H25*H25 -> 0 | L25: =K25*K25 -> 0 | O25: =N25*N25 -> 0 | R25: =Q25*Q25 -> 0 | U25: =T25*T25 -> 0
C26: =B26*B26 -> 0 | F26: =E26*E26 -> 0 | I26: =H26*H26 -> 0 | L26: =K26*K26 -> 0 | O26: =N26*N26 -> 0 | R26: =Q26*Q26 -> 0 | U26: =T26*T26 -> 0
C27: =B27*B27 -> 0 | F27: =E27*E27 -> 0 | I27: =H27*H27 -> 0 | L27: =K27*K27 -> 0 | O27: =N27*N27 -> 0 | R27: =Q27*Q27 -> 0 | U27: =T27*T27 -> 0
C28: =B28*B28 -> 0 | F28: =E28*E28 -> 0 | I28: =H28*H28 -> 0 | L28: =K28*K28 -> 0 | O28: =N28*N28 -> 0 | R28: =Q28*Q28 -> 0 | U28: =T28*T28 -> 0
C29: =B29*B29 -> 0 | F29: =E29*E29 -> 0 | I29: =H29*H29 -> 0 | L29: =K29*K29 -> 0 | O29: =N29*N29 -> 0 | R29: =Q29*Q29 -> 0 | U29: =T29*T29 -> 0
C30: =B30*B30 -> 0 | F30: =E30*E30 -> 0 | I30: =H30*H30 -> 0 | L30: =K30*K30 -> 0 | O30: =N30*N30 -> 0 | R30: =Q30*Q30 -> 0 | U30: =T30*T30 -> 0
C31: =B31*B31 -> 0 | F31: =E31*E31 -> 0 | I31: =H31*H31 -> 0 | L31: =K31*K31 -> 0 | O31: =N31*N31 -> 0 | R31: =Q31*Q31 -> 0 | U31: =T31*T31 -> 0
C32: =B32*B32 -> 0 | F32: =E32*E32 -> 0 | I32: =H32*H32 -> 0 | L32: =K32*K32 -> 0 | O32: =N32*N32 -> 0 | R32: =Q32*Q32 -> 0 | U32: =T32*T32 -> 0
C33: =B33*B33 -> 0 | F33: =E33*E33 -> 0 | I33: =H33*H33 -> 0 | L33: =K33*K33 -> 0 | O33: =N33*N33 -> 0 | R33: =Q33*Q33 -> 0 | U33: =T33*T33 -> 0
C34: =B34*B34 -> 0 | F34: =E34*E34 -> 0 | I34: =H34*H34 -> 0 | L34: =K34*K34 -> 0 | O34: =N34*N34 -> 0 | R34: =Q34*Q34 -> 0 | U34: =T34*T34 -> 0
... C37: =B37*B37 -> 0 | F37: =E37*E37 -> 0 | I37: =H37*H37 -> 0 | L37: =K37*K37 -> 0 | O37: =N37*N37 -> 0 | R37: =Q37*Q37 -> 0 | U37: =T37*T37 -> 0
C38: =SUM(C23:C37) -> 0 | F38: =SUM(F23:F37) -> 0 | I38: =SUM(I23:I37) -> 0 | L38: =SUM(L23:L37) -> 0 | O38: =SUM(O23:O37) -> 0 | R38: =SUM(R23:R37) -> 0 | U38: =SUM(U23:U37) -> 0
A41: Иокша Мехович | D41: Якубицкий Борозна | G41: Лютик Чернухо | J41: Юденков Якушко | M41: Довгель Барковский | P41: Кужовник Крупеньков | S41: Чабай Маркевич
A42: Вид | B42: Длина, см | C42: Баллы | D42: Вид | E42: Длина, см | F42: Баллы | G42: Вид | H42: Длина, см | I42: Баллы | J42: Вид | K42: Длина, см | L42: Баллы | M42: Вид | N42: Длина, см | O42: Баллы | P42: Вид | Q42: Длина, см | R42: Баллы | S42: Вид | T42: Длина, см | U42: Баллы
C43: =B43*B43 -> 0 | F43: =E43*E43 -> 0 | I43: =H43*H43 -> 0 | L43: =K43*K43 -> 0 | O43: =N43*N43 -> 0 | R43: =Q43*Q43 -> 0 | U43: =T43*T43 -> 0
C44: =B44*B44 -> 0 | F44: =E44*E44 -> 0 | I44: =H44*H44 -> 0 | L44: =K44*K44 -> 0 | O44: =N44*N44 -> 0 | R44: =Q44*Q44 -> 0 | U44: =T44*T44 -> 0
C45: =B45*B45 -> 0 | F45: =E45*E45 -> 0 | I45: =H45*H45 -> 0 | L45: =K45*K45 -> 0 | O45: =N45*N45 -> 0 | R45: =Q45*Q45 -> 0 | U45: =T45*T45 -> 0
C46: =B46*B46 -> 0 | F46: =E46*E46 -> 0 | I46: =H46*H46 -> 0 | L46: =K46*K46 -> 0 | O46: =N46*N46 -> 0 | R46: =Q46*Q46 -> 0 | U46: =T46*T46 -> 0
C47: =B47*B47 -> 0 | F47: =E47*E47 -> 0 | I47: =H47*H47 -> 0 | L47: =K47*K47 -> 0 | O47: =N47*N47 -> 0 | R47: =Q47*Q47 -> 0 | U47: =T47*T47 -> 0
C48: =B48*B48 -> 0 | F48: =E48*E48 -> 0 | I48: =H48*H48 -> 0 | L48: =K48*K48 -> 0 | O48: =N48*N48 -> 0 | R48: =Q48*Q48 -> 0 | U48: =T48*T48 -> 0
...

Sheet 4-тур
A1: Гапеев Юхнюк | D1: Смолко Смолко | G1: Щемер Крат | J1: Чернякевич Телюков | M1: Гришкевич Чикита | P1: Турков Ворон | S1: Можжерин Скопец
A2: Вид | B2: Длина, см | C2: Баллы | D2: Вид | E2: Длина, см | F2: Баллы | G2: Вид | H2: Длина, см | I2: Баллы | J2: Вид | K2: Длина, см | L2: Баллы | M2: Вид | N2: Длина, см | O2: Баллы | P2: Вид | Q2: Длина, см | R2: Баллы | S2: Вид | T2: Длина, см | U2: Баллы
C3: =B3*B3 -> 0 | F3: =E3*E3 -> 0 | I3: =H3*H3 -> 0 | L3: =K3*K3 -> 0 | O3: =N3*N3 -> 0 | R3: =Q3*Q3 -> 0 | U3: =T3*T3 -> 0
C4: =B4*B4 -> 0 | F4: =E4*E4 -> 0 | I4: =H4*H4 -> 0 | L4: =K4*K4 -> 0 | O4: =N4*N4 -> 0 | R4: =Q4*Q4 -> 0 | U4: =T4*T4 -> 0
C5: =B5*B5 -> 0 | F5: =E5*E5 -> 0 | I5: =H5*H5 -> 0 | L5: =K5*K5 -> 0 | O5: =N5*N5 -> 0 | R5: =Q5*Q5 -> 0 | U5: =T5*T5 -> 0
C6: =B6*B6 -> 0 | F6: =E6*E6 -> 0 | I6: =H6*H6 -> 0 | L6: =K6*K6 -> 0 | O6: =N6*N6 -> 0 | R6: =Q6*Q6 -> 0 | U6: =T6*T6 -> 0
C7: =B7*B7 -> 0 | F7: =E7*E7 -> 0 | I7: =H7*H7 -> 0 | L7: =K7*K7 -> 0 | O7: =N7*N7 -> 0 | R7: =Q7*Q7 -> 0 | U7: =T7*T7 -> 0
C8: =B8*B8 -> 0 | F8: =E8*E8 -> 0 | I8: =H8*H8 -> 0 | L8: =K8*K8 -> 0 | O8: =N8*N8 -> 0 | R8: =Q8*Q8 -> 0 | U8: =T8*T8 -> 0
C9: =B9*B9 -> 0 | F9: =E9*E9 -> 0 | I9: =H9*H9 -> 0 | L9: =K9*K9 -> 0 | O9: =N9*N9 -> 0 | R9: =Q9*Q9 -> 0 | U9: =T9*T9 -> 0
C10: =B10*B10 -> 0 | F10: =E10*E10 -> 0 | I10: =H10*H10 -> 0 | L10: =K10*K10 -> 0 | O10: =N10*N10 -> 0 | R10: =Q10*Q10 -> 0 | U10: =T10*T10 -> 0
C11: =B11*B11 -> 0 | F11: =E11*E11 -> 0 | I11: =H11*H11 -> 0 | L11: =K11*K11 -> 0 | O11: =N11*N11 -> 0 | R11: =Q11*Q11 -> 0 | U11: =T11*T11 -> 0
C12: =B12*B12 -> 0 | F12: =E12*E12 -> 0 | I12: =H12*H12 -> 0 | L12: =K12*K12 -> 0 | O12: =N12*N12 -> 0 | R12: =Q12*Q12 -> 0 | U12: =T12*T12 -> 0
C13: =B13*B13 -> 0 | F13: =E13*E13 -> 0 | I13: =H13*H13 -> 0 | L13: =K13*K13 -> 0 | O13: =N13*N13 -> 0 | R13: =Q13*Q13 -> 0 | U13: =T13*T13 -> 0
C14: =B14*B14 -> 0 | F14: =E14*E14 -> 0 | I14: =H14*H14 -> 0 | L14: =K14*K14 -> 0 | O14: =N14*N14 -> 0 | R14: =Q14*Q14 -> 0 | U14: =T14*T14 -> 0
... C17: =B17*B17 -> 0 | F17: =E17*E17 -> 0 | I17: =H17*H17 -> 0 | L17: =K17*K17 -> 0 | O17: =N17*N17 -> 0 | R17: =Q17*Q17 -> 0 | U17: =T17*T17 -> 0
C18: =SUM(C3:C17) -> 0 | F18: =SUM(F3:F17) -> 0 | I18: =SUM(I3:I17) -> 0 | L18: =SUM(L3:L17) -> 0 | O18: =SUM(O3:O17) -> 0 | R18: =SUM(R3:R17) -> 0 | U18: =SUM(U3:U17) -> 0
A21: Шевчук Римашевский | D21: Погорелов Делегевич | G21: Менделев Давыдов | J21: Палагин Пархоменко | M21: Дудко Ю./Дудко Ю. | P21: Шабловский Алешко | S21: Горбач Пырх
A22: Вид | B22: Длина, см | C22: Баллы | D22: Вид | E22: Длина, см | F22: Баллы | G22: Вид | H22: Длина, см | I22: Баллы | J22: Вид | K22: Длина, см | L22: Баллы | M22: Вид | N22: Длина, см | O22: Баллы | P22: Вид | Q22: Длина, см | R22: Баллы | S22: Вид | T22: Длина, см | U22: Баллы
C23: =B23*B23 -> 0 | F23: =E23*E23 -> 0 | I23: =H23*H23 -> 0 | L23: =K23*K23 -> 0 | O23: =N23*N23 -> 0 | R23: =Q23*Q23 -> 0 | U23: =T23*T23 -> 0
C24: =B24*B24 -> 0 | F24: =E24*E24 -> 0 | I24: =H24*H24 -> 0 | L24: =K24*K24 -> 0 | O24: =N24*N24 -> 0 | R24: =Q24*Q24 -> 0 | U24: =T24*T24 -> 0
C25: =B25*B25 -> 0 | F25: =E25*E25 -> 0 | I25: =H25*H25 -> 0 | L25: =K25*K25 -> 0 | O25: =N25*N25 -> 0 | R25: =Q25*Q25 -> 0 | U25: =T25*T25 -> 0
C26: =B26*B26 -> 0 | F26: =E26*E26 -> 0 | I26: =H26*H26 -> 0 | L26: =K26*K26 -> 0 | O26: =N26*N26 -> 0 | R26: =Q26*Q26 -> 0 | U26: =T26*T26 -> 0
C27: =B27*B27 -> 0 | F27: =E27*E27 -> 0 | I27: =H27*H27 -> 0 | L27: =K27*K27 -> 0 | O27: =N27*N27 -> 0 | R27: =Q27*Q27 -> 0 | U27: =T27*T27 -> 0
C28: =B28*B28 -> 0 | F28: =E28*E28 -> 0 | I28: =H28*H28 -> 0 | L28: =K28*K28 -> 0 | O28: =N28*N28 -> 0 | R28: =Q28*Q28 -> 0 | U28: =T28*T28 -> 0
C29: =B29*B29 -> 0 | F29: =E29*E29 -> 0 | I29: =H29*H29 -> 0 | L29: =K29*K29 -> 0 | O29: =N29*N29 -> 0 | R29: =Q29*Q29 -> 0 | U29: =T29*T29 -> 0
C30: =B30*B30 -> 0 | F30: =E30*E30 -> 0 | I30: =H30*H30 -> 0 | L30: =K30*K30 -> 0 | O30: =N30*N30 -> 0 | R30: =Q30*Q30 -> 0 | U30: =T30*T30 -> 0
C31: =B31*B31 -> 0 | F31: =E31*E31 -> 0 | I31: =H31*H31 -> 0 | L31: =K31*K31 -> 0 | O31: =N31*N31 -> 0 | R31: =Q31*Q31 -> 0 | U31: =T31*T31 -> 0
C32: =B32*B32 -> 0 | F32: =E32*E32 -> 0 | I32: =H32*H32 -> 0 | L32: =K32*K32 -> 0 | O32: =N32*N32 -> 0 | R32: =Q32*Q32 -> 0 | U32: =T32*T32 -> 0
C33: =B33*B33 -> 0 | F33: =E33*E33 -> 0 | I33: =H33*H33 -> 0 | L33: =K33*K33 -> 0 | O33: =N33*N33 -> 0 | R33: =Q33*Q33 -> 0 | U33: =T33*T33 -> 0
C34: =B34*B34 -> 0 | F34: =E34*E34 -> 0 | I34: =H34*H34 -> 0 | L34: =K34*K34 -> 0 | O34: =N34*N34 -> 0 | R34: =Q34*Q34 -> 0 | U34: =T34*T34 -> 0
... C37: =B37*B37 -> 0 | F37: =E37*E37 -> 0 | I37: =H37*H37 -> 0 | L37: =K37*K37 -> 0 | O37: =N37*N37 -> 0 | R37: =Q37*Q37 -> 0 | U37: =T37*T37 -> 0
C38: =SUM(C23:C37) -> 0 | F38: =SUM(F23:F37) -> 0 | I38: =SUM(I23:I37) -> 0 | L38: =SUM(L23:L37) -> 0 | O38: =SUM(O23:O37) -> 0 | R38: =SUM(R23:R37) -> 0 | U38: =SUM(U23:U37) -> 0
A41: Иокша Мехович | D41: Якубицкий Борозна | G41: Лютик Чернухо | J41: Юденков Якушко | M41: Довгель Барковский | P41: Кужовник Крупеньков | S41: Чабай Маркевич
A42: Вид | B42: Длина, см | C42: Баллы | D42: Вид | E42: Длина, см | F42: Баллы | G42: Вид | H42: Длина, см | I42: Баллы | J42: Вид | K42: Длина, см | L42: Баллы | M42: Вид | N42: Длина, см | O42: Баллы | P42: Вид | Q42: Длина, см | R42: Баллы | S42: Вид | T42: Длина, см | U42: Баллы
C43: =B43*B43 -> 0 | F43: =E43*E43 -> 0 | I43: =H43*H43 -> 0 | L43: =K43*K43 -> 0 | O43: =N43*N43 -> 0 | R43: =Q43*Q43 -> 0 | U43: =T43*T43 -> 0
C44: =B44*B44 -> 0 | F44: =E44*E44 -> 0 | I44: =H44*H44 -> 0 | L44: =K44*K44 -> 0 | O44: =N44*N44 -> 0 | R44: =Q44*Q44 -> 0 | U44: =T44*T44 -> 0
C45: =B45*B45 -> 0 | F45: =E45*E45 -> 0 | I45: =H45*H45 -> 0 | L45: =K45*K45 -> 0 | O45: =N45*N45 -> 0 | R45: =Q45*Q45 -> 0 | U45: =T45*T45 -> 0
C46: =B46*B46 -> 0 | F46: =E46*E46 -> 0 | I46: =H46*H46 -> 0 | L46: =K46*K46 -> 0 | O46: =N46*N46 -> 0 | R46: =Q46*Q46 -> 0 | U46: =T46*T46 -> 0
C47: =B47*B47 -> 0 | F47: =E47*E47 -> 0 | I47: =H47*H47 -> 0 | L47: =K47*K47 -> 0 | O47: =N47*N47 -> 0 | R47: =Q47*Q47 -> 0 | U47: =T47*T47 -> 0
C48: =B48*B48 -> 0 | F48: =E48*E48 -> 0 | I48: =H48*H48 -> 0 | L48: =K48*K48 -> 0 | O48: =N48*N48 -> 0 | R48: =Q48*Q48 -> 0 | U48: =T48*T48 -> 0
...

Sheet Командный зачет
A1: ПРОТОКОЛ РЕЗУЛЬТАТОВ
A2: Республиканские соревнования
A3: по спортивному лову рыбы спиннингом с лодок на Кубок РГОО БООР
A4: 04-05 октября 2025 вдх. Лепельское
B5: Ф.И.О. рыболова-спортсмена | C5: Сумма баллов | D5: Место | E5: Ф.И.О. рыболова-спортсмена | F5: Сумма баллов | G5: Место | H5: Ф.И.О. рыболова-спортсмена | I5: Сумма баллов | J5: Место | K5: Ф.И.О. рыболова-спортсмена | L5: Сумма баллов | M5: Место
A6: N п/п | B6: 1 тур | C6: 1 тур | D6: 1 тур | E6: 2 тур | F6: 2 тур | G6: 2 тур | H6: 3 тур | I6: 3 тур | J6: 3 тур | K6: 4 тур | L6: 4тур | M6: 4 тур | N6: Сумма баллов за 2тура | O6: Сумма мест За 2 тура | P6: Итоговое командное место
B7: Юденков Алексей Якушко Андрей Палагин Дмитрий Пархоменко Сергей | C7: 44359 | D7: 1 | E7: Юденков Алексей Якушко Андрей Палагин Дмитрий Пархоменко Сергей | F7: 29812 | G7: 2 | H7: Юденков Алексей Якушко Андрей Палагин Дмитрий Пархоменко Сергей | K7: Юденков Алексей Якушко Андрей Палагин Дмитрий Пархоменко Сергей | N7: =C7+F7+I7+L7 -> 74171 | O7: =D7+G7+J7+M7 -> 3 | P7: 1
B8: Ореховский Максим Ореховская Анастасия Бычок Александр Холодинский Сергей | C8: 20595 | D8: 4 | E8: Ореховский Максим Ореховская Анастасия Бычок Александр Холодинский Сергей | F8: 38796 | G8: 1 | H8: Ореховский Максим Ореховская Анастасия Бычок Александр Холодинский Сергей | K8: Ореховский Максим Ореховская Анастасия Бычок Александр Холодинский Сергей | N8: =C8+F8+I8+L8 -> 59391 | O8: =D8+G8+J8+M8 -> 5 | P8: 3
B9: Дудко Юрий Дудко Юлия Чабай Михаил Маркевич Андрей | C9: 37323 | D9: 2 | E9: Дудко Юрий Дудко Юлия Чабай Михаил Маркевич Андрей | F9: 25988 | G9: 3 | H9: Дудко Юрий Дудко Юлия Чабай Михаил Маркевич Андрей | K9: Дудко Юрий Дудко Юлия Чабай Михаил Маркевич Андрей | N9: =C9+F9+I9+L9 -> 63311 | O9: =D9+G9+J9+M9 -> 5 | P9: 2
B10: Лютик Игорь Чернухо Михаил Гапеев Игорь Юхнюк Сергей | C10: 19036 | D10: 5 | E10: Лютик Игорь Чернухо Михаил Гапеев Игорь Юхнюк Сергей | F10: 21617 | G10: 5 | H10: Лютик Игорь Чернухо Михаил Гапеев Игорь Юхнюк Сергей | K10: Лютик Игорь Чернухо Михаил Гапеев Игорь Юхнюк Сергей | N10: =C10+F10+I10+L10 -> 40653 | O10: =D10+G10+J10+M10 -> 10 | P10: 4
B11: Можжерин Антон Скопец Михаил Шевчук Дмитрий Рулинский Александр | C11: 14856 | D11: 8 | E11: Можжерин Антон Скопец Михаил Шевчук Дмитрий Рулинский Александр | F11: 23659 | G11: 4 | H11: Можжерин Антон Скопец Михаил Шевчук Дмитрий Рулинский Александр | K11: Можжерин Антон Скопец Михаил Шевчук Дмитрий Рулинский Александр | N11: =C11+F11+I11+L11 -> 38515 | O11: =D11+G11+J11+M11 -> 12 | P11: 5
B12: Гришкевич Александр Чикита Илья Менделев Александр Давыдов Николай | C12: 18347 | D12: 6 | E12: Гришкевич Александр Чикита Илья Менделев Александр Давыдов Николай | F12: 18000 | G12: 6 | H12: Гришкевич Александр Чикита Илья Менделев Александр Давыдов Николай | K12: Гришкевич Александр Чикита Илья Менделев Александр Давыдов Николай | N12: =C12+F12+I12+L12 -> 36347 | O12: =D12+G12+J12+M12 -> 12 | P12: 6
B13: Чернякевич Виталий Телюков Вячеслав Довгель Сергей Барковский Сергей | C13: 20826 | D13: 3 | E13: Чернякевич Виталий Телюков Вячеслав Довгель Сергей Барковский Сергей | F13: 10140 | G13: 10 | H13: Чернякевич Виталий Телюков Вячеслав Довгель Сергей Барковский Сергей | K13: Чернякевич Виталий Телюков Вячеслав Довгель Сергей Барковский Сергей | N13: =C13+F13+I13+L13 -> 30966 | O13: =D13+G13+J13+M13 -> 13 | P13: 7
B14: Ворон Павел Турков Станислав Иокша Дмитрий Мехович Андрей | C14: 17227 | D14: 7 | E14: Ворон Павел Турков Станислав Иокша Дмитрий Мехович Андрей | F14: 12330 | G14: 8 | H14: Ворон Павел Турков Станислав Иокша Дмитрий Мехович Андрей | K14: Ворон Павел Турков Станислав Иокша Дмитрий Мехович Андрей | N14: =C14+F14+I14+L14 -> 29557 | O14: =D14+G14+J14+M14 -> 15 | P14: 8
B15: Носик Сергей Хомиченок Сергей Лобкис Евгений Гарбук Алексей | C15: 6272 | D15: 13 | E15: Носик Сергей Хомиченок Сергей Лобкис Евгений Гарбук Алексей | F15: 13444 | G15: 7 | H15: Носик Сергей Хомиченок Сергей Лобкис Евгений Гарбук Алексей | K15: Носик Сергей Хомиченок Сергей Лобкис Евгений Гарбук Алексей | N15: =C15+F15+I15+L15 -> 19716 | O15: =D15+G15+J15+M15 -> 20 | P15: 9
B16: Кужовник Сергей Крупеньков Сергей Якубицкий Евгений Борозна Денис | C16: 7744 | D16: 11 | E16: Кужовник Сергей Крупеньков Сергей Якубицкий Евгений Борозна Денис | F16: 6506 | G16: 11 | H16: Кужовник Сергей Крупеньков Сергей Якубицкий Евгений Борозна Денис | K16: Кужовник Сергей Крупеньков Сергей Якубицкий Евгений Борозна Денис | N16: =C16+F16+I16+L16 -> 14250 | O16: =D16+G16+J16+M16 -> 22 | P16: 11
B17: Горбач Дмитрий Пырх Виталий Кевра Дмитрий Годун Владислав | C17: 11300 | D17: 10 | E17: Горбач Дмитрий Пырх Виталий Кевра Дмитрий Годун Владислав | F17: 2601 | G17: 12 | H17: Горбач Дмитрий Пырх Виталий Кевра Дмитрий Годун Владислав | K17: Горбач Дмитрий Пырх Виталий Кевра Дмитрий Годун Владислав | N17: =C17+F17+I17+L17 -> 13901 | O17: =D17+G17+J17+M17 -> 22 | P17: 12
B18: Смолко Виктор Смолко Андрей Молош Александр Андрейковец Вячеслав | C18: 13340 | D18: 9 | E18: Смолко Виктор Смолко Андрей Молош Александр Андрейковец Вячеслав | F18: 2500 | G18: 13 | H18: Смолко Виктор Смолко Андрей Молош Александр Андрейковец Вячеслав | K18: Смолко Виктор Смолко Андрей Молош Александр Андрейковец Вячеслав | N18: =C18+F18+I18+L18 -> 15840 | O18: =D18+G18+J18+M18 -> 22 | P18: 10
... B20: Шабловский Дмитрий Алешко Павел Погорелов Александр Делегевич Дмитрий | C20: 6637 | D20: 12 | E20: Шабловский Дмитрий Алешко Павел Погорелов Александр Делегевич Дмитрий | F20: 0 | G20: 14 | H20: Шабловский Дмитрий Алешко Павел Погорелов Александр Делегевич Дмитрий | K20: Шабловский Дмитрий Алешко Павел Погорелов Александр Делегевич Дмитрий | N20: =C20+F20+I20+L20 -> 6637 | O20: =D20+G20+J20+M20 -> 26 | P20: 14
B21: Ф.И.О. рыболова-спортсмена | C21: Сумма баллов | D21: Место | E21: Ф.И.О. рыболова-спортсмена | F21: Сумма баллов | G21: Место | H21: Ф.И.О. рыболова-спортсмена | I21: Сумма баллов | J21: Место | K21: Ф.И.О. рыболова-спортсмена | L21: Сумма баллов | M21: Место
